BEGIN:VCALENDAR
VERSION:2.0
PRODID:-//FoodCycle - ECPv6.15.20//NONSGML v1.0//EN
CALSCALE:GREGORIAN
METHOD:PUBLISH
X-WR-CALNAME:FoodCycle
X-ORIGINAL-URL:https://www.foodcyclela.org
X-WR-CALDESC:Events for FoodCycle
REFRESH-INTERVAL;VALUE=DURATION:PT1H
X-Robots-Tag:noindex
X-PUBLISHED-TTL:PT1H
BEGIN:VTIMEZONE
TZID:America/Los_Angeles
BEGIN:DAYLIGHT
TZOFFSETFROM:-0800
TZOFFSETTO:-0700
TZNAME:PDT
DTSTART:20250309T100000
END:DAYLIGHT
BEGIN:STANDARD
TZOFFSETFROM:-0700
TZOFFSETTO:-0800
TZNAME:PST
DTSTART:20251102T090000
END:STANDARD
BEGIN:DAYLIGHT
TZOFFSETFROM:-0800
TZOFFSETTO:-0700
TZNAME:PDT
DTSTART:20260308T100000
END:DAYLIGHT
BEGIN:STANDARD
TZOFFSETFROM:-0700
TZOFFSETTO:-0800
TZNAME:PST
DTSTART:20261101T090000
END:STANDARD
BEGIN:DAYLIGHT
TZOFFSETFROM:-0800
TZOFFSETTO:-0700
TZNAME:PDT
DTSTART:20270314T100000
END:DAYLIGHT
BEGIN:STANDARD
TZOFFSETFROM:-0700
TZOFFSETTO:-0800
TZNAME:PST
DTSTART:20271107T090000
END:STANDARD
END:VTIMEZONE
BEGIN:VEVENT
DTSTART;VALUE=DATE:20260401
DTEND;VALUE=DATE:20260501
DTSTAMP:20260424T084627
CREATED:20260211T235205Z
LAST-MODIFIED:20260211T235205Z
UID:10000611-1775001600-1777593599@www.foodcyclela.org
SUMMARY:National Volunteer Month
DESCRIPTION:National Volunteer Month recognizes the individuals who give their time and energy to strengthen communities. At FoodCycle\, volunteers are essential to our mission\, sorting rescued produce\, preparing distributions\, supporting partnerships\, and advancing climate-focused initiatives. Every volunteer shift transforms surplus food into nourishment and reduces environmental waste. This month\, we celebrate the people who show up consistently to serve with dignity\, compassion\, and action.
URL:https://www.foodcyclela.org/event/national-volunteer-month/2026-04-01/
END:VEVENT
BEGIN:VEVENT
DTSTART;VALUE=DATE:20260401
DTEND;VALUE=DATE:20260501
DTSTAMP:20260424T084627
CREATED:20260211T235554Z
LAST-MODIFIED:20260211T235554Z
UID:10000621-1775001600-1777593599@www.foodcyclela.org
SUMMARY:Earth Month 🌍
DESCRIPTION:Earth Month highlights the importance of protecting our planet and advancing sustainable solutions. At FoodCycle\, climate action is embedded in our mission. By rescuing surplus food and redistributing it to families experiencing food insecurity\, we reduce methane emissions from food waste while nourishing our community.
URL:https://www.foodcyclela.org/event/earth-month-%f0%9f%8c%8d/2026-04-01/
END:VEVENT
BEGIN:VEVENT
DTSTART;VALUE=DATE:20260419
DTEND;VALUE=DATE:20260426
DTSTAMP:20260424T084627
CREATED:20260211T231255Z
LAST-MODIFIED:20260211T234829Z
UID:10000600-1776556800-1777161599@www.foodcyclela.org
SUMMARY:National Volunteer Week
DESCRIPTION:National Volunteer Week celebrates the individuals who give their time\, energy\, and compassion to strengthen communities. At FoodCycle\, volunteers are the heartbeat of our mission. From sorting rescued produce to distributing meals and supporting climate action initiatives\, volunteers transform surplus food into nourishment. This week\, we honor every person who shows up\, serves with dignity\, and helps ensure no food and no neighbor is left behind.
URL:https://www.foodcyclela.org/event/national-volunteer-week/2026-04-19/
END:VEVENT
BEGIN:VEVENT
DTSTART;VALUE=DATE:20260424
DTEND;VALUE=DATE:20260425
DTSTAMP:20260424T084627
CREATED:20260211T235411Z
LAST-MODIFIED:20260211T235411Z
UID:10000616-1776988800-1777075199@www.foodcyclela.org
SUMMARY:Arbor Day (Apr 24) 🌳
DESCRIPTION:Arbor Day celebrates the importance of planting and protecting trees to strengthen communities and support environmental health. Trees improve air quality\, reduce heat\, conserve water\, and create greener\, healthier neighborhoods. At FoodCycle\, climate action is part of our mission. Through initiatives like tree and plant installations in South Los Angeles\, we connect food justice with environmental resilience helping communities thrive today and for generations to come.
URL:https://www.foodcyclela.org/event/arbor-day-apr-24-%f0%9f%8c%b3/2026-04-24/
END:VEVENT
BEGIN:VEVENT
DTSTART;TZID=America/Los_Angeles:20260424T110000
DTEND;TZID=America/Los_Angeles:20260424T130000
DTSTAMP:20260424T084627
CREATED:20250812T211406Z
LAST-MODIFIED:20250812T211642Z
UID:10000070-1777028400-1777035600@www.foodcyclela.org
SUMMARY:FoodCycle X Love the City Center
DESCRIPTION:Foodcycle has partnered with Love the City Center to help provide food for our communities people in need. \nEvery Friday from 11am-1pm \nWeekly free food giveaway serving our low income community. \nQuality foods generously donated by Erewhon\, Trader Joes\, Whole Foods\, Costco\, and other supermarkets. \n3979 Tilden Avenue\nCulver City CA\, 90232 \nWant to volunteer?  \nSign up Here! https://www.lovethecitycenter.org/volunteer
URL:https://www.foodcyclela.org/event/foodcycle-x-love-the-city-center/2026-04-24/
ATTACH;FMTTYPE=image/png:https://www.foodcyclela.org/wp-content/uploads/2025/05/download.png
END:VEVENT
END:VCALENDAR