BEGIN:VCALENDAR
VERSION:2.0
PRODID:-//FoodCycle - ECPv6.15.20//NONSGML v1.0//EN
CALSCALE:GREGORIAN
METHOD:PUBLISH
X-WR-CALNAME:FoodCycle
X-ORIGINAL-URL:https://www.foodcyclela.org
X-WR-CALDESC:Events for FoodCycle
REFRESH-INTERVAL;VALUE=DURATION:PT1H
X-Robots-Tag:noindex
X-PUBLISHED-TTL:PT1H
BEGIN:VTIMEZONE
TZID:America/Los_Angeles
BEGIN:DAYLIGHT
TZOFFSETFROM:-0800
TZOFFSETTO:-0700
TZNAME:PDT
DTSTART:20240310T100000
END:DAYLIGHT
BEGIN:STANDARD
TZOFFSETFROM:-0700
TZOFFSETTO:-0800
TZNAME:PST
DTSTART:20241103T090000
END:STANDARD
BEGIN:DAYLIGHT
TZOFFSETFROM:-0800
TZOFFSETTO:-0700
TZNAME:PDT
DTSTART:20250309T100000
END:DAYLIGHT
BEGIN:STANDARD
TZOFFSETFROM:-0700
TZOFFSETTO:-0800
TZNAME:PST
DTSTART:20251102T090000
END:STANDARD
BEGIN:DAYLIGHT
TZOFFSETFROM:-0800
TZOFFSETTO:-0700
TZNAME:PDT
DTSTART:20260308T100000
END:DAYLIGHT
BEGIN:STANDARD
TZOFFSETFROM:-0700
TZOFFSETTO:-0800
TZNAME:PST
DTSTART:20261101T090000
END:STANDARD
END:VTIMEZONE
BEGIN:VEVENT
DTSTART;TZID=America/Los_Angeles:20250724T104500
DTEND;TZID=America/Los_Angeles:20250724T200000
DTSTAMP:20260424T212030
CREATED:20250812T210734Z
LAST-MODIFIED:20250812T210734Z
UID:10000030-1753353900-1753387200@www.foodcyclela.org
SUMMARY:CAVA Community Day - Azusa
DESCRIPTION:Azusa (806 E Alosta Ave\, Azusa\, CA)\nDate: Thursday\, July 24\, 2025\nEventbrite\nAllEvents \nTime Slots: \nLunch: 10:45 AM – 2:00 PM \nDinner: 5:00 PM – 8:00 PM\nAllEvents\nEventbrite \nDetails: \nGuests were invited for a free meal ahead of the opening. Donations were accepted and matched (up to $1\,000) for FoodCycle LA\, which works to redirect surplus food for communities in need\nAllEvents\nCAVA\n. \nThe event supported both monetary and food contributions\, including fresh meals donated during staff training\nCAVA\nWhatNow\n. \nGrand Opening: Restaurant officially opened on July 25\, 2025; operating hours are daily from 10:30 AM – 10:30 PM
URL:https://www.foodcyclela.org/event/cava-community-day-azusa/
ATTACH;FMTTYPE=image/jpeg:https://www.foodcyclela.org/wp-content/uploads/2025/05/images.jpg
END:VEVENT
END:VCALENDAR