BEGIN:VCALENDAR
VERSION:2.0
PRODID:-//FoodCycle - ECPv6.15.20//NONSGML v1.0//EN
CALSCALE:GREGORIAN
METHOD:PUBLISH
X-WR-CALNAME:FoodCycle
X-ORIGINAL-URL:https://www.foodcyclela.org
X-WR-CALDESC:Events for FoodCycle
REFRESH-INTERVAL;VALUE=DURATION:PT1H
X-Robots-Tag:noindex
X-PUBLISHED-TTL:PT1H
BEGIN:VTIMEZONE
TZID:America/Los_Angeles
BEGIN:DAYLIGHT
TZOFFSETFROM:-0800
TZOFFSETTO:-0700
TZNAME:PDT
DTSTART:20240310T100000
END:DAYLIGHT
BEGIN:STANDARD
TZOFFSETFROM:-0700
TZOFFSETTO:-0800
TZNAME:PST
DTSTART:20241103T090000
END:STANDARD
BEGIN:DAYLIGHT
TZOFFSETFROM:-0800
TZOFFSETTO:-0700
TZNAME:PDT
DTSTART:20250309T100000
END:DAYLIGHT
BEGIN:STANDARD
TZOFFSETFROM:-0700
TZOFFSETTO:-0800
TZNAME:PST
DTSTART:20251102T090000
END:STANDARD
BEGIN:DAYLIGHT
TZOFFSETFROM:-0800
TZOFFSETTO:-0700
TZNAME:PDT
DTSTART:20260308T100000
END:DAYLIGHT
BEGIN:STANDARD
TZOFFSETFROM:-0700
TZOFFSETTO:-0800
TZNAME:PST
DTSTART:20261101T090000
END:STANDARD
END:VTIMEZONE
BEGIN:VEVENT
DTSTART;VALUE=DATE:20250901
DTEND;VALUE=DATE:20251001
DTSTAMP:20260424T181720
CREATED:20250812T205123Z
LAST-MODIFIED:20250906T211924Z
UID:10000029-1756684800-1759276799@www.foodcyclela.org
SUMMARY:Hunger Action Month
DESCRIPTION:A nationwide campaign to raise awareness of hunger and inspire people to take action in their communities.
URL:https://www.foodcyclela.org/event/hunger-action-month/
ATTACH;FMTTYPE=image/jpeg:https://www.foodcyclela.org/wp-content/uploads/2025/08/pexels-julia-m-cameron-6995018-scaled.jpg
END:VEVENT
BEGIN:VEVENT
DTSTART;VALUE=DATE:20250905
DTEND;VALUE=DATE:20250906
DTSTAMP:20260424T181720
CREATED:20250812T202237Z
LAST-MODIFIED:20250812T202237Z
UID:10000022-1757030400-1757116799@www.foodcyclela.org
SUMMARY:International Day of Charity
DESCRIPTION:Encourages acts of charity and volunteerism to help those in need\, while promoting solidarity across communities.
URL:https://www.foodcyclela.org/event/international-day-of-charity/
ATTACH;FMTTYPE=image/jpeg:https://www.foodcyclela.org/wp-content/uploads/2025/08/pexels-caleboquendo-7807594-scaled.jpg
END:VEVENT
BEGIN:VEVENT
DTSTART;TZID=America/Los_Angeles:20250905T110000
DTEND;TZID=America/Los_Angeles:20250905T130000
DTSTAMP:20260424T181720
CREATED:20250812T211406Z
LAST-MODIFIED:20250812T211642Z
UID:10000037-1757070000-1757077200@www.foodcyclela.org
SUMMARY:FoodCycle X Love the City Center
DESCRIPTION:Foodcycle has partnered with Love the City Center to help provide food for our communities people in need. \nEvery Friday from 11am-1pm \nWeekly free food giveaway serving our low income community. \nQuality foods generously donated by Erewhon\, Trader Joes\, Whole Foods\, Costco\, and other supermarkets. \n3979 Tilden Avenue\nCulver City CA\, 90232 \nWant to volunteer?  \nSign up Here! https://www.lovethecitycenter.org/volunteer
URL:https://www.foodcyclela.org/event/foodcycle-x-love-the-city-center/2025-09-05/
ATTACH;FMTTYPE=image/png:https://www.foodcyclela.org/wp-content/uploads/2025/05/download.png
END:VEVENT
BEGIN:VEVENT
DTSTART;VALUE=DATE:20250907
DTEND;VALUE=DATE:20250908
DTSTAMP:20260424T181720
CREATED:20250812T202433Z
LAST-MODIFIED:20250812T202433Z
UID:10000023-1757203200-1757289599@www.foodcyclela.org
SUMMARY:International Day of Clean Air for Blue Skies
DESCRIPTION:Raises awareness of the importance of clean air and actions to reduce air pollution for the health of people and the planet.
URL:https://www.foodcyclela.org/event/international-day-of-clean-air-for-blue-skies/
ATTACH;FMTTYPE=image/jpeg:https://www.foodcyclela.org/wp-content/uploads/2025/08/pexels-felix-kuhn-248510190-33378406-scaled.jpg
END:VEVENT
BEGIN:VEVENT
DTSTART;TZID=America/Los_Angeles:20250911T104500
DTEND;TZID=America/Los_Angeles:20250911T200000
DTSTAMP:20260424T181720
CREATED:20250812T211004Z
LAST-MODIFIED:20250812T211133Z
UID:10000032-1757587500-1757620800@www.foodcyclela.org
SUMMARY:CAVA Community Day - Orange TBD
DESCRIPTION:Orange\, CA TBD\nStatus: A new CAVA location is planned at 2318 N Tustin Street\, Orange\, CA
URL:https://www.foodcyclela.org/event/cava-community-day-orange/
ATTACH;FMTTYPE=image/jpeg:https://www.foodcyclela.org/wp-content/uploads/2025/05/images.jpg
END:VEVENT
BEGIN:VEVENT
DTSTART;TZID=America/Los_Angeles:20250912T110000
DTEND;TZID=America/Los_Angeles:20250912T130000
DTSTAMP:20260424T181720
CREATED:20250812T211406Z
LAST-MODIFIED:20250812T211642Z
UID:10000038-1757674800-1757682000@www.foodcyclela.org
SUMMARY:FoodCycle X Love the City Center
DESCRIPTION:Foodcycle has partnered with Love the City Center to help provide food for our communities people in need. \nEvery Friday from 11am-1pm \nWeekly free food giveaway serving our low income community. \nQuality foods generously donated by Erewhon\, Trader Joes\, Whole Foods\, Costco\, and other supermarkets. \n3979 Tilden Avenue\nCulver City CA\, 90232 \nWant to volunteer?  \nSign up Here! https://www.lovethecitycenter.org/volunteer
URL:https://www.foodcyclela.org/event/foodcycle-x-love-the-city-center/2025-09-12/
ATTACH;FMTTYPE=image/png:https://www.foodcyclela.org/wp-content/uploads/2025/05/download.png
END:VEVENT
BEGIN:VEVENT
DTSTART;VALUE=DATE:20250916
DTEND;VALUE=DATE:20250917
DTSTAMP:20260424T181720
CREATED:20250812T202638Z
LAST-MODIFIED:20250812T202638Z
UID:10000024-1757980800-1758067199@www.foodcyclela.org
SUMMARY:International Day for the Preservation of the Ozone Layer
DESCRIPTION:Marks global progress in protecting the ozone layer and calls for continued environmental stewardship.
URL:https://www.foodcyclela.org/event/international-day-for-the-preservation-of-the-ozone-layer/
ATTACH;FMTTYPE=image/jpeg:https://www.foodcyclela.org/wp-content/uploads/2025/08/pexels-lucis-liu-64453329-13049276-scaled.jpg
END:VEVENT
BEGIN:VEVENT
DTSTART;TZID=America/Los_Angeles:20250919T110000
DTEND;TZID=America/Los_Angeles:20250919T130000
DTSTAMP:20260424T181720
CREATED:20250812T211406Z
LAST-MODIFIED:20250812T211642Z
UID:10000039-1758279600-1758286800@www.foodcyclela.org
SUMMARY:FoodCycle X Love the City Center
DESCRIPTION:Foodcycle has partnered with Love the City Center to help provide food for our communities people in need. \nEvery Friday from 11am-1pm \nWeekly free food giveaway serving our low income community. \nQuality foods generously donated by Erewhon\, Trader Joes\, Whole Foods\, Costco\, and other supermarkets. \n3979 Tilden Avenue\nCulver City CA\, 90232 \nWant to volunteer?  \nSign up Here! https://www.lovethecitycenter.org/volunteer
URL:https://www.foodcyclela.org/event/foodcycle-x-love-the-city-center/2025-09-19/
ATTACH;FMTTYPE=image/png:https://www.foodcyclela.org/wp-content/uploads/2025/05/download.png
END:VEVENT
BEGIN:VEVENT
DTSTART;VALUE=DATE:20250921
DTEND;VALUE=DATE:20250922
DTSTAMP:20260424T181720
CREATED:20250812T202847Z
LAST-MODIFIED:20250812T202915Z
UID:10000025-1758412800-1758499199@www.foodcyclela.org
SUMMARY:International Day of Peace
DESCRIPTION:Promotes peace among nations and communities\, and encourages actions that foster harmony and nonviolence
URL:https://www.foodcyclela.org/event/international-day-of-peace/
ATTACH;FMTTYPE=image/jpeg:https://www.foodcyclela.org/wp-content/uploads/2025/08/pexels-mikael-blomkvist-6476771-scaled.jpg
END:VEVENT
BEGIN:VEVENT
DTSTART;VALUE=DATE:20250921
DTEND;VALUE=DATE:20250922
DTSTAMP:20260424T181720
CREATED:20250812T203053Z
LAST-MODIFIED:20250812T203053Z
UID:10000026-1758412800-1758499199@www.foodcyclela.org
SUMMARY:Zero Emissions Day
DESCRIPTION:A global reminder of the benefits of a day without fossil fuel use\, inspiring climate action and renewable energy solutions.
URL:https://www.foodcyclela.org/event/zero-emissions-day/
ATTACH;FMTTYPE=image/jpeg:https://www.foodcyclela.org/wp-content/uploads/2025/08/pexels-alfomedeiros-15268778-scaled.jpg
END:VEVENT
BEGIN:VEVENT
DTSTART;TZID=America/Los_Angeles:20250921T140000
DTEND;TZID=America/Los_Angeles:20250921T160000
DTSTAMP:20260424T181720
CREATED:20250906T214438Z
LAST-MODIFIED:20250906T214438Z
UID:10000297-1758463200-1758470400@www.foodcyclela.org
SUMMARY:Foraging Fundraiser for FoodCycle
DESCRIPTION:Ready to reconnect with nature while giving back? Link in bio! \nJoin us for Giving Back to Mother Nature\, a unique foraging workshop in Culver City’s Fox Hills Park! 🍄✨ Led by Jessica Lin\, this all-ages event blends beginner-friendly foraging\, nature meditation\, and plant education all while raising funds for your local org like us\, FoodCycle and @plantbasedtreatyla . \n📍 Fox Hills Park\n📅 September 21\,2025 2-4pm\n🎟️ Sign up now: bit.ly/foraging-fundraiser
URL:https://www.foodcyclela.org/event/foraging-fundraiser-for-foodcycle/
ATTACH;FMTTYPE=image/png:https://www.foodcyclela.org/wp-content/uploads/2025/09/2.png
END:VEVENT
BEGIN:VEVENT
DTSTART;VALUE=DATE:20250922
DTEND;VALUE=DATE:20250926
DTSTAMP:20260424T181720
CREATED:20250906T203941Z
LAST-MODIFIED:20250906T204418Z
UID:10000295-1758499200-1758844799@www.foodcyclela.org
SUMMARY:Climate Week NYC in 2025
DESCRIPTION:In New York City this September for Climate Week NYC\, the world’s largest annual climate event\, where leaders from business\, government\, nonprofits\, and the arts come together to accelerate climate action and solutions. Through panel discussions\, workshops\, film screenings\, and community-driven experiences\, we’ll spotlight bold ideas and collaborative efforts to address the climate crisis. \nThis year’s program focuses on driving systemic change across energy\, food\, nature\, transport\, and finance—while uplifting frontline communities and youth voices. Climate Week NYC is not just about conversations\, but about building momentum for a just\, sustainable future. \nWhether you are a policymaker\, innovator\, activist\, or community member\, this is your opportunity to engage\, connect\, and take meaningful action on the world’s most pressing challenge.
URL:https://www.foodcyclela.org/event/climate-week-nyc-in-2025-2/
ATTACH;FMTTYPE=image/png:https://www.foodcyclela.org/wp-content/uploads/2025/09/climate-week-nyc-1.png
END:VEVENT
BEGIN:VEVENT
DTSTART;VALUE=DATE:20250922
DTEND;VALUE=DATE:20250923
DTSTAMP:20260424T181720
CREATED:20250906T203507Z
LAST-MODIFIED:20250906T203507Z
UID:10000296-1758528000-1758560400@www.foodcyclela.org
SUMMARY:Climate Week NYC in 2025
DESCRIPTION:In New York City this September for Climate Week NYC\, the world’s largest annual climate event\, where leaders from business\, government\, nonprofits\, and the arts come together to accelerate climate action and solutions. Through panel discussions\, workshops\, film screenings\, and community-driven experiences\, we’ll spotlight bold ideas and collaborative efforts to address the climate crisis. \nThis year’s program focuses on driving systemic change across energy\, food\, nature\, transport\, and finance—while uplifting frontline communities and youth voices. Climate Week NYC is not just about conversations\, but about building momentum for a just\, sustainable future. \nWhether you are a policymaker\, innovator\, activist\, or community member\, this is your opportunity to engage\, connect\, and take meaningful action on the world’s most pressing challenge.
URL:https://www.foodcyclela.org/event/climate-week-nyc-in-2025/
END:VEVENT
BEGIN:VEVENT
DTSTART;VALUE=DATE:20250923
DTEND;VALUE=DATE:20250930
DTSTAMP:20260424T181720
CREATED:20250812T203506Z
LAST-MODIFIED:20250812T203506Z
UID:10000027-1758585600-1759190399@www.foodcyclela.org
SUMMARY:Global Goals Week
DESCRIPTION:An international effort to accelerate progress on the United Nations’ Sustainable Development Goals (SDGs)\, from ending poverty to protecting the planet.
URL:https://www.foodcyclela.org/event/global-goals-week/
ATTACH;FMTTYPE=image/jpeg:https://www.foodcyclela.org/wp-content/uploads/2025/08/pexels-renaldicted-11264447-scaled.jpg
END:VEVENT
BEGIN:VEVENT
DTSTART;TZID=America/Los_Angeles:20250926T110000
DTEND;TZID=America/Los_Angeles:20250926T130000
DTSTAMP:20260424T181720
CREATED:20250812T211406Z
LAST-MODIFIED:20250812T211642Z
UID:10000040-1758884400-1758891600@www.foodcyclela.org
SUMMARY:FoodCycle X Love the City Center
DESCRIPTION:Foodcycle has partnered with Love the City Center to help provide food for our communities people in need. \nEvery Friday from 11am-1pm \nWeekly free food giveaway serving our low income community. \nQuality foods generously donated by Erewhon\, Trader Joes\, Whole Foods\, Costco\, and other supermarkets. \n3979 Tilden Avenue\nCulver City CA\, 90232 \nWant to volunteer?  \nSign up Here! https://www.lovethecitycenter.org/volunteer
URL:https://www.foodcyclela.org/event/foodcycle-x-love-the-city-center/2025-09-26/
ATTACH;FMTTYPE=image/png:https://www.foodcyclela.org/wp-content/uploads/2025/05/download.png
END:VEVENT
BEGIN:VEVENT
DTSTART;VALUE=DATE:20250929
DTEND;VALUE=DATE:20250930
DTSTAMP:20260424T181720
CREATED:20250812T204920Z
LAST-MODIFIED:20250812T230044Z
UID:10000028-1759104000-1759190399@www.foodcyclela.org
SUMMARY:International Day of Awareness of Food Loss and Waste
DESCRIPTION:Highlights the environmental and humanitarian impact of wasted food\, and encourages efforts to reduce loss from farm to table.
URL:https://www.foodcyclela.org/event/international-day-of-awareness-of-food-loss-and-waste/
ATTACH;FMTTYPE=image/png:https://www.foodcyclela.org/wp-content/uploads/2025/08/pexels-emmet-35167-128421-scaled.png
END:VEVENT
END:VCALENDAR