BEGIN:VCALENDAR
VERSION:2.0
PRODID:-//FoodCycle - ECPv6.15.20//NONSGML v1.0//EN
CALSCALE:GREGORIAN
METHOD:PUBLISH
X-WR-CALNAME:FoodCycle
X-ORIGINAL-URL:https://www.foodcyclela.org
X-WR-CALDESC:Events for FoodCycle
REFRESH-INTERVAL;VALUE=DURATION:PT1H
X-Robots-Tag:noindex
X-PUBLISHED-TTL:PT1H
BEGIN:VTIMEZONE
TZID:America/Los_Angeles
BEGIN:DAYLIGHT
TZOFFSETFROM:-0800
TZOFFSETTO:-0700
TZNAME:PDT
DTSTART:20250309T100000
END:DAYLIGHT
BEGIN:STANDARD
TZOFFSETFROM:-0700
TZOFFSETTO:-0800
TZNAME:PST
DTSTART:20251102T090000
END:STANDARD
BEGIN:DAYLIGHT
TZOFFSETFROM:-0800
TZOFFSETTO:-0700
TZNAME:PDT
DTSTART:20260308T100000
END:DAYLIGHT
BEGIN:STANDARD
TZOFFSETFROM:-0700
TZOFFSETTO:-0800
TZNAME:PST
DTSTART:20261101T090000
END:STANDARD
BEGIN:DAYLIGHT
TZOFFSETFROM:-0800
TZOFFSETTO:-0700
TZNAME:PDT
DTSTART:20270314T100000
END:DAYLIGHT
BEGIN:STANDARD
TZOFFSETFROM:-0700
TZOFFSETTO:-0800
TZNAME:PST
DTSTART:20271107T090000
END:STANDARD
END:VTIMEZONE
BEGIN:VEVENT
DTSTART;VALUE=DATE:20260201
DTEND;VALUE=DATE:20260301
DTSTAMP:20260424T102929
CREATED:20260211T223336Z
LAST-MODIFIED:20260226T102000Z
UID:10000317-1769904000-1772323199@www.foodcyclela.org
SUMMARY:Black History Month
DESCRIPTION:This Black History Month\, we honor the generations of Black leadership\, community care\, and grassroots food justice that make our work possible. \nAt Mt. Salem Church in South Los Angeles\, Pastor Patricia continues a long tradition of feeding neighbors with dignity and care and FoodCycle is proud to help ensure rescued food reaches families who need it most.
URL:https://www.foodcyclela.org/event/black-history-month/
ATTACH;FMTTYPE=image/png:https://www.foodcyclela.org/wp-content/uploads/2026/02/ChatGPT-Image-Feb-17-2026-10_13_51-AM.png
END:VEVENT
BEGIN:VEVENT
DTSTART;VALUE=DATE:20260201
DTEND;VALUE=DATE:20260301
DTSTAMP:20260424T102929
CREATED:20260211T224106Z
LAST-MODIFIED:20260217T184415Z
UID:10000318-1769904000-1772323199@www.foodcyclela.org
SUMMARY:❤️ National Heart Month
DESCRIPTION:National Heart Month highlights the importance of cardiovascular health and prevention. Access to nutritious\, fresh food plays a critical role in reducing the risk of heart disease — the leading cause of death in the United States. FoodCycle supports heart health by rescuing fresh produce and redistributing nourishing meals to communities experiencing food insecurity. By increasing access to fruits\, vegetables\, and balanced meals\, we help protect not just plates — but hearts.
URL:https://www.foodcyclela.org/event/%e2%9d%a4%ef%b8%8f-national-heart-month/
ATTACH;FMTTYPE=image/png:https://www.foodcyclela.org/wp-content/uploads/2026/02/in-love-13-e1771353845331.png
END:VEVENT
BEGIN:VEVENT
DTSTART;TZID=America/Los_Angeles:20260206T110000
DTEND;TZID=America/Los_Angeles:20260206T130000
DTSTAMP:20260424T102929
CREATED:20250812T211406Z
LAST-MODIFIED:20250812T211642Z
UID:10000059-1770375600-1770382800@www.foodcyclela.org
SUMMARY:FoodCycle X Love the City Center
DESCRIPTION:Foodcycle has partnered with Love the City Center to help provide food for our communities people in need. \nEvery Friday from 11am-1pm \nWeekly free food giveaway serving our low income community. \nQuality foods generously donated by Erewhon\, Trader Joes\, Whole Foods\, Costco\, and other supermarkets. \n3979 Tilden Avenue\nCulver City CA\, 90232 \nWant to volunteer?  \nSign up Here! https://www.lovethecitycenter.org/volunteer
URL:https://www.foodcyclela.org/event/foodcycle-x-love-the-city-center/2026-02-06/
ATTACH;FMTTYPE=image/png:https://www.foodcyclela.org/wp-content/uploads/2025/05/download.png
END:VEVENT
BEGIN:VEVENT
DTSTART;TZID=America/Los_Angeles:20260211T120000
DTEND;TZID=America/Los_Angeles:20260211T140000
DTSTAMP:20260424T102929
CREATED:20260211T225552Z
LAST-MODIFIED:20260217T164458Z
UID:10000322-1770811200-1770818400@www.foodcyclela.org
SUMMARY:FoodCycle x Home of Kings and Queens
DESCRIPTION:Home of Kings & Queens and FoodCycle join forces to serve our community through recurring food distributions that center dignity and access. Each distribution provides rescued fresh produce and essential groceries to families affected by the Eaton Fires and experiencing food insecurity. This partnership reflects our belief that every neighbor deserves to be treated like royalty! \nEmail: Homekings13@gmail.com to volunteer and confirm date/location/times
URL:https://www.foodcyclela.org/event/foodcycle-x-home-of-kings-and-queens/2026-02-11/
ATTACH;FMTTYPE=image/jpeg:https://www.foodcyclela.org/wp-content/uploads/2026/02/images.jpeg
END:VEVENT
BEGIN:VEVENT
DTSTART;TZID=America/Los_Angeles:20260213T110000
DTEND;TZID=America/Los_Angeles:20260213T130000
DTSTAMP:20260424T102929
CREATED:20250812T211406Z
LAST-MODIFIED:20250812T211642Z
UID:10000060-1770980400-1770987600@www.foodcyclela.org
SUMMARY:FoodCycle X Love the City Center
DESCRIPTION:Foodcycle has partnered with Love the City Center to help provide food for our communities people in need. \nEvery Friday from 11am-1pm \nWeekly free food giveaway serving our low income community. \nQuality foods generously donated by Erewhon\, Trader Joes\, Whole Foods\, Costco\, and other supermarkets. \n3979 Tilden Avenue\nCulver City CA\, 90232 \nWant to volunteer?  \nSign up Here! https://www.lovethecitycenter.org/volunteer
URL:https://www.foodcyclela.org/event/foodcycle-x-love-the-city-center/2026-02-13/
ATTACH;FMTTYPE=image/png:https://www.foodcyclela.org/wp-content/uploads/2025/05/download.png
END:VEVENT
BEGIN:VEVENT
DTSTART;VALUE=DATE:20260214
DTEND;VALUE=DATE:20260215
DTSTAMP:20260424T102929
CREATED:20260211T224445Z
LAST-MODIFIED:20260217T182555Z
UID:10000320-1771027200-1771113599@www.foodcyclela.org
SUMMARY:Valentines Day - Love in Action
DESCRIPTION:Love is more than a feeling\,  it’s action. Every rescued meal shared through FoodCycle is an act of love for our neighbors. By redirecting surplus food to families experiencing food insecurity\, we turn compassion into nourishment. Love looks like volunteers showing up\, donors giving generously\, and communities ensuring no one is left hungry.
URL:https://www.foodcyclela.org/event/valentines-day-love-in-action/
ATTACH;FMTTYPE=image/png:https://www.foodcyclela.org/wp-content/uploads/2026/02/in-love-1-e1771352834912.png
END:VEVENT
BEGIN:VEVENT
DTSTART;VALUE=DATE:20260214
DTEND;VALUE=DATE:20260221
DTSTAMP:20260424T102929
CREATED:20260211T224257Z
LAST-MODIFIED:20260217T185258Z
UID:10000319-1771027200-1771631999@www.foodcyclela.org
SUMMARY:Random Acts of Kindness Week
DESCRIPTION:Random Acts of Kindness Week celebrates small actions that create meaningful impact. Every rescued meal\, every volunteer shift\, and every food donation is an act of kindness that strengthens our community. FoodCycle turns surplus food into shared nourishment\, proving that compassion\,  when multiplied\, becomes systemic change. This week\, we encourage our community to spread kindness through service\, generosity\, and collective care.
URL:https://www.foodcyclela.org/event/random-acts-of-kindness-week/
ATTACH;FMTTYPE=image/png:https://www.foodcyclela.org/wp-content/uploads/2026/02/2-scaled.png
END:VEVENT
BEGIN:VEVENT
DTSTART;VALUE=DATE:20260216
DTEND;VALUE=DATE:20260217
DTSTAMP:20260424T102929
CREATED:20260211T224935Z
LAST-MODIFIED:20260217T181803Z
UID:10000321-1771200000-1771286399@www.foodcyclela.org
SUMMARY:Presidents Day
DESCRIPTION:Presidents Day honors leaders who believed service to others strengthens our nation. President Jimmy Carter demonstrated that leadership does not end in office — it continues through lifelong commitment to community\, humanitarian aid\, and fighting poverty. At FoodCycle\, we carry that same spirit forward by rescuing surplus food\, reducing waste\, and nourishing neighbors experiencing hunger. Through partnerships like the California Climate Action Corps\, we continue building communities rooted in service\, dignity\, and care
URL:https://www.foodcyclela.org/event/presidents-day/
ATTACH;FMTTYPE=image/png:https://www.foodcyclela.org/wp-content/uploads/2026/02/Illustration-with-US-Capitol-and-flags-scaled.png
END:VEVENT
BEGIN:VEVENT
DTSTART;VALUE=DATE:20260217
DTEND;VALUE=DATE:20260218
DTSTAMP:20260424T102929
CREATED:20260217T191046Z
LAST-MODIFIED:20260217T191046Z
UID:10000833-1771286400-1771372799@www.foodcyclela.org
SUMMARY:🐎 Happy Lunar New Year — Year of the Horse!
DESCRIPTION:The Year of the Horse represents strength\, perseverance\, and progress. As we step into this new year\, we remain committed to building momentum toward food equity\, sustainability\, and stronger communities. \nWishing you prosperity\, health\, and renewed energy in the year ahead!
URL:https://www.foodcyclela.org/event/%f0%9f%90%8e-happy-lunar-new-year-year-of-the-horse/
ATTACH;FMTTYPE=image/png:https://www.foodcyclela.org/wp-content/uploads/2026/02/Chinese-New-Year-card-geometric-style-Year-of-the-Horse-scaled.png
END:VEVENT
BEGIN:VEVENT
DTSTART;TZID=America/Los_Angeles:20260218T100000
DTEND;TZID=America/Los_Angeles:20260218T140000
DTSTAMP:20260424T102929
CREATED:20260219T032951Z
LAST-MODIFIED:20260219T032951Z
UID:10000835-1771408800-1771423200@www.foodcyclela.org
SUMMARY:FoodCycle x City of Pico Rivera Earth Day!
DESCRIPTION:Join us in celebrating our planet 🌎💚 The City of Pico Rivera is hosting an Earth Day Event on April 18th from 10AM–2PM at Rio Hondo Park! Let’s come together for interactive\, educational activities that connect our community to local environmental initiatives.
URL:https://www.foodcyclela.org/event/foodcycle-x-city-of-pico-rivera-earth-day/
ATTACH;FMTTYPE=image/png:https://www.foodcyclela.org/wp-content/uploads/2026/02/18-e1771471760986.png
END:VEVENT
BEGIN:VEVENT
DTSTART;TZID=America/Los_Angeles:20260218T120000
DTEND;TZID=America/Los_Angeles:20260218T140000
DTSTAMP:20260424T102929
CREATED:20260211T225552Z
LAST-MODIFIED:20260217T164458Z
UID:10000323-1771416000-1771423200@www.foodcyclela.org
SUMMARY:FoodCycle x Home of Kings and Queens
DESCRIPTION:Home of Kings & Queens and FoodCycle join forces to serve our community through recurring food distributions that center dignity and access. Each distribution provides rescued fresh produce and essential groceries to families affected by the Eaton Fires and experiencing food insecurity. This partnership reflects our belief that every neighbor deserves to be treated like royalty! \nEmail: Homekings13@gmail.com to volunteer and confirm date/location/times
URL:https://www.foodcyclela.org/event/foodcycle-x-home-of-kings-and-queens/2026-02-18/
ATTACH;FMTTYPE=image/jpeg:https://www.foodcyclela.org/wp-content/uploads/2026/02/images.jpeg
END:VEVENT
BEGIN:VEVENT
DTSTART;TZID=America/Los_Angeles:20260220T110000
DTEND;TZID=America/Los_Angeles:20260220T130000
DTSTAMP:20260424T102929
CREATED:20250812T211406Z
LAST-MODIFIED:20250812T211642Z
UID:10000061-1771585200-1771592400@www.foodcyclela.org
SUMMARY:FoodCycle X Love the City Center
DESCRIPTION:Foodcycle has partnered with Love the City Center to help provide food for our communities people in need. \nEvery Friday from 11am-1pm \nWeekly free food giveaway serving our low income community. \nQuality foods generously donated by Erewhon\, Trader Joes\, Whole Foods\, Costco\, and other supermarkets. \n3979 Tilden Avenue\nCulver City CA\, 90232 \nWant to volunteer?  \nSign up Here! https://www.lovethecitycenter.org/volunteer
URL:https://www.foodcyclela.org/event/foodcycle-x-love-the-city-center/2026-02-20/
ATTACH;FMTTYPE=image/png:https://www.foodcyclela.org/wp-content/uploads/2025/05/download.png
END:VEVENT
BEGIN:VEVENT
DTSTART;TZID=America/Los_Angeles:20260221T130000
DTEND;TZID=America/Los_Angeles:20260221T170000
DTSTAMP:20260424T102929
CREATED:20260219T031527Z
LAST-MODIFIED:20260219T031527Z
UID:10000834-1771678800-1771693200@www.foodcyclela.org
SUMMARY:Celebrate Black History Month with Mt. Salem: Fashion & Fellowship
DESCRIPTION:Join our Partner Pastor Patricia & Mt. Salem MBC  for Fashion\, Lunch\, and Design! \nTicket cost: $20\nEvery Ticket is a building fund contribution! \nLocation: 8762 South Central Ave\nLos Angeles CA 90002 \nWhen: February 21\, 2026 1PM\nRSVP ASAP with Jerri (310)- 349 -7372\nRose (323)-691-9870
URL:https://www.foodcyclela.org/event/celebrate-black-history-month-with-mt-salem-fashion-fellowship/
ATTACH;FMTTYPE=image/png:https://www.foodcyclela.org/wp-content/uploads/2026/02/IMG_5025-e1771470581460.png
END:VEVENT
BEGIN:VEVENT
DTSTART;TZID=America/Los_Angeles:20260225T120000
DTEND;TZID=America/Los_Angeles:20260225T140000
DTSTAMP:20260424T102929
CREATED:20260211T225552Z
LAST-MODIFIED:20260217T164458Z
UID:10000324-1772020800-1772028000@www.foodcyclela.org
SUMMARY:FoodCycle x Home of Kings and Queens
DESCRIPTION:Home of Kings & Queens and FoodCycle join forces to serve our community through recurring food distributions that center dignity and access. Each distribution provides rescued fresh produce and essential groceries to families affected by the Eaton Fires and experiencing food insecurity. This partnership reflects our belief that every neighbor deserves to be treated like royalty! \nEmail: Homekings13@gmail.com to volunteer and confirm date/location/times
URL:https://www.foodcyclela.org/event/foodcycle-x-home-of-kings-and-queens/2026-02-25/
ATTACH;FMTTYPE=image/jpeg:https://www.foodcyclela.org/wp-content/uploads/2026/02/images.jpeg
END:VEVENT
BEGIN:VEVENT
DTSTART;TZID=America/Los_Angeles:20260227T110000
DTEND;TZID=America/Los_Angeles:20260227T130000
DTSTAMP:20260424T102929
CREATED:20250812T211406Z
LAST-MODIFIED:20250812T211642Z
UID:10000062-1772190000-1772197200@www.foodcyclela.org
SUMMARY:FoodCycle X Love the City Center
DESCRIPTION:Foodcycle has partnered with Love the City Center to help provide food for our communities people in need. \nEvery Friday from 11am-1pm \nWeekly free food giveaway serving our low income community. \nQuality foods generously donated by Erewhon\, Trader Joes\, Whole Foods\, Costco\, and other supermarkets. \n3979 Tilden Avenue\nCulver City CA\, 90232 \nWant to volunteer?  \nSign up Here! https://www.lovethecitycenter.org/volunteer
URL:https://www.foodcyclela.org/event/foodcycle-x-love-the-city-center/2026-02-27/
ATTACH;FMTTYPE=image/png:https://www.foodcyclela.org/wp-content/uploads/2025/05/download.png
END:VEVENT
END:VCALENDAR