BEGIN:VCALENDAR
VERSION:2.0
PRODID:-//FoodCycle - ECPv6.15.20//NONSGML v1.0//EN
CALSCALE:GREGORIAN
METHOD:PUBLISH
X-WR-CALNAME:FoodCycle
X-ORIGINAL-URL:https://www.foodcyclela.org
X-WR-CALDESC:Events for FoodCycle
REFRESH-INTERVAL;VALUE=DURATION:PT1H
X-Robots-Tag:noindex
X-PUBLISHED-TTL:PT1H
BEGIN:VTIMEZONE
TZID:America/Los_Angeles
BEGIN:DAYLIGHT
TZOFFSETFROM:-0800
TZOFFSETTO:-0700
TZNAME:PDT
DTSTART:20250309T100000
END:DAYLIGHT
BEGIN:STANDARD
TZOFFSETFROM:-0700
TZOFFSETTO:-0800
TZNAME:PST
DTSTART:20251102T090000
END:STANDARD
BEGIN:DAYLIGHT
TZOFFSETFROM:-0800
TZOFFSETTO:-0700
TZNAME:PDT
DTSTART:20260308T100000
END:DAYLIGHT
BEGIN:STANDARD
TZOFFSETFROM:-0700
TZOFFSETTO:-0800
TZNAME:PST
DTSTART:20261101T090000
END:STANDARD
BEGIN:DAYLIGHT
TZOFFSETFROM:-0800
TZOFFSETTO:-0700
TZNAME:PDT
DTSTART:20270314T100000
END:DAYLIGHT
BEGIN:STANDARD
TZOFFSETFROM:-0700
TZOFFSETTO:-0800
TZNAME:PST
DTSTART:20271107T090000
END:STANDARD
END:VTIMEZONE
BEGIN:VEVENT
DTSTART;VALUE=DATE:20260501
DTEND;VALUE=DATE:20260601
DTSTAMP:20260424T090632
CREATED:20260212T001903Z
LAST-MODIFIED:20260212T001903Z
UID:10000641-1777593600-1780271999@www.foodcyclela.org
SUMMARY:Mental Health Awareness Month
DESCRIPTION:Mental Health Awareness Month highlights the importance of emotional and psychological well-being. Food insecurity and financial stress can significantly impact mental health\, increasing anxiety and instability for families. At FoodCycle\, providing consistent access to nutritious food helps reduce stress and strengthen community resilience. When basic needs are met\, individuals and families are better able to focus on healing\, stability\, and growth.
URL:https://www.foodcyclela.org/event/mental-health-awareness-month/2026-05-01/
END:VEVENT
BEGIN:VEVENT
DTSTART;VALUE=DATE:20260501
DTEND;VALUE=DATE:20260601
DTSTAMP:20260424T090632
CREATED:20260212T002323Z
LAST-MODIFIED:20260212T002323Z
UID:10000656-1777593600-1780271999@www.foodcyclela.org
SUMMARY:National Bike Month 🚲
DESCRIPTION:National Bike Month highlights the importance of sustainable transportation and reducing carbon emissions. At FoodCycle\, environmental responsibility is part of our mission. In addition to rescuing surplus food\, we utilize green vehicles\, including electric transportation\, to reduce our carbon footprint while serving communities experiencing food insecurity. Every mile driven sustainably supports cleaner air\, healthier neighborhoods\, and stronger climate resilience. This month\, we encourage our community to explore eco-friendly transportation options and join us in building a greener future.
URL:https://www.foodcyclela.org/event/national-bike-month-%f0%9f%9a%b2/2026-05-01/
END:VEVENT
BEGIN:VEVENT
DTSTART;TZID=America/Los_Angeles:20260501T110000
DTEND;TZID=America/Los_Angeles:20260501T130000
DTSTAMP:20260424T090632
CREATED:20250812T211406Z
LAST-MODIFIED:20250812T211642Z
UID:10000071-1777633200-1777640400@www.foodcyclela.org
SUMMARY:FoodCycle X Love the City Center
DESCRIPTION:Foodcycle has partnered with Love the City Center to help provide food for our communities people in need. \nEvery Friday from 11am-1pm \nWeekly free food giveaway serving our low income community. \nQuality foods generously donated by Erewhon\, Trader Joes\, Whole Foods\, Costco\, and other supermarkets. \n3979 Tilden Avenue\nCulver City CA\, 90232 \nWant to volunteer?  \nSign up Here! https://www.lovethecitycenter.org/volunteer
URL:https://www.foodcyclela.org/event/foodcycle-x-love-the-city-center/2026-05-01/
ATTACH;FMTTYPE=image/png:https://www.foodcyclela.org/wp-content/uploads/2025/05/download.png
END:VEVENT
BEGIN:VEVENT
DTSTART;TZID=America/Los_Angeles:20260506T120000
DTEND;TZID=America/Los_Angeles:20260506T140000
DTSTAMP:20260424T090632
CREATED:20260211T225552Z
LAST-MODIFIED:20260217T164458Z
UID:10000334-1778068800-1778076000@www.foodcyclela.org
SUMMARY:FoodCycle x Home of Kings and Queens
DESCRIPTION:Home of Kings & Queens and FoodCycle join forces to serve our community through recurring food distributions that center dignity and access. Each distribution provides rescued fresh produce and essential groceries to families affected by the Eaton Fires and experiencing food insecurity. This partnership reflects our belief that every neighbor deserves to be treated like royalty! \nEmail: Homekings13@gmail.com to volunteer and confirm date/location/times
URL:https://www.foodcyclela.org/event/foodcycle-x-home-of-kings-and-queens/2026-05-06/
ATTACH;FMTTYPE=image/jpeg:https://www.foodcyclela.org/wp-content/uploads/2026/02/images.jpeg
END:VEVENT
BEGIN:VEVENT
DTSTART;TZID=America/Los_Angeles:20260508T110000
DTEND;TZID=America/Los_Angeles:20260508T130000
DTSTAMP:20260424T090632
CREATED:20250812T211406Z
LAST-MODIFIED:20250812T211642Z
UID:10000072-1778238000-1778245200@www.foodcyclela.org
SUMMARY:FoodCycle X Love the City Center
DESCRIPTION:Foodcycle has partnered with Love the City Center to help provide food for our communities people in need. \nEvery Friday from 11am-1pm \nWeekly free food giveaway serving our low income community. \nQuality foods generously donated by Erewhon\, Trader Joes\, Whole Foods\, Costco\, and other supermarkets. \n3979 Tilden Avenue\nCulver City CA\, 90232 \nWant to volunteer?  \nSign up Here! https://www.lovethecitycenter.org/volunteer
URL:https://www.foodcyclela.org/event/foodcycle-x-love-the-city-center/2026-05-08/
ATTACH;FMTTYPE=image/png:https://www.foodcyclela.org/wp-content/uploads/2025/05/download.png
END:VEVENT
BEGIN:VEVENT
DTSTART;VALUE=DATE:20260510
DTEND;VALUE=DATE:20260511
DTSTAMP:20260424T090632
CREATED:20260212T001950Z
LAST-MODIFIED:20260212T001950Z
UID:10000646-1778371200-1778457599@www.foodcyclela.org
SUMMARY:Mother’s Day (May 10)
DESCRIPTION:Mother’s Day honors the caregivers who nourish\, protect\, and uplift families every day. At FoodCycle\, we recognize the mothers and caregivers who stretch resources to provide for their households\, as well as the women volunteers and leaders who help sustain our mission. By ensuring access to healthy food\, we support families and strengthen the foundation of our communities.
URL:https://www.foodcyclela.org/event/mothers-day-may-10/2026-05-10/
END:VEVENT
BEGIN:VEVENT
DTSTART;TZID=America/Los_Angeles:20260513T120000
DTEND;TZID=America/Los_Angeles:20260513T140000
DTSTAMP:20260424T090632
CREATED:20260211T225552Z
LAST-MODIFIED:20260217T164458Z
UID:10000335-1778673600-1778680800@www.foodcyclela.org
SUMMARY:FoodCycle x Home of Kings and Queens
DESCRIPTION:Home of Kings & Queens and FoodCycle join forces to serve our community through recurring food distributions that center dignity and access. Each distribution provides rescued fresh produce and essential groceries to families affected by the Eaton Fires and experiencing food insecurity. This partnership reflects our belief that every neighbor deserves to be treated like royalty! \nEmail: Homekings13@gmail.com to volunteer and confirm date/location/times
URL:https://www.foodcyclela.org/event/foodcycle-x-home-of-kings-and-queens/2026-05-13/
ATTACH;FMTTYPE=image/jpeg:https://www.foodcyclela.org/wp-content/uploads/2026/02/images.jpeg
END:VEVENT
BEGIN:VEVENT
DTSTART;TZID=America/Los_Angeles:20260515T110000
DTEND;TZID=America/Los_Angeles:20260515T130000
DTSTAMP:20260424T090632
CREATED:20250812T211406Z
LAST-MODIFIED:20250812T211642Z
UID:10000073-1778842800-1778850000@www.foodcyclela.org
SUMMARY:FoodCycle X Love the City Center
DESCRIPTION:Foodcycle has partnered with Love the City Center to help provide food for our communities people in need. \nEvery Friday from 11am-1pm \nWeekly free food giveaway serving our low income community. \nQuality foods generously donated by Erewhon\, Trader Joes\, Whole Foods\, Costco\, and other supermarkets. \n3979 Tilden Avenue\nCulver City CA\, 90232 \nWant to volunteer?  \nSign up Here! https://www.lovethecitycenter.org/volunteer
URL:https://www.foodcyclela.org/event/foodcycle-x-love-the-city-center/2026-05-15/
ATTACH;FMTTYPE=image/png:https://www.foodcyclela.org/wp-content/uploads/2025/05/download.png
END:VEVENT
BEGIN:VEVENT
DTSTART;TZID=America/Los_Angeles:20260520T120000
DTEND;TZID=America/Los_Angeles:20260520T140000
DTSTAMP:20260424T090632
CREATED:20260211T225552Z
LAST-MODIFIED:20260217T164458Z
UID:10000336-1779278400-1779285600@www.foodcyclela.org
SUMMARY:FoodCycle x Home of Kings and Queens
DESCRIPTION:Home of Kings & Queens and FoodCycle join forces to serve our community through recurring food distributions that center dignity and access. Each distribution provides rescued fresh produce and essential groceries to families affected by the Eaton Fires and experiencing food insecurity. This partnership reflects our belief that every neighbor deserves to be treated like royalty! \nEmail: Homekings13@gmail.com to volunteer and confirm date/location/times
URL:https://www.foodcyclela.org/event/foodcycle-x-home-of-kings-and-queens/2026-05-20/
ATTACH;FMTTYPE=image/jpeg:https://www.foodcyclela.org/wp-content/uploads/2026/02/images.jpeg
END:VEVENT
BEGIN:VEVENT
DTSTART;TZID=America/Los_Angeles:20260522T110000
DTEND;TZID=America/Los_Angeles:20260522T130000
DTSTAMP:20260424T090632
CREATED:20250812T211406Z
LAST-MODIFIED:20250812T211642Z
UID:10000074-1779447600-1779454800@www.foodcyclela.org
SUMMARY:FoodCycle X Love the City Center
DESCRIPTION:Foodcycle has partnered with Love the City Center to help provide food for our communities people in need. \nEvery Friday from 11am-1pm \nWeekly free food giveaway serving our low income community. \nQuality foods generously donated by Erewhon\, Trader Joes\, Whole Foods\, Costco\, and other supermarkets. \n3979 Tilden Avenue\nCulver City CA\, 90232 \nWant to volunteer?  \nSign up Here! https://www.lovethecitycenter.org/volunteer
URL:https://www.foodcyclela.org/event/foodcycle-x-love-the-city-center/2026-05-22/
ATTACH;FMTTYPE=image/png:https://www.foodcyclela.org/wp-content/uploads/2025/05/download.png
END:VEVENT
BEGIN:VEVENT
DTSTART;VALUE=DATE:20260525
DTEND;VALUE=DATE:20260526
DTSTAMP:20260424T090632
CREATED:20260212T002045Z
LAST-MODIFIED:20260212T002045Z
UID:10000651-1779667200-1779753599@www.foodcyclela.org
SUMMARY:Memorial Day (May 25)
DESCRIPTION:Memorial Day honors the service members who gave their lives in service to our country. As we reflect on sacrifice and commitment\, we also reaffirm our dedication to serving our communities with care and purpose. At FoodCycle\, service means showing up consistently to ensure families have access to nutritious food and support.
URL:https://www.foodcyclela.org/event/memorial-day-may-25/2026-05-25/
END:VEVENT
BEGIN:VEVENT
DTSTART;TZID=America/Los_Angeles:20260527T120000
DTEND;TZID=America/Los_Angeles:20260527T140000
DTSTAMP:20260424T090632
CREATED:20260211T225552Z
LAST-MODIFIED:20260217T164458Z
UID:10000337-1779883200-1779890400@www.foodcyclela.org
SUMMARY:FoodCycle x Home of Kings and Queens
DESCRIPTION:Home of Kings & Queens and FoodCycle join forces to serve our community through recurring food distributions that center dignity and access. Each distribution provides rescued fresh produce and essential groceries to families affected by the Eaton Fires and experiencing food insecurity. This partnership reflects our belief that every neighbor deserves to be treated like royalty! \nEmail: Homekings13@gmail.com to volunteer and confirm date/location/times
URL:https://www.foodcyclela.org/event/foodcycle-x-home-of-kings-and-queens/2026-05-27/
ATTACH;FMTTYPE=image/jpeg:https://www.foodcyclela.org/wp-content/uploads/2026/02/images.jpeg
END:VEVENT
BEGIN:VEVENT
DTSTART;VALUE=DATE:20260528
DTEND;VALUE=DATE:20260529
DTSTAMP:20260424T090632
CREATED:20260212T002413Z
LAST-MODIFIED:20260212T002413Z
UID:10000661-1779926400-1780012799@www.foodcyclela.org
SUMMARY:World Hunger Day (May 28)
DESCRIPTION:World Hunger Day brings global attention to food insecurity and sustainable solutions to hunger. Millions of people face hunger despite abundant food resources. FoodCycle addresses this gap by rescuing surplus food and redistributing it to families in need\, reducing waste while strengthening food access. Ending hunger requires community-driven\, sustainable action — and we are proud to be part of that solution.
URL:https://www.foodcyclela.org/event/world-hunger-day-may-28/2026-05-28/
END:VEVENT
BEGIN:VEVENT
DTSTART;TZID=America/Los_Angeles:20260529T110000
DTEND;TZID=America/Los_Angeles:20260529T130000
DTSTAMP:20260424T090632
CREATED:20250812T211406Z
LAST-MODIFIED:20250812T211642Z
UID:10000075-1780052400-1780059600@www.foodcyclela.org
SUMMARY:FoodCycle X Love the City Center
DESCRIPTION:Foodcycle has partnered with Love the City Center to help provide food for our communities people in need. \nEvery Friday from 11am-1pm \nWeekly free food giveaway serving our low income community. \nQuality foods generously donated by Erewhon\, Trader Joes\, Whole Foods\, Costco\, and other supermarkets. \n3979 Tilden Avenue\nCulver City CA\, 90232 \nWant to volunteer?  \nSign up Here! https://www.lovethecitycenter.org/volunteer
URL:https://www.foodcyclela.org/event/foodcycle-x-love-the-city-center/2026-05-29/
ATTACH;FMTTYPE=image/png:https://www.foodcyclela.org/wp-content/uploads/2025/05/download.png
END:VEVENT
END:VCALENDAR