BEGIN:VCALENDAR
VERSION:2.0
PRODID:-//FoodCycle - ECPv6.15.20//NONSGML v1.0//EN
CALSCALE:GREGORIAN
METHOD:PUBLISH
X-WR-CALNAME:FoodCycle
X-ORIGINAL-URL:https://www.foodcyclela.org
X-WR-CALDESC:Events for FoodCycle
REFRESH-INTERVAL;VALUE=DURATION:PT1H
X-Robots-Tag:noindex
X-PUBLISHED-TTL:PT1H
BEGIN:VTIMEZONE
TZID:America/Los_Angeles
BEGIN:DAYLIGHT
TZOFFSETFROM:-0800
TZOFFSETTO:-0700
TZNAME:PDT
DTSTART:20250309T100000
END:DAYLIGHT
BEGIN:STANDARD
TZOFFSETFROM:-0700
TZOFFSETTO:-0800
TZNAME:PST
DTSTART:20251102T090000
END:STANDARD
BEGIN:DAYLIGHT
TZOFFSETFROM:-0800
TZOFFSETTO:-0700
TZNAME:PDT
DTSTART:20260308T100000
END:DAYLIGHT
BEGIN:STANDARD
TZOFFSETFROM:-0700
TZOFFSETTO:-0800
TZNAME:PST
DTSTART:20261101T090000
END:STANDARD
BEGIN:DAYLIGHT
TZOFFSETFROM:-0800
TZOFFSETTO:-0700
TZNAME:PDT
DTSTART:20270314T100000
END:DAYLIGHT
BEGIN:STANDARD
TZOFFSETFROM:-0700
TZOFFSETTO:-0800
TZNAME:PST
DTSTART:20271107T090000
END:STANDARD
END:VTIMEZONE
BEGIN:VEVENT
DTSTART;VALUE=DATE:20260701
DTEND;VALUE=DATE:20260801
DTSTAMP:20260424T120516
CREATED:20260212T215242Z
LAST-MODIFIED:20260212T215242Z
UID:10000701-1782864000-1785542399@www.foodcyclela.org
SUMMARY:National Picnic Month
DESCRIPTION:National Picnic Month celebrates gathering outdoors and sharing meals with family and friends. Food has always brought communities together. We believe everyone deserves to participate in moments of connection and joy around food. By rescuing surplus meals and supporting distributions throughout the summer\, we help ensure more families can share in the simple pleasure of a meal together.
URL:https://www.foodcyclela.org/event/national-picnic-month/2026-07-01/
END:VEVENT
BEGIN:VEVENT
DTSTART;TZID=America/Los_Angeles:20260701T120000
DTEND;TZID=America/Los_Angeles:20260701T140000
DTSTAMP:20260424T120516
CREATED:20260211T225552Z
LAST-MODIFIED:20260217T164458Z
UID:10000342-1782907200-1782914400@www.foodcyclela.org
SUMMARY:FoodCycle x Home of Kings and Queens
DESCRIPTION:Home of Kings & Queens and FoodCycle join forces to serve our community through recurring food distributions that center dignity and access. Each distribution provides rescued fresh produce and essential groceries to families affected by the Eaton Fires and experiencing food insecurity. This partnership reflects our belief that every neighbor deserves to be treated like royalty! \nEmail: Homekings13@gmail.com to volunteer and confirm date/location/times
URL:https://www.foodcyclela.org/event/foodcycle-x-home-of-kings-and-queens/2026-07-01/
ATTACH;FMTTYPE=image/jpeg:https://www.foodcyclela.org/wp-content/uploads/2026/02/images.jpeg
END:VEVENT
BEGIN:VEVENT
DTSTART;TZID=America/Los_Angeles:20260703T110000
DTEND;TZID=America/Los_Angeles:20260703T130000
DTSTAMP:20260424T120516
CREATED:20250812T211406Z
LAST-MODIFIED:20250812T211642Z
UID:10000080-1783076400-1783083600@www.foodcyclela.org
SUMMARY:FoodCycle X Love the City Center
DESCRIPTION:Foodcycle has partnered with Love the City Center to help provide food for our communities people in need. \nEvery Friday from 11am-1pm \nWeekly free food giveaway serving our low income community. \nQuality foods generously donated by Erewhon\, Trader Joes\, Whole Foods\, Costco\, and other supermarkets. \n3979 Tilden Avenue\nCulver City CA\, 90232 \nWant to volunteer?  \nSign up Here! https://www.lovethecitycenter.org/volunteer
URL:https://www.foodcyclela.org/event/foodcycle-x-love-the-city-center/2026-07-03/
ATTACH;FMTTYPE=image/png:https://www.foodcyclela.org/wp-content/uploads/2025/05/download.png
END:VEVENT
BEGIN:VEVENT
DTSTART;VALUE=DATE:20260704
DTEND;VALUE=DATE:20260705
DTSTAMP:20260424T120516
CREATED:20260212T214951Z
LAST-MODIFIED:20260212T214951Z
UID:10000691-1783123200-1783209599@www.foodcyclela.org
SUMMARY:Independence Day (July 4) 🇺🇸
DESCRIPTION:Independence Day celebrates freedom and the founding ideals of opportunity and equality. True independence includes access to basic needs — including nutritious food and stable housing. At FoodCycle\, we work toward a future where freedom means no family has to choose between food and other essentials. By rescuing surplus food and redistributing it to communities experiencing food insecurity\, we help strengthen independence through dignity and access.
URL:https://www.foodcyclela.org/event/independence-day-july-4-%f0%9f%87%ba%f0%9f%87%b8/2026-07-04/
END:VEVENT
BEGIN:VEVENT
DTSTART;TZID=America/Los_Angeles:20260708T120000
DTEND;TZID=America/Los_Angeles:20260708T140000
DTSTAMP:20260424T120516
CREATED:20260211T225552Z
LAST-MODIFIED:20260217T164458Z
UID:10000343-1783512000-1783519200@www.foodcyclela.org
SUMMARY:FoodCycle x Home of Kings and Queens
DESCRIPTION:Home of Kings & Queens and FoodCycle join forces to serve our community through recurring food distributions that center dignity and access. Each distribution provides rescued fresh produce and essential groceries to families affected by the Eaton Fires and experiencing food insecurity. This partnership reflects our belief that every neighbor deserves to be treated like royalty! \nEmail: Homekings13@gmail.com to volunteer and confirm date/location/times
URL:https://www.foodcyclela.org/event/foodcycle-x-home-of-kings-and-queens/2026-07-08/
ATTACH;FMTTYPE=image/jpeg:https://www.foodcyclela.org/wp-content/uploads/2026/02/images.jpeg
END:VEVENT
BEGIN:VEVENT
DTSTART;TZID=America/Los_Angeles:20260710T110000
DTEND;TZID=America/Los_Angeles:20260710T130000
DTSTAMP:20260424T120516
CREATED:20250812T211406Z
LAST-MODIFIED:20250812T211642Z
UID:10000081-1783681200-1783688400@www.foodcyclela.org
SUMMARY:FoodCycle X Love the City Center
DESCRIPTION:Foodcycle has partnered with Love the City Center to help provide food for our communities people in need. \nEvery Friday from 11am-1pm \nWeekly free food giveaway serving our low income community. \nQuality foods generously donated by Erewhon\, Trader Joes\, Whole Foods\, Costco\, and other supermarkets. \n3979 Tilden Avenue\nCulver City CA\, 90232 \nWant to volunteer?  \nSign up Here! https://www.lovethecitycenter.org/volunteer
URL:https://www.foodcyclela.org/event/foodcycle-x-love-the-city-center/2026-07-10/
ATTACH;FMTTYPE=image/png:https://www.foodcyclela.org/wp-content/uploads/2025/05/download.png
END:VEVENT
BEGIN:VEVENT
DTSTART;VALUE=DATE:20260711
DTEND;VALUE=DATE:20260712
DTSTAMP:20260424T120516
CREATED:20260212T215134Z
LAST-MODIFIED:20260212T215134Z
UID:10000696-1783728000-1783814399@www.foodcyclela.org
SUMMARY:World Population Day (July 11 – UN)
DESCRIPTION:World Population Day highlights global population growth and the need for sustainable resource management. As communities grow\, equitable food systems become increasingly critical. FoodCycle addresses the imbalance between food waste and food insecurity by redirecting surplus food to families in need. Sustainable food recovery supports both present communities and future generations\, ensuring resources are used responsibly and equitably.
URL:https://www.foodcyclela.org/event/world-population-day-july-11-un/2026-07-11/
END:VEVENT
BEGIN:VEVENT
DTSTART;TZID=America/Los_Angeles:20260715T120000
DTEND;TZID=America/Los_Angeles:20260715T140000
DTSTAMP:20260424T120516
CREATED:20260211T225552Z
LAST-MODIFIED:20260217T164458Z
UID:10000344-1784116800-1784124000@www.foodcyclela.org
SUMMARY:FoodCycle x Home of Kings and Queens
DESCRIPTION:Home of Kings & Queens and FoodCycle join forces to serve our community through recurring food distributions that center dignity and access. Each distribution provides rescued fresh produce and essential groceries to families affected by the Eaton Fires and experiencing food insecurity. This partnership reflects our belief that every neighbor deserves to be treated like royalty! \nEmail: Homekings13@gmail.com to volunteer and confirm date/location/times
URL:https://www.foodcyclela.org/event/foodcycle-x-home-of-kings-and-queens/2026-07-15/
ATTACH;FMTTYPE=image/jpeg:https://www.foodcyclela.org/wp-content/uploads/2026/02/images.jpeg
END:VEVENT
BEGIN:VEVENT
DTSTART;TZID=America/Los_Angeles:20260717T110000
DTEND;TZID=America/Los_Angeles:20260717T130000
DTSTAMP:20260424T120516
CREATED:20250812T211406Z
LAST-MODIFIED:20250812T211642Z
UID:10000082-1784286000-1784293200@www.foodcyclela.org
SUMMARY:FoodCycle X Love the City Center
DESCRIPTION:Foodcycle has partnered with Love the City Center to help provide food for our communities people in need. \nEvery Friday from 11am-1pm \nWeekly free food giveaway serving our low income community. \nQuality foods generously donated by Erewhon\, Trader Joes\, Whole Foods\, Costco\, and other supermarkets. \n3979 Tilden Avenue\nCulver City CA\, 90232 \nWant to volunteer?  \nSign up Here! https://www.lovethecitycenter.org/volunteer
URL:https://www.foodcyclela.org/event/foodcycle-x-love-the-city-center/2026-07-17/
ATTACH;FMTTYPE=image/png:https://www.foodcyclela.org/wp-content/uploads/2025/05/download.png
END:VEVENT
BEGIN:VEVENT
DTSTART;TZID=America/Los_Angeles:20260722T120000
DTEND;TZID=America/Los_Angeles:20260722T140000
DTSTAMP:20260424T120516
CREATED:20260211T225552Z
LAST-MODIFIED:20260217T164458Z
UID:10000345-1784721600-1784728800@www.foodcyclela.org
SUMMARY:FoodCycle x Home of Kings and Queens
DESCRIPTION:Home of Kings & Queens and FoodCycle join forces to serve our community through recurring food distributions that center dignity and access. Each distribution provides rescued fresh produce and essential groceries to families affected by the Eaton Fires and experiencing food insecurity. This partnership reflects our belief that every neighbor deserves to be treated like royalty! \nEmail: Homekings13@gmail.com to volunteer and confirm date/location/times
URL:https://www.foodcyclela.org/event/foodcycle-x-home-of-kings-and-queens/2026-07-22/
ATTACH;FMTTYPE=image/jpeg:https://www.foodcyclela.org/wp-content/uploads/2026/02/images.jpeg
END:VEVENT
BEGIN:VEVENT
DTSTART;TZID=America/Los_Angeles:20260724T110000
DTEND;TZID=America/Los_Angeles:20260724T130000
DTSTAMP:20260424T120516
CREATED:20250812T211406Z
LAST-MODIFIED:20250812T211642Z
UID:10000083-1784890800-1784898000@www.foodcyclela.org
SUMMARY:FoodCycle X Love the City Center
DESCRIPTION:Foodcycle has partnered with Love the City Center to help provide food for our communities people in need. \nEvery Friday from 11am-1pm \nWeekly free food giveaway serving our low income community. \nQuality foods generously donated by Erewhon\, Trader Joes\, Whole Foods\, Costco\, and other supermarkets. \n3979 Tilden Avenue\nCulver City CA\, 90232 \nWant to volunteer?  \nSign up Here! https://www.lovethecitycenter.org/volunteer
URL:https://www.foodcyclela.org/event/foodcycle-x-love-the-city-center/2026-07-24/
ATTACH;FMTTYPE=image/png:https://www.foodcyclela.org/wp-content/uploads/2025/05/download.png
END:VEVENT
BEGIN:VEVENT
DTSTART;TZID=America/Los_Angeles:20260729T120000
DTEND;TZID=America/Los_Angeles:20260729T140000
DTSTAMP:20260424T120516
CREATED:20260211T225552Z
LAST-MODIFIED:20260217T164458Z
UID:10000346-1785326400-1785333600@www.foodcyclela.org
SUMMARY:FoodCycle x Home of Kings and Queens
DESCRIPTION:Home of Kings & Queens and FoodCycle join forces to serve our community through recurring food distributions that center dignity and access. Each distribution provides rescued fresh produce and essential groceries to families affected by the Eaton Fires and experiencing food insecurity. This partnership reflects our belief that every neighbor deserves to be treated like royalty! \nEmail: Homekings13@gmail.com to volunteer and confirm date/location/times
URL:https://www.foodcyclela.org/event/foodcycle-x-home-of-kings-and-queens/2026-07-29/
ATTACH;FMTTYPE=image/jpeg:https://www.foodcyclela.org/wp-content/uploads/2026/02/images.jpeg
END:VEVENT
BEGIN:VEVENT
DTSTART;TZID=America/Los_Angeles:20260731T110000
DTEND;TZID=America/Los_Angeles:20260731T130000
DTSTAMP:20260424T120516
CREATED:20250812T211406Z
LAST-MODIFIED:20250812T211642Z
UID:10000084-1785495600-1785502800@www.foodcyclela.org
SUMMARY:FoodCycle X Love the City Center
DESCRIPTION:Foodcycle has partnered with Love the City Center to help provide food for our communities people in need. \nEvery Friday from 11am-1pm \nWeekly free food giveaway serving our low income community. \nQuality foods generously donated by Erewhon\, Trader Joes\, Whole Foods\, Costco\, and other supermarkets. \n3979 Tilden Avenue\nCulver City CA\, 90232 \nWant to volunteer?  \nSign up Here! https://www.lovethecitycenter.org/volunteer
URL:https://www.foodcyclela.org/event/foodcycle-x-love-the-city-center/2026-07-31/
ATTACH;FMTTYPE=image/png:https://www.foodcyclela.org/wp-content/uploads/2025/05/download.png
END:VEVENT
END:VCALENDAR