BEGIN:VCALENDAR
VERSION:2.0
PRODID:-//FoodCycle - ECPv6.15.20//NONSGML v1.0//EN
CALSCALE:GREGORIAN
METHOD:PUBLISH
X-WR-CALNAME:FoodCycle
X-ORIGINAL-URL:https://www.foodcyclela.org
X-WR-CALDESC:Events for FoodCycle
REFRESH-INTERVAL;VALUE=DURATION:PT1H
X-Robots-Tag:noindex
X-PUBLISHED-TTL:PT1H
BEGIN:VTIMEZONE
TZID:America/Los_Angeles
BEGIN:DAYLIGHT
TZOFFSETFROM:-0800
TZOFFSETTO:-0700
TZNAME:PDT
DTSTART:20250309T100000
END:DAYLIGHT
BEGIN:STANDARD
TZOFFSETFROM:-0700
TZOFFSETTO:-0800
TZNAME:PST
DTSTART:20251102T090000
END:STANDARD
BEGIN:DAYLIGHT
TZOFFSETFROM:-0800
TZOFFSETTO:-0700
TZNAME:PDT
DTSTART:20260308T100000
END:DAYLIGHT
BEGIN:STANDARD
TZOFFSETFROM:-0700
TZOFFSETTO:-0800
TZNAME:PST
DTSTART:20261101T090000
END:STANDARD
BEGIN:DAYLIGHT
TZOFFSETFROM:-0800
TZOFFSETTO:-0700
TZNAME:PDT
DTSTART:20270314T100000
END:DAYLIGHT
BEGIN:STANDARD
TZOFFSETFROM:-0700
TZOFFSETTO:-0800
TZNAME:PST
DTSTART:20271107T090000
END:STANDARD
END:VTIMEZONE
BEGIN:VEVENT
DTSTART;VALUE=DATE:20260801
DTEND;VALUE=DATE:20260901
DTSTAMP:20260424T134513
CREATED:20260212T221352Z
LAST-MODIFIED:20260212T221352Z
UID:10000706-1785542400-1788220799@www.foodcyclela.org
SUMMARY:National Back to School Month
DESCRIPTION:Backpacks get packed. Schedules return. Classrooms fill.\nBut learning requires more than pencils and paper — it requires nourishment. Food insecurity disrupts focus\, attendance\, and long-term academic outcomes. Ensuring students have consistent access to healthy meals strengthens not just report cards\, but futures.
URL:https://www.foodcyclela.org/event/national-back-to-school-month/2026-08-01/
END:VEVENT
BEGIN:VEVENT
DTSTART;VALUE=DATE:20260801
DTEND;VALUE=DATE:20260901
DTSTAMP:20260424T134513
CREATED:20260212T221522Z
LAST-MODIFIED:20260212T221522Z
UID:10000711-1785542400-1788220799@www.foodcyclela.org
SUMMARY:🌿 National Wellness Month
DESCRIPTION:Wellness is not a luxury routine — it’s stability. It’s access to fresh food\, clean air\, and supportive systems. Thriving communities are built on environments where both bodies and minds are supported. Healthy food access is one of the simplest and most powerful foundations of long-term well-being.
URL:https://www.foodcyclela.org/event/%f0%9f%8c%bf-national-wellness-month/2026-08-01/
END:VEVENT
BEGIN:VEVENT
DTSTART;TZID=America/Los_Angeles:20260805T120000
DTEND;TZID=America/Los_Angeles:20260805T140000
DTSTAMP:20260424T134513
CREATED:20260211T225552Z
LAST-MODIFIED:20260217T164458Z
UID:10000347-1785931200-1785938400@www.foodcyclela.org
SUMMARY:FoodCycle x Home of Kings and Queens
DESCRIPTION:Home of Kings & Queens and FoodCycle join forces to serve our community through recurring food distributions that center dignity and access. Each distribution provides rescued fresh produce and essential groceries to families affected by the Eaton Fires and experiencing food insecurity. This partnership reflects our belief that every neighbor deserves to be treated like royalty! \nEmail: Homekings13@gmail.com to volunteer and confirm date/location/times
URL:https://www.foodcyclela.org/event/foodcycle-x-home-of-kings-and-queens/2026-08-05/
ATTACH;FMTTYPE=image/jpeg:https://www.foodcyclela.org/wp-content/uploads/2026/02/images.jpeg
END:VEVENT
BEGIN:VEVENT
DTSTART;VALUE=DATE:20260807
DTEND;VALUE=DATE:20260808
DTSTAMP:20260424T134513
CREATED:20260212T221808Z
LAST-MODIFIED:20260212T221808Z
UID:10000731-1786060800-1786147199@www.foodcyclela.org
SUMMARY:🇺🇸 Labor Day (Sept 7\, 2026)
DESCRIPTION:Labor Day recognizes the workers who keep communities running — including nonprofit teams\, warehouse crews\, drivers\, and volunteers whose behind-the-scenes efforts ensure food reaches families. Essential work often goes unseen\, yet its impact is felt daily.
URL:https://www.foodcyclela.org/event/%f0%9f%87%ba%f0%9f%87%b8-labor-day-sept-7-2026/2026-08-07/
END:VEVENT
BEGIN:VEVENT
DTSTART;TZID=America/Los_Angeles:20260807T110000
DTEND;TZID=America/Los_Angeles:20260807T130000
DTSTAMP:20260424T134513
CREATED:20250812T211406Z
LAST-MODIFIED:20250812T211642Z
UID:10000085-1786100400-1786107600@www.foodcyclela.org
SUMMARY:FoodCycle X Love the City Center
DESCRIPTION:Foodcycle has partnered with Love the City Center to help provide food for our communities people in need. \nEvery Friday from 11am-1pm \nWeekly free food giveaway serving our low income community. \nQuality foods generously donated by Erewhon\, Trader Joes\, Whole Foods\, Costco\, and other supermarkets. \n3979 Tilden Avenue\nCulver City CA\, 90232 \nWant to volunteer?  \nSign up Here! https://www.lovethecitycenter.org/volunteer
URL:https://www.foodcyclela.org/event/foodcycle-x-love-the-city-center/2026-08-07/
ATTACH;FMTTYPE=image/png:https://www.foodcyclela.org/wp-content/uploads/2025/05/download.png
END:VEVENT
BEGIN:VEVENT
DTSTART;VALUE=DATE:20260812
DTEND;VALUE=DATE:20260813
DTSTAMP:20260424T134513
CREATED:20260212T221609Z
LAST-MODIFIED:20260212T221609Z
UID:10000716-1786492800-1786579199@www.foodcyclela.org
SUMMARY:🌍 International Youth Day (Aug 12 – UN)
DESCRIPTION:Young people are shaping conversations around climate\, equity\, and justice. Their leadership reminds us that sustainability is intergenerational work. Investing in youth-driven solutions strengthens community resilience and builds a future grounded in environmental responsibility and shared opportunity.
URL:https://www.foodcyclela.org/event/%f0%9f%8c%8d-international-youth-day-aug-12-un/2026-08-12/
END:VEVENT
BEGIN:VEVENT
DTSTART;TZID=America/Los_Angeles:20260812T120000
DTEND;TZID=America/Los_Angeles:20260812T140000
DTSTAMP:20260424T134513
CREATED:20260211T225552Z
LAST-MODIFIED:20260217T164458Z
UID:10000348-1786536000-1786543200@www.foodcyclela.org
SUMMARY:FoodCycle x Home of Kings and Queens
DESCRIPTION:Home of Kings & Queens and FoodCycle join forces to serve our community through recurring food distributions that center dignity and access. Each distribution provides rescued fresh produce and essential groceries to families affected by the Eaton Fires and experiencing food insecurity. This partnership reflects our belief that every neighbor deserves to be treated like royalty! \nEmail: Homekings13@gmail.com to volunteer and confirm date/location/times
URL:https://www.foodcyclela.org/event/foodcycle-x-home-of-kings-and-queens/2026-08-12/
ATTACH;FMTTYPE=image/jpeg:https://www.foodcyclela.org/wp-content/uploads/2026/02/images.jpeg
END:VEVENT
BEGIN:VEVENT
DTSTART;TZID=America/Los_Angeles:20260814T110000
DTEND;TZID=America/Los_Angeles:20260814T130000
DTSTAMP:20260424T134513
CREATED:20250812T211406Z
LAST-MODIFIED:20250812T211642Z
UID:10000086-1786705200-1786712400@www.foodcyclela.org
SUMMARY:FoodCycle X Love the City Center
DESCRIPTION:Foodcycle has partnered with Love the City Center to help provide food for our communities people in need. \nEvery Friday from 11am-1pm \nWeekly free food giveaway serving our low income community. \nQuality foods generously donated by Erewhon\, Trader Joes\, Whole Foods\, Costco\, and other supermarkets. \n3979 Tilden Avenue\nCulver City CA\, 90232 \nWant to volunteer?  \nSign up Here! https://www.lovethecitycenter.org/volunteer
URL:https://www.foodcyclela.org/event/foodcycle-x-love-the-city-center/2026-08-14/
ATTACH;FMTTYPE=image/png:https://www.foodcyclela.org/wp-content/uploads/2025/05/download.png
END:VEVENT
BEGIN:VEVENT
DTSTART;TZID=America/Los_Angeles:20260819T120000
DTEND;TZID=America/Los_Angeles:20260819T140000
DTSTAMP:20260424T134513
CREATED:20260211T225552Z
LAST-MODIFIED:20260217T164458Z
UID:10000349-1787140800-1787148000@www.foodcyclela.org
SUMMARY:FoodCycle x Home of Kings and Queens
DESCRIPTION:Home of Kings & Queens and FoodCycle join forces to serve our community through recurring food distributions that center dignity and access. Each distribution provides rescued fresh produce and essential groceries to families affected by the Eaton Fires and experiencing food insecurity. This partnership reflects our belief that every neighbor deserves to be treated like royalty! \nEmail: Homekings13@gmail.com to volunteer and confirm date/location/times
URL:https://www.foodcyclela.org/event/foodcycle-x-home-of-kings-and-queens/2026-08-19/
ATTACH;FMTTYPE=image/jpeg:https://www.foodcyclela.org/wp-content/uploads/2026/02/images.jpeg
END:VEVENT
BEGIN:VEVENT
DTSTART;TZID=America/Los_Angeles:20260821T110000
DTEND;TZID=America/Los_Angeles:20260821T130000
DTSTAMP:20260424T134513
CREATED:20250812T211406Z
LAST-MODIFIED:20250812T211642Z
UID:10000087-1787310000-1787317200@www.foodcyclela.org
SUMMARY:FoodCycle X Love the City Center
DESCRIPTION:Foodcycle has partnered with Love the City Center to help provide food for our communities people in need. \nEvery Friday from 11am-1pm \nWeekly free food giveaway serving our low income community. \nQuality foods generously donated by Erewhon\, Trader Joes\, Whole Foods\, Costco\, and other supermarkets. \n3979 Tilden Avenue\nCulver City CA\, 90232 \nWant to volunteer?  \nSign up Here! https://www.lovethecitycenter.org/volunteer
URL:https://www.foodcyclela.org/event/foodcycle-x-love-the-city-center/2026-08-21/
ATTACH;FMTTYPE=image/png:https://www.foodcyclela.org/wp-content/uploads/2025/05/download.png
END:VEVENT
BEGIN:VEVENT
DTSTART;VALUE=DATE:20260826
DTEND;VALUE=DATE:20260827
DTSTAMP:20260424T134513
CREATED:20260212T221652Z
LAST-MODIFIED:20260212T221652Z
UID:10000721-1787702400-1787788799@www.foodcyclela.org
SUMMARY:🐕 National Dog Day (Aug 26)
DESCRIPTION:Pets are family — especially for households navigating financial strain. Food insecurity can impact the whole household\, including animals. Highlighting pet food access and compassionate care acknowledges the full picture of community well-being.
URL:https://www.foodcyclela.org/event/%f0%9f%90%95-national-dog-day-aug-26/2026-08-26/
END:VEVENT
BEGIN:VEVENT
DTSTART;TZID=America/Los_Angeles:20260826T120000
DTEND;TZID=America/Los_Angeles:20260826T140000
DTSTAMP:20260424T134513
CREATED:20260211T225552Z
LAST-MODIFIED:20260217T164458Z
UID:10000350-1787745600-1787752800@www.foodcyclela.org
SUMMARY:FoodCycle x Home of Kings and Queens
DESCRIPTION:Home of Kings & Queens and FoodCycle join forces to serve our community through recurring food distributions that center dignity and access. Each distribution provides rescued fresh produce and essential groceries to families affected by the Eaton Fires and experiencing food insecurity. This partnership reflects our belief that every neighbor deserves to be treated like royalty! \nEmail: Homekings13@gmail.com to volunteer and confirm date/location/times
URL:https://www.foodcyclela.org/event/foodcycle-x-home-of-kings-and-queens/2026-08-26/
ATTACH;FMTTYPE=image/jpeg:https://www.foodcyclela.org/wp-content/uploads/2026/02/images.jpeg
END:VEVENT
BEGIN:VEVENT
DTSTART;TZID=America/Los_Angeles:20260828T110000
DTEND;TZID=America/Los_Angeles:20260828T130000
DTSTAMP:20260424T134513
CREATED:20250812T211406Z
LAST-MODIFIED:20250812T211642Z
UID:10000088-1787914800-1787922000@www.foodcyclela.org
SUMMARY:FoodCycle X Love the City Center
DESCRIPTION:Foodcycle has partnered with Love the City Center to help provide food for our communities people in need. \nEvery Friday from 11am-1pm \nWeekly free food giveaway serving our low income community. \nQuality foods generously donated by Erewhon\, Trader Joes\, Whole Foods\, Costco\, and other supermarkets. \n3979 Tilden Avenue\nCulver City CA\, 90232 \nWant to volunteer?  \nSign up Here! https://www.lovethecitycenter.org/volunteer
URL:https://www.foodcyclela.org/event/foodcycle-x-love-the-city-center/2026-08-28/
ATTACH;FMTTYPE=image/png:https://www.foodcyclela.org/wp-content/uploads/2025/05/download.png
END:VEVENT
END:VCALENDAR