BEGIN:VCALENDAR
VERSION:2.0
PRODID:-//FoodCycle - ECPv6.15.20//NONSGML v1.0//EN
CALSCALE:GREGORIAN
METHOD:PUBLISH
X-WR-CALNAME:FoodCycle
X-ORIGINAL-URL:https://www.foodcyclela.org
X-WR-CALDESC:Events for FoodCycle
REFRESH-INTERVAL;VALUE=DURATION:PT1H
X-Robots-Tag:noindex
X-PUBLISHED-TTL:PT1H
BEGIN:VTIMEZONE
TZID:America/Los_Angeles
BEGIN:DAYLIGHT
TZOFFSETFROM:-0800
TZOFFSETTO:-0700
TZNAME:PDT
DTSTART:20250309T100000
END:DAYLIGHT
BEGIN:STANDARD
TZOFFSETFROM:-0700
TZOFFSETTO:-0800
TZNAME:PST
DTSTART:20251102T090000
END:STANDARD
BEGIN:DAYLIGHT
TZOFFSETFROM:-0800
TZOFFSETTO:-0700
TZNAME:PDT
DTSTART:20260308T100000
END:DAYLIGHT
BEGIN:STANDARD
TZOFFSETFROM:-0700
TZOFFSETTO:-0800
TZNAME:PST
DTSTART:20261101T090000
END:STANDARD
BEGIN:DAYLIGHT
TZOFFSETFROM:-0800
TZOFFSETTO:-0700
TZNAME:PDT
DTSTART:20270314T100000
END:DAYLIGHT
BEGIN:STANDARD
TZOFFSETFROM:-0700
TZOFFSETTO:-0800
TZNAME:PST
DTSTART:20271107T090000
END:STANDARD
END:VTIMEZONE
BEGIN:VEVENT
DTSTART;VALUE=DATE:20261001
DTEND;VALUE=DATE:20261101
DTSTAMP:20260424T165233
CREATED:20260212T223107Z
LAST-MODIFIED:20260212T223107Z
UID:10000766-1790812800-1793491199@www.foodcyclela.org
SUMMARY:🥕 National Vegetarian Month
DESCRIPTION:Plant-based meals can support both environmental sustainability and community health. Highlighting seasonal produce and balanced options reinforces the link between diet\, climate impact\, and long-term well-being.
URL:https://www.foodcyclela.org/event/%f0%9f%a5%95-national-vegetarian-month/2026-10-01/
END:VEVENT
BEGIN:VEVENT
DTSTART;TZID=America/Los_Angeles:20261002T110000
DTEND;TZID=America/Los_Angeles:20261002T130000
DTSTAMP:20260424T165233
CREATED:20250812T211406Z
LAST-MODIFIED:20250812T211642Z
UID:10000093-1790938800-1790946000@www.foodcyclela.org
SUMMARY:FoodCycle X Love the City Center
DESCRIPTION:Foodcycle has partnered with Love the City Center to help provide food for our communities people in need. \nEvery Friday from 11am-1pm \nWeekly free food giveaway serving our low income community. \nQuality foods generously donated by Erewhon\, Trader Joes\, Whole Foods\, Costco\, and other supermarkets. \n3979 Tilden Avenue\nCulver City CA\, 90232 \nWant to volunteer?  \nSign up Here! https://www.lovethecitycenter.org/volunteer
URL:https://www.foodcyclela.org/event/foodcycle-x-love-the-city-center/2026-10-02/
ATTACH;FMTTYPE=image/png:https://www.foodcyclela.org/wp-content/uploads/2025/05/download.png
END:VEVENT
BEGIN:VEVENT
DTSTART;TZID=America/Los_Angeles:20261007T120000
DTEND;TZID=America/Los_Angeles:20261007T140000
DTSTAMP:20260424T165233
CREATED:20260211T225552Z
LAST-MODIFIED:20260217T164458Z
UID:10000356-1791374400-1791381600@www.foodcyclela.org
SUMMARY:FoodCycle x Home of Kings and Queens
DESCRIPTION:Home of Kings & Queens and FoodCycle join forces to serve our community through recurring food distributions that center dignity and access. Each distribution provides rescued fresh produce and essential groceries to families affected by the Eaton Fires and experiencing food insecurity. This partnership reflects our belief that every neighbor deserves to be treated like royalty! \nEmail: Homekings13@gmail.com to volunteer and confirm date/location/times
URL:https://www.foodcyclela.org/event/foodcycle-x-home-of-kings-and-queens/2026-10-07/
ATTACH;FMTTYPE=image/jpeg:https://www.foodcyclela.org/wp-content/uploads/2026/02/images.jpeg
END:VEVENT
BEGIN:VEVENT
DTSTART;TZID=America/Los_Angeles:20261009T110000
DTEND;TZID=America/Los_Angeles:20261009T130000
DTSTAMP:20260424T165233
CREATED:20250812T211406Z
LAST-MODIFIED:20250812T211642Z
UID:10000094-1791543600-1791550800@www.foodcyclela.org
SUMMARY:FoodCycle X Love the City Center
DESCRIPTION:Foodcycle has partnered with Love the City Center to help provide food for our communities people in need. \nEvery Friday from 11am-1pm \nWeekly free food giveaway serving our low income community. \nQuality foods generously donated by Erewhon\, Trader Joes\, Whole Foods\, Costco\, and other supermarkets. \n3979 Tilden Avenue\nCulver City CA\, 90232 \nWant to volunteer?  \nSign up Here! https://www.lovethecitycenter.org/volunteer
URL:https://www.foodcyclela.org/event/foodcycle-x-love-the-city-center/2026-10-09/
ATTACH;FMTTYPE=image/png:https://www.foodcyclela.org/wp-content/uploads/2025/05/download.png
END:VEVENT
BEGIN:VEVENT
DTSTART;VALUE=DATE:20261010
DTEND;VALUE=DATE:20261011
DTSTAMP:20260424T165233
CREATED:20260212T223005Z
LAST-MODIFIED:20260212T223005Z
UID:10000761-1791590400-1791676799@www.foodcyclela.org
SUMMARY:🏠 World Homeless Day (Oct 10)
DESCRIPTION:Housing instability and food insecurity often intersect. Rising rents\, limited wages\, and climate stress intensify vulnerability. Addressing hunger requires acknowledging the broader systems impacting stability and shelter.
URL:https://www.foodcyclela.org/event/%f0%9f%8f%a0-world-homeless-day-oct-10/2026-10-10/
END:VEVENT
BEGIN:VEVENT
DTSTART;VALUE=DATE:20261012
DTEND;VALUE=DATE:20261013
DTSTAMP:20260424T165233
CREATED:20260212T224841Z
LAST-MODIFIED:20260212T224841Z
UID:10000822-1791763200-1791849599@www.foodcyclela.org
SUMMARY:🪶 Indigenous Peoples’ Day
DESCRIPTION:Indigenous Peoples’ Day recognizes the resilience\, cultures\, and leadership of Native communities. Long before modern food systems\, Indigenous peoples cultivated sustainable agricultural practices rooted in reciprocity\, land stewardship\, and community care. Food sovereignty — the right of people to define their own food systems — remains deeply connected to Indigenous knowledge. Reflecting on these traditions encourages more equitable\, sustainable approaches to nourishment and environmental responsibility today.
URL:https://www.foodcyclela.org/event/%f0%9f%aa%b6-indigenous-peoples-day/2026-10-12/
END:VEVENT
BEGIN:VEVENT
DTSTART;TZID=America/Los_Angeles:20261014T120000
DTEND;TZID=America/Los_Angeles:20261014T140000
DTSTAMP:20260424T165233
CREATED:20260211T225552Z
LAST-MODIFIED:20260217T164458Z
UID:10000357-1791979200-1791986400@www.foodcyclela.org
SUMMARY:FoodCycle x Home of Kings and Queens
DESCRIPTION:Home of Kings & Queens and FoodCycle join forces to serve our community through recurring food distributions that center dignity and access. Each distribution provides rescued fresh produce and essential groceries to families affected by the Eaton Fires and experiencing food insecurity. This partnership reflects our belief that every neighbor deserves to be treated like royalty! \nEmail: Homekings13@gmail.com to volunteer and confirm date/location/times
URL:https://www.foodcyclela.org/event/foodcycle-x-home-of-kings-and-queens/2026-10-14/
ATTACH;FMTTYPE=image/jpeg:https://www.foodcyclela.org/wp-content/uploads/2026/02/images.jpeg
END:VEVENT
BEGIN:VEVENT
DTSTART;VALUE=DATE:20261016
DTEND;VALUE=DATE:20261017
DTSTAMP:20260424T165233
CREATED:20260212T222925Z
LAST-MODIFIED:20260212T222925Z
UID:10000756-1792108800-1792195199@www.foodcyclela.org
SUMMARY:🌍 World Food Day (Oct 16 – UN)
DESCRIPTION:Food is not charity — it is a human right. World Food Day highlights global food systems and the responsibility to create sustainable\, equitable access. Nourishment sustains health\, dignity\, and opportunity across generations.
URL:https://www.foodcyclela.org/event/%f0%9f%8c%8d-world-food-day-oct-16-un/2026-10-16/
END:VEVENT
BEGIN:VEVENT
DTSTART;TZID=America/Los_Angeles:20261016T110000
DTEND;TZID=America/Los_Angeles:20261016T130000
DTSTAMP:20260424T165233
CREATED:20250812T211406Z
LAST-MODIFIED:20250812T211642Z
UID:10000095-1792148400-1792155600@www.foodcyclela.org
SUMMARY:FoodCycle X Love the City Center
DESCRIPTION:Foodcycle has partnered with Love the City Center to help provide food for our communities people in need. \nEvery Friday from 11am-1pm \nWeekly free food giveaway serving our low income community. \nQuality foods generously donated by Erewhon\, Trader Joes\, Whole Foods\, Costco\, and other supermarkets. \n3979 Tilden Avenue\nCulver City CA\, 90232 \nWant to volunteer?  \nSign up Here! https://www.lovethecitycenter.org/volunteer
URL:https://www.foodcyclela.org/event/foodcycle-x-love-the-city-center/2026-10-16/
ATTACH;FMTTYPE=image/png:https://www.foodcyclela.org/wp-content/uploads/2025/05/download.png
END:VEVENT
BEGIN:VEVENT
DTSTART;TZID=America/Los_Angeles:20261021T120000
DTEND;TZID=America/Los_Angeles:20261021T140000
DTSTAMP:20260424T165233
CREATED:20260211T225552Z
LAST-MODIFIED:20260217T164458Z
UID:10000358-1792584000-1792591200@www.foodcyclela.org
SUMMARY:FoodCycle x Home of Kings and Queens
DESCRIPTION:Home of Kings & Queens and FoodCycle join forces to serve our community through recurring food distributions that center dignity and access. Each distribution provides rescued fresh produce and essential groceries to families affected by the Eaton Fires and experiencing food insecurity. This partnership reflects our belief that every neighbor deserves to be treated like royalty! \nEmail: Homekings13@gmail.com to volunteer and confirm date/location/times
URL:https://www.foodcyclela.org/event/foodcycle-x-home-of-kings-and-queens/2026-10-21/
ATTACH;FMTTYPE=image/jpeg:https://www.foodcyclela.org/wp-content/uploads/2026/02/images.jpeg
END:VEVENT
BEGIN:VEVENT
DTSTART;TZID=America/Los_Angeles:20261023T110000
DTEND;TZID=America/Los_Angeles:20261023T130000
DTSTAMP:20260424T165233
CREATED:20250812T211406Z
LAST-MODIFIED:20250812T211642Z
UID:10000096-1792753200-1792760400@www.foodcyclela.org
SUMMARY:FoodCycle X Love the City Center
DESCRIPTION:Foodcycle has partnered with Love the City Center to help provide food for our communities people in need. \nEvery Friday from 11am-1pm \nWeekly free food giveaway serving our low income community. \nQuality foods generously donated by Erewhon\, Trader Joes\, Whole Foods\, Costco\, and other supermarkets. \n3979 Tilden Avenue\nCulver City CA\, 90232 \nWant to volunteer?  \nSign up Here! https://www.lovethecitycenter.org/volunteer
URL:https://www.foodcyclela.org/event/foodcycle-x-love-the-city-center/2026-10-23/
ATTACH;FMTTYPE=image/png:https://www.foodcyclela.org/wp-content/uploads/2025/05/download.png
END:VEVENT
BEGIN:VEVENT
DTSTART;TZID=America/Los_Angeles:20261028T120000
DTEND;TZID=America/Los_Angeles:20261028T140000
DTSTAMP:20260424T165233
CREATED:20260211T225552Z
LAST-MODIFIED:20260217T164458Z
UID:10000359-1793188800-1793196000@www.foodcyclela.org
SUMMARY:FoodCycle x Home of Kings and Queens
DESCRIPTION:Home of Kings & Queens and FoodCycle join forces to serve our community through recurring food distributions that center dignity and access. Each distribution provides rescued fresh produce and essential groceries to families affected by the Eaton Fires and experiencing food insecurity. This partnership reflects our belief that every neighbor deserves to be treated like royalty! \nEmail: Homekings13@gmail.com to volunteer and confirm date/location/times
URL:https://www.foodcyclela.org/event/foodcycle-x-home-of-kings-and-queens/2026-10-28/
ATTACH;FMTTYPE=image/jpeg:https://www.foodcyclela.org/wp-content/uploads/2026/02/images.jpeg
END:VEVENT
BEGIN:VEVENT
DTSTART;TZID=America/Los_Angeles:20261030T110000
DTEND;TZID=America/Los_Angeles:20261030T130000
DTSTAMP:20260424T165233
CREATED:20250812T211406Z
LAST-MODIFIED:20250812T211642Z
UID:10000097-1793358000-1793365200@www.foodcyclela.org
SUMMARY:FoodCycle X Love the City Center
DESCRIPTION:Foodcycle has partnered with Love the City Center to help provide food for our communities people in need. \nEvery Friday from 11am-1pm \nWeekly free food giveaway serving our low income community. \nQuality foods generously donated by Erewhon\, Trader Joes\, Whole Foods\, Costco\, and other supermarkets. \n3979 Tilden Avenue\nCulver City CA\, 90232 \nWant to volunteer?  \nSign up Here! https://www.lovethecitycenter.org/volunteer
URL:https://www.foodcyclela.org/event/foodcycle-x-love-the-city-center/2026-10-30/
ATTACH;FMTTYPE=image/png:https://www.foodcyclela.org/wp-content/uploads/2025/05/download.png
END:VEVENT
BEGIN:VEVENT
DTSTART;VALUE=DATE:20261031
DTEND;VALUE=DATE:20261101
DTSTAMP:20260424T165233
CREATED:20260212T222902Z
LAST-MODIFIED:20260212T222902Z
UID:10000751-1793404800-1793491199@www.foodcyclela.org
SUMMARY:🎃 Halloween (Oct 31)
DESCRIPTION:While costumes and candy bring celebration\, October also presents an opportunity to confront the real numbers behind hunger and waste. Awareness paired with creativity can spark conversation and engagement.
URL:https://www.foodcyclela.org/event/%f0%9f%8e%83-halloween-oct-31/2026-10-31/
END:VEVENT
END:VCALENDAR