BEGIN:VCALENDAR
VERSION:2.0
PRODID:-//FoodCycle - ECPv6.15.20//NONSGML v1.0//EN
CALSCALE:GREGORIAN
METHOD:PUBLISH
X-ORIGINAL-URL:https://www.foodcyclela.org
X-WR-CALDESC:Events for FoodCycle
REFRESH-INTERVAL;VALUE=DURATION:PT1H
X-Robots-Tag:noindex
X-PUBLISHED-TTL:PT1H
BEGIN:VTIMEZONE
TZID:America/Los_Angeles
BEGIN:DAYLIGHT
TZOFFSETFROM:-0800
TZOFFSETTO:-0700
TZNAME:PDT
DTSTART:20250309T100000
END:DAYLIGHT
BEGIN:STANDARD
TZOFFSETFROM:-0700
TZOFFSETTO:-0800
TZNAME:PST
DTSTART:20251102T090000
END:STANDARD
BEGIN:DAYLIGHT
TZOFFSETFROM:-0800
TZOFFSETTO:-0700
TZNAME:PDT
DTSTART:20260308T100000
END:DAYLIGHT
BEGIN:STANDARD
TZOFFSETFROM:-0700
TZOFFSETTO:-0800
TZNAME:PST
DTSTART:20261101T090000
END:STANDARD
BEGIN:DAYLIGHT
TZOFFSETFROM:-0800
TZOFFSETTO:-0700
TZNAME:PDT
DTSTART:20270314T100000
END:DAYLIGHT
BEGIN:STANDARD
TZOFFSETFROM:-0700
TZOFFSETTO:-0800
TZNAME:PST
DTSTART:20271107T090000
END:STANDARD
BEGIN:DAYLIGHT
TZOFFSETFROM:-0800
TZOFFSETTO:-0700
TZNAME:PDT
DTSTART:20280312T100000
END:DAYLIGHT
BEGIN:STANDARD
TZOFFSETFROM:-0700
TZOFFSETTO:-0800
TZNAME:PST
DTSTART:20281105T090000
END:STANDARD
END:VTIMEZONE
BEGIN:VEVENT
DTSTART;VALUE=DATE:20261201
DTEND;VALUE=DATE:20261202
DTSTAMP:20260424T194100
CREATED:20260212T223528Z
LAST-MODIFIED:20260212T223528Z
UID:10000636-1796083200-1796169599@www.foodcyclela.org
SUMMARY:Giving Tuesday
DESCRIPTION:Giving Tuesday is a global day of generosity dedicated to supporting nonprofits and strengthening communities. At FoodCycle\, every donation helps transform surplus food into nourishment for families experiencing food insecurity. Contributions support food recovery operations\, volunteer coordination\, climate-focused initiatives\, and community distributions. This Giving Tuesday\, we invite our community to invest in sustainable solutions that fight hunger while protecting the planet.
URL:https://www.foodcyclela.org/event/giving-tuesday-2/2026-12-01/
ATTACH;FMTTYPE=image/png:https://www.foodcyclela.org/wp-content/uploads/2025/12/pexels-givingtuesday-9826021-scaled.png
END:VEVENT
BEGIN:VEVENT
DTSTART;VALUE=DATE:20261201
DTEND;VALUE=DATE:20261202
DTSTAMP:20260424T194100
CREATED:20260212T224402Z
LAST-MODIFIED:20260212T224402Z
UID:10000810-1796083200-1796169599@www.foodcyclela.org
SUMMARY:❤️ World AIDS Day (Dec 1 – UN)
DESCRIPTION:World AIDS Day highlights health equity and access to care. Food security plays a critical role in supporting individuals managing chronic illness and maintaining overall health stability.
URL:https://www.foodcyclela.org/event/%e2%9d%a4%ef%b8%8f-world-aids-day-dec-1-un/2026-12-01/
END:VEVENT
BEGIN:VEVENT
DTSTART;TZID=America/Los_Angeles:20261202T120000
DTEND;TZID=America/Los_Angeles:20261202T140000
DTSTAMP:20260424T194100
CREATED:20260211T225552Z
LAST-MODIFIED:20260217T164458Z
UID:10000364-1796212800-1796220000@www.foodcyclela.org
SUMMARY:FoodCycle x Home of Kings and Queens
DESCRIPTION:Home of Kings & Queens and FoodCycle join forces to serve our community through recurring food distributions that center dignity and access. Each distribution provides rescued fresh produce and essential groceries to families affected by the Eaton Fires and experiencing food insecurity. This partnership reflects our belief that every neighbor deserves to be treated like royalty! \nEmail: Homekings13@gmail.com to volunteer and confirm date/location/times
URL:https://www.foodcyclela.org/event/foodcycle-x-home-of-kings-and-queens/2026-12-02/
ATTACH;FMTTYPE=image/jpeg:https://www.foodcyclela.org/wp-content/uploads/2026/02/images.jpeg
END:VEVENT
BEGIN:VEVENT
DTSTART;VALUE=DATE:20261204
DTEND;VALUE=DATE:20261213
DTSTAMP:20260424T194100
CREATED:20260212T224636Z
LAST-MODIFIED:20260212T224636Z
UID:10000820-1796342400-1797119999@www.foodcyclela.org
SUMMARY:✡️ Hanukkah
DESCRIPTION:Hanukkah celebrates resilience\, light\, and faith. The holiday reminds us that small acts\, sustained over time\, can illuminate entire communities — much like consistent access to food strengthens stability.
URL:https://www.foodcyclela.org/event/%e2%9c%a1%ef%b8%8f-hanukkah/2026-12-04/1/
END:VEVENT
BEGIN:VEVENT
DTSTART;VALUE=DATE:20261204
DTEND;VALUE=DATE:20261205
DTSTAMP:20260424T194100
CREATED:20260212T224636Z
LAST-MODIFIED:20260212T224636Z
UID:10000821-1796371200-1796403600@www.foodcyclela.org
SUMMARY:✡️ Hanukkah
DESCRIPTION:Hanukkah celebrates resilience\, light\, and faith. The holiday reminds us that small acts\, sustained over time\, can illuminate entire communities — much like consistent access to food strengthens stability.
URL:https://www.foodcyclela.org/event/%e2%9c%a1%ef%b8%8f-hanukkah/2026-12-04/2/
END:VEVENT
BEGIN:VEVENT
DTSTART;TZID=America/Los_Angeles:20261204T110000
DTEND;TZID=America/Los_Angeles:20261204T130000
DTSTAMP:20260424T194100
CREATED:20250812T211406Z
LAST-MODIFIED:20250812T211642Z
UID:10000102-1796382000-1796389200@www.foodcyclela.org
SUMMARY:FoodCycle X Love the City Center
DESCRIPTION:Foodcycle has partnered with Love the City Center to help provide food for our communities people in need. \nEvery Friday from 11am-1pm \nWeekly free food giveaway serving our low income community. \nQuality foods generously donated by Erewhon\, Trader Joes\, Whole Foods\, Costco\, and other supermarkets. \n3979 Tilden Avenue\nCulver City CA\, 90232 \nWant to volunteer?  \nSign up Here! https://www.lovethecitycenter.org/volunteer
URL:https://www.foodcyclela.org/event/foodcycle-x-love-the-city-center/2026-12-04/
ATTACH;FMTTYPE=image/png:https://www.foodcyclela.org/wp-content/uploads/2025/05/download.png
END:VEVENT
BEGIN:VEVENT
DTSTART;VALUE=DATE:20261205
DTEND;VALUE=DATE:20261206
DTSTAMP:20260424T194100
CREATED:20260212T224503Z
LAST-MODIFIED:20260212T224503Z
UID:10000815-1796428800-1796515199@www.foodcyclela.org
SUMMARY:🤝 International Volunteer Day (Dec 5 – UN)
DESCRIPTION:Volunteers shape outcomes through consistency and commitment. Collective action is the foundation of community resilience.
URL:https://www.foodcyclela.org/event/%f0%9f%a4%9d-international-volunteer-day-dec-5-un/2026-12-05/
END:VEVENT
BEGIN:VEVENT
DTSTART;TZID=America/Los_Angeles:20261209T120000
DTEND;TZID=America/Los_Angeles:20261209T140000
DTSTAMP:20260424T194100
CREATED:20260211T225552Z
LAST-MODIFIED:20260217T164458Z
UID:10000365-1796817600-1796824800@www.foodcyclela.org
SUMMARY:FoodCycle x Home of Kings and Queens
DESCRIPTION:Home of Kings & Queens and FoodCycle join forces to serve our community through recurring food distributions that center dignity and access. Each distribution provides rescued fresh produce and essential groceries to families affected by the Eaton Fires and experiencing food insecurity. This partnership reflects our belief that every neighbor deserves to be treated like royalty! \nEmail: Homekings13@gmail.com to volunteer and confirm date/location/times
URL:https://www.foodcyclela.org/event/foodcycle-x-home-of-kings-and-queens/2026-12-09/
ATTACH;FMTTYPE=image/jpeg:https://www.foodcyclela.org/wp-content/uploads/2026/02/images.jpeg
END:VEVENT
BEGIN:VEVENT
DTSTART;VALUE=DATE:20261210
DTEND;VALUE=DATE:20261211
DTSTAMP:20260424T194100
CREATED:20260212T224329Z
LAST-MODIFIED:20260219T063815Z
UID:10000805-1796860800-1796947199@www.foodcyclela.org
SUMMARY:⚖️ Human Rights Day (Dec 10 – UN)
DESCRIPTION:Human Rights Day affirms dignity\, equality\, and access to basic needs. Nourishment is foundational to all other rights — without it\, opportunity narrows.
URL:https://www.foodcyclela.org/event/%e2%9a%96%ef%b8%8f-human-rights-day-dec-10-un/2026-12-10/
ATTACH;FMTTYPE=image/png:https://www.foodcyclela.org/wp-content/uploads/2026/02/50.png
END:VEVENT
BEGIN:VEVENT
DTSTART;TZID=America/Los_Angeles:20261211T110000
DTEND;TZID=America/Los_Angeles:20261211T130000
DTSTAMP:20260424T194100
CREATED:20250812T211406Z
LAST-MODIFIED:20250812T211642Z
UID:10000103-1796986800-1796994000@www.foodcyclela.org
SUMMARY:FoodCycle X Love the City Center
DESCRIPTION:Foodcycle has partnered with Love the City Center to help provide food for our communities people in need. \nEvery Friday from 11am-1pm \nWeekly free food giveaway serving our low income community. \nQuality foods generously donated by Erewhon\, Trader Joes\, Whole Foods\, Costco\, and other supermarkets. \n3979 Tilden Avenue\nCulver City CA\, 90232 \nWant to volunteer?  \nSign up Here! https://www.lovethecitycenter.org/volunteer
URL:https://www.foodcyclela.org/event/foodcycle-x-love-the-city-center/2026-12-11/
ATTACH;FMTTYPE=image/png:https://www.foodcyclela.org/wp-content/uploads/2025/05/download.png
END:VEVENT
BEGIN:VEVENT
DTSTART;TZID=America/Los_Angeles:20261216T120000
DTEND;TZID=America/Los_Angeles:20261216T140000
DTSTAMP:20260424T194100
CREATED:20260211T225552Z
LAST-MODIFIED:20260217T164458Z
UID:10000366-1797422400-1797429600@www.foodcyclela.org
SUMMARY:FoodCycle x Home of Kings and Queens
DESCRIPTION:Home of Kings & Queens and FoodCycle join forces to serve our community through recurring food distributions that center dignity and access. Each distribution provides rescued fresh produce and essential groceries to families affected by the Eaton Fires and experiencing food insecurity. This partnership reflects our belief that every neighbor deserves to be treated like royalty! \nEmail: Homekings13@gmail.com to volunteer and confirm date/location/times
URL:https://www.foodcyclela.org/event/foodcycle-x-home-of-kings-and-queens/2026-12-16/
ATTACH;FMTTYPE=image/jpeg:https://www.foodcyclela.org/wp-content/uploads/2026/02/images.jpeg
END:VEVENT
BEGIN:VEVENT
DTSTART;TZID=America/Los_Angeles:20261218T110000
DTEND;TZID=America/Los_Angeles:20261218T130000
DTSTAMP:20260424T194100
CREATED:20250812T211406Z
LAST-MODIFIED:20250812T211642Z
UID:10000104-1797591600-1797598800@www.foodcyclela.org
SUMMARY:FoodCycle X Love the City Center
DESCRIPTION:Foodcycle has partnered with Love the City Center to help provide food for our communities people in need. \nEvery Friday from 11am-1pm \nWeekly free food giveaway serving our low income community. \nQuality foods generously donated by Erewhon\, Trader Joes\, Whole Foods\, Costco\, and other supermarkets. \n3979 Tilden Avenue\nCulver City CA\, 90232 \nWant to volunteer?  \nSign up Here! https://www.lovethecitycenter.org/volunteer
URL:https://www.foodcyclela.org/event/foodcycle-x-love-the-city-center/2026-12-18/
ATTACH;FMTTYPE=image/png:https://www.foodcyclela.org/wp-content/uploads/2025/05/download.png
END:VEVENT
BEGIN:VEVENT
DTSTART;TZID=America/Los_Angeles:20261223T120000
DTEND;TZID=America/Los_Angeles:20261223T140000
DTSTAMP:20260424T194100
CREATED:20260211T225552Z
LAST-MODIFIED:20260217T164458Z
UID:10000367-1798027200-1798034400@www.foodcyclela.org
SUMMARY:FoodCycle x Home of Kings and Queens
DESCRIPTION:Home of Kings & Queens and FoodCycle join forces to serve our community through recurring food distributions that center dignity and access. Each distribution provides rescued fresh produce and essential groceries to families affected by the Eaton Fires and experiencing food insecurity. This partnership reflects our belief that every neighbor deserves to be treated like royalty! \nEmail: Homekings13@gmail.com to volunteer and confirm date/location/times
URL:https://www.foodcyclela.org/event/foodcycle-x-home-of-kings-and-queens/2026-12-23/
ATTACH;FMTTYPE=image/jpeg:https://www.foodcyclela.org/wp-content/uploads/2026/02/images.jpeg
END:VEVENT
BEGIN:VEVENT
DTSTART;VALUE=DATE:20261225
DTEND;VALUE=DATE:20261226
DTSTAMP:20260424T194100
CREATED:20260212T224156Z
LAST-MODIFIED:20260219T063539Z
UID:10000795-1798156800-1798243199@www.foodcyclela.org
SUMMARY:🎄 Christmas (Dec 25)
DESCRIPTION:Christmas emphasizes generosity and care for neighbors. Shared meals and community support reflect the spirit of the season.
URL:https://www.foodcyclela.org/event/%f0%9f%8e%84-christmas-dec-25/2026-12-25/
ATTACH;FMTTYPE=image/png:https://www.foodcyclela.org/wp-content/uploads/2026/02/51-e1771482909434.png
END:VEVENT
BEGIN:VEVENT
DTSTART;TZID=America/Los_Angeles:20261225T110000
DTEND;TZID=America/Los_Angeles:20261225T130000
DTSTAMP:20260424T194100
CREATED:20250812T211406Z
LAST-MODIFIED:20250812T211642Z
UID:10000105-1798196400-1798203600@www.foodcyclela.org
SUMMARY:FoodCycle X Love the City Center
DESCRIPTION:Foodcycle has partnered with Love the City Center to help provide food for our communities people in need. \nEvery Friday from 11am-1pm \nWeekly free food giveaway serving our low income community. \nQuality foods generously donated by Erewhon\, Trader Joes\, Whole Foods\, Costco\, and other supermarkets. \n3979 Tilden Avenue\nCulver City CA\, 90232 \nWant to volunteer?  \nSign up Here! https://www.lovethecitycenter.org/volunteer
URL:https://www.foodcyclela.org/event/foodcycle-x-love-the-city-center/2026-12-25/
ATTACH;FMTTYPE=image/png:https://www.foodcyclela.org/wp-content/uploads/2025/05/download.png
END:VEVENT
BEGIN:VEVENT
DTSTART;VALUE=DATE:20261226
DTEND;VALUE=DATE:20270102
DTSTAMP:20260424T194100
CREATED:20260212T224056Z
LAST-MODIFIED:20260219T063258Z
UID:10000790-1798243200-1798847999@www.foodcyclela.org
SUMMARY:🖤💚❤️ Kwanzaa (Dec 26 – Jan 1)
DESCRIPTION:Kwanzaa honors principles of unity\, self-determination\, and collective responsibility. Food systems rooted in community care reflect these values — cooperation\, shared resources\, and mutual uplift.
URL:https://www.foodcyclela.org/event/%f0%9f%96%a4%f0%9f%92%9a%e2%9d%a4%ef%b8%8f-kwanzaa-dec-26-jan-1/2026-12-26/
ATTACH;FMTTYPE=image/png:https://www.foodcyclela.org/wp-content/uploads/2026/02/52-e1771482685934.png
END:VEVENT
BEGIN:VEVENT
DTSTART;TZID=America/Los_Angeles:20261230T120000
DTEND;TZID=America/Los_Angeles:20261230T140000
DTSTAMP:20260424T194100
CREATED:20260211T225552Z
LAST-MODIFIED:20260217T164458Z
UID:10000368-1798632000-1798639200@www.foodcyclela.org
SUMMARY:FoodCycle x Home of Kings and Queens
DESCRIPTION:Home of Kings & Queens and FoodCycle join forces to serve our community through recurring food distributions that center dignity and access. Each distribution provides rescued fresh produce and essential groceries to families affected by the Eaton Fires and experiencing food insecurity. This partnership reflects our belief that every neighbor deserves to be treated like royalty! \nEmail: Homekings13@gmail.com to volunteer and confirm date/location/times
URL:https://www.foodcyclela.org/event/foodcycle-x-home-of-kings-and-queens/2026-12-30/
ATTACH;FMTTYPE=image/jpeg:https://www.foodcyclela.org/wp-content/uploads/2026/02/images.jpeg
END:VEVENT
BEGIN:VEVENT
DTSTART;VALUE=DATE:20261231
DTEND;VALUE=DATE:20270101
DTSTAMP:20260424T194100
CREATED:20260212T224225Z
LAST-MODIFIED:20260219T063020Z
UID:10000800-1798675200-1798761599@www.foodcyclela.org
SUMMARY:🎆 New Year’s Eve (Dec 31)
DESCRIPTION:Year’s end invites reflection on progress and renewed commitment to building sustainable\, equitable food systems in the year ahead.
URL:https://www.foodcyclela.org/event/%f0%9f%8e%86-new-years-eve-dec-31/2026-12-31/
ATTACH;FMTTYPE=image/png:https://www.foodcyclela.org/wp-content/uploads/2026/02/54-e1771482606549.png
END:VEVENT
END:VCALENDAR