BEGIN:VCALENDAR
VERSION:2.0
PRODID:-//FoodCycle - ECPv6.15.20//NONSGML v1.0//EN
CALSCALE:GREGORIAN
METHOD:PUBLISH
X-WR-CALNAME:FoodCycle
X-ORIGINAL-URL:https://www.foodcyclela.org
X-WR-CALDESC:Events for FoodCycle
REFRESH-INTERVAL;VALUE=DURATION:PT1H
X-Robots-Tag:noindex
X-PUBLISHED-TTL:PT1H
BEGIN:VTIMEZONE
TZID:America/Los_Angeles
BEGIN:DAYLIGHT
TZOFFSETFROM:-0800
TZOFFSETTO:-0700
TZNAME:PDT
DTSTART:20250309T100000
END:DAYLIGHT
BEGIN:STANDARD
TZOFFSETFROM:-0700
TZOFFSETTO:-0800
TZNAME:PST
DTSTART:20251102T090000
END:STANDARD
BEGIN:DAYLIGHT
TZOFFSETFROM:-0800
TZOFFSETTO:-0700
TZNAME:PDT
DTSTART:20260308T100000
END:DAYLIGHT
BEGIN:STANDARD
TZOFFSETFROM:-0700
TZOFFSETTO:-0800
TZNAME:PST
DTSTART:20261101T090000
END:STANDARD
BEGIN:DAYLIGHT
TZOFFSETFROM:-0800
TZOFFSETTO:-0700
TZNAME:PDT
DTSTART:20270314T100000
END:DAYLIGHT
BEGIN:STANDARD
TZOFFSETFROM:-0700
TZOFFSETTO:-0800
TZNAME:PST
DTSTART:20271107T090000
END:STANDARD
BEGIN:DAYLIGHT
TZOFFSETFROM:-0800
TZOFFSETTO:-0700
TZNAME:PDT
DTSTART:20280312T100000
END:DAYLIGHT
BEGIN:STANDARD
TZOFFSETFROM:-0700
TZOFFSETTO:-0800
TZNAME:PST
DTSTART:20281105T090000
END:STANDARD
END:VTIMEZONE
BEGIN:VEVENT
DTSTART;VALUE=DATE:20261226
DTEND;VALUE=DATE:20270102
DTSTAMP:20260424T210334
CREATED:20260212T224056Z
LAST-MODIFIED:20260219T063258Z
UID:10000790-1798243200-1798847999@www.foodcyclela.org
SUMMARY:🖤💚❤️ Kwanzaa (Dec 26 – Jan 1)
DESCRIPTION:Kwanzaa honors principles of unity\, self-determination\, and collective responsibility. Food systems rooted in community care reflect these values — cooperation\, shared resources\, and mutual uplift.
URL:https://www.foodcyclela.org/event/%f0%9f%96%a4%f0%9f%92%9a%e2%9d%a4%ef%b8%8f-kwanzaa-dec-26-jan-1/2026-12-26/
ATTACH;FMTTYPE=image/png:https://www.foodcyclela.org/wp-content/uploads/2026/02/52-e1771482685934.png
END:VEVENT
BEGIN:VEVENT
DTSTART;TZID=America/Los_Angeles:20270101T110000
DTEND;TZID=America/Los_Angeles:20270101T130000
DTSTAMP:20260424T210334
CREATED:20250812T211406Z
LAST-MODIFIED:20250812T211642Z
UID:10000106-1798801200-1798808400@www.foodcyclela.org
SUMMARY:FoodCycle X Love the City Center
DESCRIPTION:Foodcycle has partnered with Love the City Center to help provide food for our communities people in need. \nEvery Friday from 11am-1pm \nWeekly free food giveaway serving our low income community. \nQuality foods generously donated by Erewhon\, Trader Joes\, Whole Foods\, Costco\, and other supermarkets. \n3979 Tilden Avenue\nCulver City CA\, 90232 \nWant to volunteer?  \nSign up Here! https://www.lovethecitycenter.org/volunteer
URL:https://www.foodcyclela.org/event/foodcycle-x-love-the-city-center/2027-01-01/
ATTACH;FMTTYPE=image/png:https://www.foodcyclela.org/wp-content/uploads/2025/05/download.png
END:VEVENT
BEGIN:VEVENT
DTSTART;TZID=America/Los_Angeles:20270106T120000
DTEND;TZID=America/Los_Angeles:20270106T140000
DTSTAMP:20260424T210334
CREATED:20260211T225552Z
LAST-MODIFIED:20260217T164458Z
UID:10000369-1799236800-1799244000@www.foodcyclela.org
SUMMARY:FoodCycle x Home of Kings and Queens
DESCRIPTION:Home of Kings & Queens and FoodCycle join forces to serve our community through recurring food distributions that center dignity and access. Each distribution provides rescued fresh produce and essential groceries to families affected by the Eaton Fires and experiencing food insecurity. This partnership reflects our belief that every neighbor deserves to be treated like royalty! \nEmail: Homekings13@gmail.com to volunteer and confirm date/location/times
URL:https://www.foodcyclela.org/event/foodcycle-x-home-of-kings-and-queens/2027-01-06/
ATTACH;FMTTYPE=image/jpeg:https://www.foodcyclela.org/wp-content/uploads/2026/02/images.jpeg
END:VEVENT
BEGIN:VEVENT
DTSTART;TZID=America/Los_Angeles:20270108T110000
DTEND;TZID=America/Los_Angeles:20270108T130000
DTSTAMP:20260424T210334
CREATED:20250812T211406Z
LAST-MODIFIED:20250812T211642Z
UID:10000107-1799406000-1799413200@www.foodcyclela.org
SUMMARY:FoodCycle X Love the City Center
DESCRIPTION:Foodcycle has partnered with Love the City Center to help provide food for our communities people in need. \nEvery Friday from 11am-1pm \nWeekly free food giveaway serving our low income community. \nQuality foods generously donated by Erewhon\, Trader Joes\, Whole Foods\, Costco\, and other supermarkets. \n3979 Tilden Avenue\nCulver City CA\, 90232 \nWant to volunteer?  \nSign up Here! https://www.lovethecitycenter.org/volunteer
URL:https://www.foodcyclela.org/event/foodcycle-x-love-the-city-center/2027-01-08/
ATTACH;FMTTYPE=image/png:https://www.foodcyclela.org/wp-content/uploads/2025/05/download.png
END:VEVENT
BEGIN:VEVENT
DTSTART;TZID=America/Los_Angeles:20270113T120000
DTEND;TZID=America/Los_Angeles:20270113T140000
DTSTAMP:20260424T210334
CREATED:20260211T225552Z
LAST-MODIFIED:20260217T164458Z
UID:10000370-1799841600-1799848800@www.foodcyclela.org
SUMMARY:FoodCycle x Home of Kings and Queens
DESCRIPTION:Home of Kings & Queens and FoodCycle join forces to serve our community through recurring food distributions that center dignity and access. Each distribution provides rescued fresh produce and essential groceries to families affected by the Eaton Fires and experiencing food insecurity. This partnership reflects our belief that every neighbor deserves to be treated like royalty! \nEmail: Homekings13@gmail.com to volunteer and confirm date/location/times
URL:https://www.foodcyclela.org/event/foodcycle-x-home-of-kings-and-queens/2027-01-13/
ATTACH;FMTTYPE=image/jpeg:https://www.foodcyclela.org/wp-content/uploads/2026/02/images.jpeg
END:VEVENT
BEGIN:VEVENT
DTSTART;TZID=America/Los_Angeles:20270115T110000
DTEND;TZID=America/Los_Angeles:20270115T130000
DTSTAMP:20260424T210334
CREATED:20250812T211406Z
LAST-MODIFIED:20250812T211642Z
UID:10000108-1800010800-1800018000@www.foodcyclela.org
SUMMARY:FoodCycle X Love the City Center
DESCRIPTION:Foodcycle has partnered with Love the City Center to help provide food for our communities people in need. \nEvery Friday from 11am-1pm \nWeekly free food giveaway serving our low income community. \nQuality foods generously donated by Erewhon\, Trader Joes\, Whole Foods\, Costco\, and other supermarkets. \n3979 Tilden Avenue\nCulver City CA\, 90232 \nWant to volunteer?  \nSign up Here! https://www.lovethecitycenter.org/volunteer
URL:https://www.foodcyclela.org/event/foodcycle-x-love-the-city-center/2027-01-15/
ATTACH;FMTTYPE=image/png:https://www.foodcyclela.org/wp-content/uploads/2025/05/download.png
END:VEVENT
BEGIN:VEVENT
DTSTART;TZID=America/Los_Angeles:20270120T120000
DTEND;TZID=America/Los_Angeles:20270120T140000
DTSTAMP:20260424T210334
CREATED:20260211T225552Z
LAST-MODIFIED:20260217T164458Z
UID:10000371-1800446400-1800453600@www.foodcyclela.org
SUMMARY:FoodCycle x Home of Kings and Queens
DESCRIPTION:Home of Kings & Queens and FoodCycle join forces to serve our community through recurring food distributions that center dignity and access. Each distribution provides rescued fresh produce and essential groceries to families affected by the Eaton Fires and experiencing food insecurity. This partnership reflects our belief that every neighbor deserves to be treated like royalty! \nEmail: Homekings13@gmail.com to volunteer and confirm date/location/times
URL:https://www.foodcyclela.org/event/foodcycle-x-home-of-kings-and-queens/2027-01-20/
ATTACH;FMTTYPE=image/jpeg:https://www.foodcyclela.org/wp-content/uploads/2026/02/images.jpeg
END:VEVENT
BEGIN:VEVENT
DTSTART;TZID=America/Los_Angeles:20270122T110000
DTEND;TZID=America/Los_Angeles:20270122T130000
DTSTAMP:20260424T210334
CREATED:20250812T211406Z
LAST-MODIFIED:20250812T211642Z
UID:10000109-1800615600-1800622800@www.foodcyclela.org
SUMMARY:FoodCycle X Love the City Center
DESCRIPTION:Foodcycle has partnered with Love the City Center to help provide food for our communities people in need. \nEvery Friday from 11am-1pm \nWeekly free food giveaway serving our low income community. \nQuality foods generously donated by Erewhon\, Trader Joes\, Whole Foods\, Costco\, and other supermarkets. \n3979 Tilden Avenue\nCulver City CA\, 90232 \nWant to volunteer?  \nSign up Here! https://www.lovethecitycenter.org/volunteer
URL:https://www.foodcyclela.org/event/foodcycle-x-love-the-city-center/2027-01-22/
ATTACH;FMTTYPE=image/png:https://www.foodcyclela.org/wp-content/uploads/2025/05/download.png
END:VEVENT
BEGIN:VEVENT
DTSTART;TZID=America/Los_Angeles:20270127T120000
DTEND;TZID=America/Los_Angeles:20270127T140000
DTSTAMP:20260424T210334
CREATED:20260211T225552Z
LAST-MODIFIED:20260217T164458Z
UID:10000372-1801051200-1801058400@www.foodcyclela.org
SUMMARY:FoodCycle x Home of Kings and Queens
DESCRIPTION:Home of Kings & Queens and FoodCycle join forces to serve our community through recurring food distributions that center dignity and access. Each distribution provides rescued fresh produce and essential groceries to families affected by the Eaton Fires and experiencing food insecurity. This partnership reflects our belief that every neighbor deserves to be treated like royalty! \nEmail: Homekings13@gmail.com to volunteer and confirm date/location/times
URL:https://www.foodcyclela.org/event/foodcycle-x-home-of-kings-and-queens/2027-01-27/
ATTACH;FMTTYPE=image/jpeg:https://www.foodcyclela.org/wp-content/uploads/2026/02/images.jpeg
END:VEVENT
BEGIN:VEVENT
DTSTART;TZID=America/Los_Angeles:20270129T110000
DTEND;TZID=America/Los_Angeles:20270129T130000
DTSTAMP:20260424T210334
CREATED:20250812T211406Z
LAST-MODIFIED:20250812T211642Z
UID:10000110-1801220400-1801227600@www.foodcyclela.org
SUMMARY:FoodCycle X Love the City Center
DESCRIPTION:Foodcycle has partnered with Love the City Center to help provide food for our communities people in need. \nEvery Friday from 11am-1pm \nWeekly free food giveaway serving our low income community. \nQuality foods generously donated by Erewhon\, Trader Joes\, Whole Foods\, Costco\, and other supermarkets. \n3979 Tilden Avenue\nCulver City CA\, 90232 \nWant to volunteer?  \nSign up Here! https://www.lovethecitycenter.org/volunteer
URL:https://www.foodcyclela.org/event/foodcycle-x-love-the-city-center/2027-01-29/
ATTACH;FMTTYPE=image/png:https://www.foodcyclela.org/wp-content/uploads/2025/05/download.png
END:VEVENT
END:VCALENDAR