BEGIN:VCALENDAR
VERSION:2.0
PRODID:-//FoodCycle - ECPv6.15.20//NONSGML v1.0//EN
CALSCALE:GREGORIAN
METHOD:PUBLISH
X-ORIGINAL-URL:https://www.foodcyclela.org
X-WR-CALDESC:Events for FoodCycle
REFRESH-INTERVAL;VALUE=DURATION:PT1H
X-Robots-Tag:noindex
X-PUBLISHED-TTL:PT1H
BEGIN:VTIMEZONE
TZID:America/Los_Angeles
BEGIN:DAYLIGHT
TZOFFSETFROM:-0800
TZOFFSETTO:-0700
TZNAME:PDT
DTSTART:20260308T100000
END:DAYLIGHT
BEGIN:STANDARD
TZOFFSETFROM:-0700
TZOFFSETTO:-0800
TZNAME:PST
DTSTART:20261101T090000
END:STANDARD
BEGIN:DAYLIGHT
TZOFFSETFROM:-0800
TZOFFSETTO:-0700
TZNAME:PDT
DTSTART:20270314T100000
END:DAYLIGHT
BEGIN:STANDARD
TZOFFSETFROM:-0700
TZOFFSETTO:-0800
TZNAME:PST
DTSTART:20271107T090000
END:STANDARD
BEGIN:DAYLIGHT
TZOFFSETFROM:-0800
TZOFFSETTO:-0700
TZNAME:PDT
DTSTART:20280312T100000
END:DAYLIGHT
BEGIN:STANDARD
TZOFFSETFROM:-0700
TZOFFSETTO:-0800
TZNAME:PST
DTSTART:20281105T090000
END:STANDARD
END:VTIMEZONE
BEGIN:VEVENT
DTSTART;VALUE=DATE:20270801
DTEND;VALUE=DATE:20270901
DTSTAMP:20260425T081431
CREATED:20260212T221352Z
LAST-MODIFIED:20260212T221352Z
UID:10000707-1817078400-1819756799@www.foodcyclela.org
SUMMARY:National Back to School Month
DESCRIPTION:Backpacks get packed. Schedules return. Classrooms fill.\nBut learning requires more than pencils and paper — it requires nourishment. Food insecurity disrupts focus\, attendance\, and long-term academic outcomes. Ensuring students have consistent access to healthy meals strengthens not just report cards\, but futures.
URL:https://www.foodcyclela.org/event/national-back-to-school-month/2027-08-01/
END:VEVENT
BEGIN:VEVENT
DTSTART;VALUE=DATE:20270801
DTEND;VALUE=DATE:20270901
DTSTAMP:20260425T081431
CREATED:20260212T221522Z
LAST-MODIFIED:20260212T221522Z
UID:10000712-1817078400-1819756799@www.foodcyclela.org
SUMMARY:🌿 National Wellness Month
DESCRIPTION:Wellness is not a luxury routine — it’s stability. It’s access to fresh food\, clean air\, and supportive systems. Thriving communities are built on environments where both bodies and minds are supported. Healthy food access is one of the simplest and most powerful foundations of long-term well-being.
URL:https://www.foodcyclela.org/event/%f0%9f%8c%bf-national-wellness-month/2027-08-01/
END:VEVENT
BEGIN:VEVENT
DTSTART;TZID=America/Los_Angeles:20270804T120000
DTEND;TZID=America/Los_Angeles:20270804T140000
DTSTAMP:20260425T081431
CREATED:20260211T225552Z
LAST-MODIFIED:20260217T164458Z
UID:10000399-1817380800-1817388000@www.foodcyclela.org
SUMMARY:FoodCycle x Home of Kings and Queens
DESCRIPTION:Home of Kings & Queens and FoodCycle join forces to serve our community through recurring food distributions that center dignity and access. Each distribution provides rescued fresh produce and essential groceries to families affected by the Eaton Fires and experiencing food insecurity. This partnership reflects our belief that every neighbor deserves to be treated like royalty! \nEmail: Homekings13@gmail.com to volunteer and confirm date/location/times
URL:https://www.foodcyclela.org/event/foodcycle-x-home-of-kings-and-queens/2027-08-04/
ATTACH;FMTTYPE=image/jpeg:https://www.foodcyclela.org/wp-content/uploads/2026/02/images.jpeg
END:VEVENT
BEGIN:VEVENT
DTSTART;TZID=America/Los_Angeles:20270806T110000
DTEND;TZID=America/Los_Angeles:20270806T130000
DTSTAMP:20260425T081431
CREATED:20250812T211406Z
LAST-MODIFIED:20250812T211642Z
UID:10000137-1817550000-1817557200@www.foodcyclela.org
SUMMARY:FoodCycle X Love the City Center
DESCRIPTION:Foodcycle has partnered with Love the City Center to help provide food for our communities people in need. \nEvery Friday from 11am-1pm \nWeekly free food giveaway serving our low income community. \nQuality foods generously donated by Erewhon\, Trader Joes\, Whole Foods\, Costco\, and other supermarkets. \n3979 Tilden Avenue\nCulver City CA\, 90232 \nWant to volunteer?  \nSign up Here! https://www.lovethecitycenter.org/volunteer
URL:https://www.foodcyclela.org/event/foodcycle-x-love-the-city-center/2027-08-06/
ATTACH;FMTTYPE=image/png:https://www.foodcyclela.org/wp-content/uploads/2025/05/download.png
END:VEVENT
BEGIN:VEVENT
DTSTART;VALUE=DATE:20270807
DTEND;VALUE=DATE:20270808
DTSTAMP:20260425T081431
CREATED:20260212T221808Z
LAST-MODIFIED:20260212T221808Z
UID:10000732-1817596800-1817683199@www.foodcyclela.org
SUMMARY:🇺🇸 Labor Day (Sept 7\, 2026)
DESCRIPTION:Labor Day recognizes the workers who keep communities running — including nonprofit teams\, warehouse crews\, drivers\, and volunteers whose behind-the-scenes efforts ensure food reaches families. Essential work often goes unseen\, yet its impact is felt daily.
URL:https://www.foodcyclela.org/event/%f0%9f%87%ba%f0%9f%87%b8-labor-day-sept-7-2026/2027-08-07/
END:VEVENT
BEGIN:VEVENT
DTSTART;TZID=America/Los_Angeles:20270811T120000
DTEND;TZID=America/Los_Angeles:20270811T140000
DTSTAMP:20260425T081431
CREATED:20260211T225552Z
LAST-MODIFIED:20260217T164458Z
UID:10000400-1817985600-1817992800@www.foodcyclela.org
SUMMARY:FoodCycle x Home of Kings and Queens
DESCRIPTION:Home of Kings & Queens and FoodCycle join forces to serve our community through recurring food distributions that center dignity and access. Each distribution provides rescued fresh produce and essential groceries to families affected by the Eaton Fires and experiencing food insecurity. This partnership reflects our belief that every neighbor deserves to be treated like royalty! \nEmail: Homekings13@gmail.com to volunteer and confirm date/location/times
URL:https://www.foodcyclela.org/event/foodcycle-x-home-of-kings-and-queens/2027-08-11/
ATTACH;FMTTYPE=image/jpeg:https://www.foodcyclela.org/wp-content/uploads/2026/02/images.jpeg
END:VEVENT
BEGIN:VEVENT
DTSTART;VALUE=DATE:20270812
DTEND;VALUE=DATE:20270813
DTSTAMP:20260425T081431
CREATED:20260212T221609Z
LAST-MODIFIED:20260212T221609Z
UID:10000717-1818028800-1818115199@www.foodcyclela.org
SUMMARY:🌍 International Youth Day (Aug 12 – UN)
DESCRIPTION:Young people are shaping conversations around climate\, equity\, and justice. Their leadership reminds us that sustainability is intergenerational work. Investing in youth-driven solutions strengthens community resilience and builds a future grounded in environmental responsibility and shared opportunity.
URL:https://www.foodcyclela.org/event/%f0%9f%8c%8d-international-youth-day-aug-12-un/2027-08-12/
END:VEVENT
BEGIN:VEVENT
DTSTART;TZID=America/Los_Angeles:20270813T110000
DTEND;TZID=America/Los_Angeles:20270813T130000
DTSTAMP:20260425T081431
CREATED:20250812T211406Z
LAST-MODIFIED:20250812T211642Z
UID:10000138-1818154800-1818162000@www.foodcyclela.org
SUMMARY:FoodCycle X Love the City Center
DESCRIPTION:Foodcycle has partnered with Love the City Center to help provide food for our communities people in need. \nEvery Friday from 11am-1pm \nWeekly free food giveaway serving our low income community. \nQuality foods generously donated by Erewhon\, Trader Joes\, Whole Foods\, Costco\, and other supermarkets. \n3979 Tilden Avenue\nCulver City CA\, 90232 \nWant to volunteer?  \nSign up Here! https://www.lovethecitycenter.org/volunteer
URL:https://www.foodcyclela.org/event/foodcycle-x-love-the-city-center/2027-08-13/
ATTACH;FMTTYPE=image/png:https://www.foodcyclela.org/wp-content/uploads/2025/05/download.png
END:VEVENT
BEGIN:VEVENT
DTSTART;TZID=America/Los_Angeles:20270818T120000
DTEND;TZID=America/Los_Angeles:20270818T140000
DTSTAMP:20260425T081431
CREATED:20260211T225552Z
LAST-MODIFIED:20260217T164458Z
UID:10000401-1818590400-1818597600@www.foodcyclela.org
SUMMARY:FoodCycle x Home of Kings and Queens
DESCRIPTION:Home of Kings & Queens and FoodCycle join forces to serve our community through recurring food distributions that center dignity and access. Each distribution provides rescued fresh produce and essential groceries to families affected by the Eaton Fires and experiencing food insecurity. This partnership reflects our belief that every neighbor deserves to be treated like royalty! \nEmail: Homekings13@gmail.com to volunteer and confirm date/location/times
URL:https://www.foodcyclela.org/event/foodcycle-x-home-of-kings-and-queens/2027-08-18/
ATTACH;FMTTYPE=image/jpeg:https://www.foodcyclela.org/wp-content/uploads/2026/02/images.jpeg
END:VEVENT
BEGIN:VEVENT
DTSTART;TZID=America/Los_Angeles:20270820T110000
DTEND;TZID=America/Los_Angeles:20270820T130000
DTSTAMP:20260425T081431
CREATED:20250812T211406Z
LAST-MODIFIED:20250812T211642Z
UID:10000139-1818759600-1818766800@www.foodcyclela.org
SUMMARY:FoodCycle X Love the City Center
DESCRIPTION:Foodcycle has partnered with Love the City Center to help provide food for our communities people in need. \nEvery Friday from 11am-1pm \nWeekly free food giveaway serving our low income community. \nQuality foods generously donated by Erewhon\, Trader Joes\, Whole Foods\, Costco\, and other supermarkets. \n3979 Tilden Avenue\nCulver City CA\, 90232 \nWant to volunteer?  \nSign up Here! https://www.lovethecitycenter.org/volunteer
URL:https://www.foodcyclela.org/event/foodcycle-x-love-the-city-center/2027-08-20/
ATTACH;FMTTYPE=image/png:https://www.foodcyclela.org/wp-content/uploads/2025/05/download.png
END:VEVENT
BEGIN:VEVENT
DTSTART;TZID=America/Los_Angeles:20270825T120000
DTEND;TZID=America/Los_Angeles:20270825T140000
DTSTAMP:20260425T081431
CREATED:20260211T225552Z
LAST-MODIFIED:20260217T164458Z
UID:10000402-1819195200-1819202400@www.foodcyclela.org
SUMMARY:FoodCycle x Home of Kings and Queens
DESCRIPTION:Home of Kings & Queens and FoodCycle join forces to serve our community through recurring food distributions that center dignity and access. Each distribution provides rescued fresh produce and essential groceries to families affected by the Eaton Fires and experiencing food insecurity. This partnership reflects our belief that every neighbor deserves to be treated like royalty! \nEmail: Homekings13@gmail.com to volunteer and confirm date/location/times
URL:https://www.foodcyclela.org/event/foodcycle-x-home-of-kings-and-queens/2027-08-25/
ATTACH;FMTTYPE=image/jpeg:https://www.foodcyclela.org/wp-content/uploads/2026/02/images.jpeg
END:VEVENT
BEGIN:VEVENT
DTSTART;VALUE=DATE:20270826
DTEND;VALUE=DATE:20270827
DTSTAMP:20260425T081431
CREATED:20260212T221652Z
LAST-MODIFIED:20260212T221652Z
UID:10000722-1819238400-1819324799@www.foodcyclela.org
SUMMARY:🐕 National Dog Day (Aug 26)
DESCRIPTION:Pets are family — especially for households navigating financial strain. Food insecurity can impact the whole household\, including animals. Highlighting pet food access and compassionate care acknowledges the full picture of community well-being.
URL:https://www.foodcyclela.org/event/%f0%9f%90%95-national-dog-day-aug-26/2027-08-26/
END:VEVENT
BEGIN:VEVENT
DTSTART;TZID=America/Los_Angeles:20270827T110000
DTEND;TZID=America/Los_Angeles:20270827T130000
DTSTAMP:20260425T081431
CREATED:20250812T211406Z
LAST-MODIFIED:20250812T211642Z
UID:10000140-1819364400-1819371600@www.foodcyclela.org
SUMMARY:FoodCycle X Love the City Center
DESCRIPTION:Foodcycle has partnered with Love the City Center to help provide food for our communities people in need. \nEvery Friday from 11am-1pm \nWeekly free food giveaway serving our low income community. \nQuality foods generously donated by Erewhon\, Trader Joes\, Whole Foods\, Costco\, and other supermarkets. \n3979 Tilden Avenue\nCulver City CA\, 90232 \nWant to volunteer?  \nSign up Here! https://www.lovethecitycenter.org/volunteer
URL:https://www.foodcyclela.org/event/foodcycle-x-love-the-city-center/2027-08-27/
ATTACH;FMTTYPE=image/png:https://www.foodcyclela.org/wp-content/uploads/2025/05/download.png
END:VEVENT
END:VCALENDAR