BEGIN:VCALENDAR
VERSION:2.0
PRODID:-//FoodCycle - ECPv6.15.20//NONSGML v1.0//EN
CALSCALE:GREGORIAN
METHOD:PUBLISH
X-WR-CALNAME:FoodCycle
X-ORIGINAL-URL:https://www.foodcyclela.org
X-WR-CALDESC:Events for FoodCycle
REFRESH-INTERVAL;VALUE=DURATION:PT1H
X-Robots-Tag:noindex
X-PUBLISHED-TTL:PT1H
BEGIN:VTIMEZONE
TZID:America/Los_Angeles
BEGIN:DAYLIGHT
TZOFFSETFROM:-0800
TZOFFSETTO:-0700
TZNAME:PDT
DTSTART:20260308T100000
END:DAYLIGHT
BEGIN:STANDARD
TZOFFSETFROM:-0700
TZOFFSETTO:-0800
TZNAME:PST
DTSTART:20261101T090000
END:STANDARD
BEGIN:DAYLIGHT
TZOFFSETFROM:-0800
TZOFFSETTO:-0700
TZNAME:PDT
DTSTART:20270314T100000
END:DAYLIGHT
BEGIN:STANDARD
TZOFFSETFROM:-0700
TZOFFSETTO:-0800
TZNAME:PST
DTSTART:20271107T090000
END:STANDARD
BEGIN:DAYLIGHT
TZOFFSETFROM:-0800
TZOFFSETTO:-0700
TZNAME:PDT
DTSTART:20280312T100000
END:DAYLIGHT
BEGIN:STANDARD
TZOFFSETFROM:-0700
TZOFFSETTO:-0800
TZNAME:PST
DTSTART:20281105T090000
END:STANDARD
BEGIN:DAYLIGHT
TZOFFSETFROM:-0800
TZOFFSETTO:-0700
TZNAME:PDT
DTSTART:20290311T100000
END:DAYLIGHT
BEGIN:STANDARD
TZOFFSETFROM:-0700
TZOFFSETTO:-0800
TZNAME:PST
DTSTART:20291104T090000
END:STANDARD
BEGIN:DAYLIGHT
TZOFFSETFROM:-0800
TZOFFSETTO:-0700
TZNAME:PDT
DTSTART:20300310T100000
END:DAYLIGHT
BEGIN:STANDARD
TZOFFSETFROM:-0700
TZOFFSETTO:-0800
TZNAME:PST
DTSTART:20301103T090000
END:STANDARD
BEGIN:DAYLIGHT
TZOFFSETFROM:-0800
TZOFFSETTO:-0700
TZNAME:PDT
DTSTART:20310309T100000
END:DAYLIGHT
BEGIN:STANDARD
TZOFFSETFROM:-0700
TZOFFSETTO:-0800
TZNAME:PST
DTSTART:20311102T090000
END:STANDARD
BEGIN:DAYLIGHT
TZOFFSETFROM:-0800
TZOFFSETTO:-0700
TZNAME:PDT
DTSTART:20320314T100000
END:DAYLIGHT
BEGIN:STANDARD
TZOFFSETFROM:-0700
TZOFFSETTO:-0800
TZNAME:PST
DTSTART:20321107T090000
END:STANDARD
END:VTIMEZONE
BEGIN:VEVENT
DTSTART;VALUE=DATE:20270301
DTEND;VALUE=DATE:20270401
DTSTAMP:20260419T075851
CREATED:20260211T230542Z
LAST-MODIFIED:20260217T192136Z
UID:10000585-1803859200-1806537599@www.foodcyclela.org
SUMMARY:National Nutrition Month 🍎
DESCRIPTION:National Nutrition Month highlights the importance of balanced\, accessible\, and nourishing food. At FoodCycle\, nutrition is central to our mission. By rescuing fresh produce and redistributing healthy meals\, we increase access to fruits\, vegetables\, and essential groceries for families experiencing food insecurity. Good nutrition supports heart health\, child development\, mental well-being\, and long-term community resilience. Through food recovery and climate conscious practices\, we help ensure that healthy food reaches plates not landfills.
URL:https://www.foodcyclela.org/event/national-nutrition-month-%f0%9f%8d%8e/2027-03-01/
ATTACH;FMTTYPE=image/png:https://www.foodcyclela.org/wp-content/uploads/2026/02/cutevegit-02-e1771356090805.png
END:VEVENT
BEGIN:VEVENT
DTSTART;VALUE=DATE:20280301
DTEND;VALUE=DATE:20280401
DTSTAMP:20260419T075851
CREATED:20260211T230542Z
LAST-MODIFIED:20260217T192136Z
UID:10000586-1835481600-1838159999@www.foodcyclela.org
SUMMARY:National Nutrition Month 🍎
DESCRIPTION:National Nutrition Month highlights the importance of balanced\, accessible\, and nourishing food. At FoodCycle\, nutrition is central to our mission. By rescuing fresh produce and redistributing healthy meals\, we increase access to fruits\, vegetables\, and essential groceries for families experiencing food insecurity. Good nutrition supports heart health\, child development\, mental well-being\, and long-term community resilience. Through food recovery and climate conscious practices\, we help ensure that healthy food reaches plates not landfills.
URL:https://www.foodcyclela.org/event/national-nutrition-month-%f0%9f%8d%8e/2028-03-01/
ATTACH;FMTTYPE=image/png:https://www.foodcyclela.org/wp-content/uploads/2026/02/cutevegit-02-e1771356090805.png
END:VEVENT
BEGIN:VEVENT
DTSTART;VALUE=DATE:20290301
DTEND;VALUE=DATE:20290401
DTSTAMP:20260419T075851
CREATED:20260211T230542Z
LAST-MODIFIED:20260217T192136Z
UID:10000587-1867017600-1869695999@www.foodcyclela.org
SUMMARY:National Nutrition Month 🍎
DESCRIPTION:National Nutrition Month highlights the importance of balanced\, accessible\, and nourishing food. At FoodCycle\, nutrition is central to our mission. By rescuing fresh produce and redistributing healthy meals\, we increase access to fruits\, vegetables\, and essential groceries for families experiencing food insecurity. Good nutrition supports heart health\, child development\, mental well-being\, and long-term community resilience. Through food recovery and climate conscious practices\, we help ensure that healthy food reaches plates not landfills.
URL:https://www.foodcyclela.org/event/national-nutrition-month-%f0%9f%8d%8e/2029-03-01/
ATTACH;FMTTYPE=image/png:https://www.foodcyclela.org/wp-content/uploads/2026/02/cutevegit-02-e1771356090805.png
END:VEVENT
BEGIN:VEVENT
DTSTART;VALUE=DATE:20300301
DTEND;VALUE=DATE:20300401
DTSTAMP:20260419T075851
CREATED:20260211T230542Z
LAST-MODIFIED:20260217T192136Z
UID:10000588-1898553600-1901231999@www.foodcyclela.org
SUMMARY:National Nutrition Month 🍎
DESCRIPTION:National Nutrition Month highlights the importance of balanced\, accessible\, and nourishing food. At FoodCycle\, nutrition is central to our mission. By rescuing fresh produce and redistributing healthy meals\, we increase access to fruits\, vegetables\, and essential groceries for families experiencing food insecurity. Good nutrition supports heart health\, child development\, mental well-being\, and long-term community resilience. Through food recovery and climate conscious practices\, we help ensure that healthy food reaches plates not landfills.
URL:https://www.foodcyclela.org/event/national-nutrition-month-%f0%9f%8d%8e/2030-03-01/
ATTACH;FMTTYPE=image/png:https://www.foodcyclela.org/wp-content/uploads/2026/02/cutevegit-02-e1771356090805.png
END:VEVENT
BEGIN:VEVENT
DTSTART;VALUE=DATE:20310301
DTEND;VALUE=DATE:20310401
DTSTAMP:20260419T075851
CREATED:20260211T230542Z
LAST-MODIFIED:20260217T192136Z
UID:10000589-1930089600-1932767999@www.foodcyclela.org
SUMMARY:National Nutrition Month 🍎
DESCRIPTION:National Nutrition Month highlights the importance of balanced\, accessible\, and nourishing food. At FoodCycle\, nutrition is central to our mission. By rescuing fresh produce and redistributing healthy meals\, we increase access to fruits\, vegetables\, and essential groceries for families experiencing food insecurity. Good nutrition supports heart health\, child development\, mental well-being\, and long-term community resilience. Through food recovery and climate conscious practices\, we help ensure that healthy food reaches plates not landfills.
URL:https://www.foodcyclela.org/event/national-nutrition-month-%f0%9f%8d%8e/2031-03-01/
ATTACH;FMTTYPE=image/png:https://www.foodcyclela.org/wp-content/uploads/2026/02/cutevegit-02-e1771356090805.png
END:VEVENT
END:VCALENDAR