BEGIN:VCALENDAR
VERSION:2.0
PRODID:-//FoodCycle - ECPv6.15.20//NONSGML v1.0//EN
CALSCALE:GREGORIAN
METHOD:PUBLISH
X-WR-CALNAME:FoodCycle
X-ORIGINAL-URL:https://www.foodcyclela.org
X-WR-CALDESC:Events for FoodCycle
REFRESH-INTERVAL;VALUE=DURATION:PT1H
X-Robots-Tag:noindex
X-PUBLISHED-TTL:PT1H
BEGIN:VTIMEZONE
TZID:America/Los_Angeles
BEGIN:DAYLIGHT
TZOFFSETFROM:-0800
TZOFFSETTO:-0700
TZNAME:PDT
DTSTART:20260308T100000
END:DAYLIGHT
BEGIN:STANDARD
TZOFFSETFROM:-0700
TZOFFSETTO:-0800
TZNAME:PST
DTSTART:20261101T090000
END:STANDARD
BEGIN:DAYLIGHT
TZOFFSETFROM:-0800
TZOFFSETTO:-0700
TZNAME:PDT
DTSTART:20270314T100000
END:DAYLIGHT
BEGIN:STANDARD
TZOFFSETFROM:-0700
TZOFFSETTO:-0800
TZNAME:PST
DTSTART:20271107T090000
END:STANDARD
BEGIN:DAYLIGHT
TZOFFSETFROM:-0800
TZOFFSETTO:-0700
TZNAME:PDT
DTSTART:20280312T100000
END:DAYLIGHT
BEGIN:STANDARD
TZOFFSETFROM:-0700
TZOFFSETTO:-0800
TZNAME:PST
DTSTART:20281105T090000
END:STANDARD
BEGIN:DAYLIGHT
TZOFFSETFROM:-0800
TZOFFSETTO:-0700
TZNAME:PDT
DTSTART:20290311T100000
END:DAYLIGHT
BEGIN:STANDARD
TZOFFSETFROM:-0700
TZOFFSETTO:-0800
TZNAME:PST
DTSTART:20291104T090000
END:STANDARD
BEGIN:DAYLIGHT
TZOFFSETFROM:-0800
TZOFFSETTO:-0700
TZNAME:PDT
DTSTART:20300310T100000
END:DAYLIGHT
BEGIN:STANDARD
TZOFFSETFROM:-0700
TZOFFSETTO:-0800
TZNAME:PST
DTSTART:20301103T090000
END:STANDARD
BEGIN:DAYLIGHT
TZOFFSETFROM:-0800
TZOFFSETTO:-0700
TZNAME:PDT
DTSTART:20310309T100000
END:DAYLIGHT
BEGIN:STANDARD
TZOFFSETFROM:-0700
TZOFFSETTO:-0800
TZNAME:PST
DTSTART:20311102T090000
END:STANDARD
END:VTIMEZONE
BEGIN:VEVENT
DTSTART;VALUE=DATE:20270308
DTEND;VALUE=DATE:20270309
DTSTAMP:20260424T102950
CREATED:20260211T230840Z
LAST-MODIFIED:20260217T185916Z
UID:10000596-1804464000-1804546799@www.foodcyclela.org
SUMMARY:International Women’s Day
DESCRIPTION:International Women’s Day\, recognized by the United Nations\, celebrates the social\, economic\, cultural\, and political achievements of women worldwide. At FoodCycle\, women lead at every level — from strategic leadership to hands-on distribution — advancing food justice and climate solutions in our community. By rescuing surplus food\, organizing volunteers\, and strengthening partnerships\, women on our team drive sustainable change. Today we recognize the power of women’s leadership in building healthier\, more equitable communities.
URL:https://www.foodcyclela.org/event/international-womens-day/2027-03-08/
ATTACH;FMTTYPE=image/png:https://www.foodcyclela.org/wp-content/uploads/2026/02/wd_banner_preview.png
END:VEVENT
BEGIN:VEVENT
DTSTART;VALUE=DATE:20280308
DTEND;VALUE=DATE:20280309
DTSTAMP:20260424T102950
CREATED:20260211T230840Z
LAST-MODIFIED:20260217T185916Z
UID:10000597-1836086400-1836169199@www.foodcyclela.org
SUMMARY:International Women’s Day
DESCRIPTION:International Women’s Day\, recognized by the United Nations\, celebrates the social\, economic\, cultural\, and political achievements of women worldwide. At FoodCycle\, women lead at every level — from strategic leadership to hands-on distribution — advancing food justice and climate solutions in our community. By rescuing surplus food\, organizing volunteers\, and strengthening partnerships\, women on our team drive sustainable change. Today we recognize the power of women’s leadership in building healthier\, more equitable communities.
URL:https://www.foodcyclela.org/event/international-womens-day/2028-03-08/
ATTACH;FMTTYPE=image/png:https://www.foodcyclela.org/wp-content/uploads/2026/02/wd_banner_preview.png
END:VEVENT
BEGIN:VEVENT
DTSTART;VALUE=DATE:20290308
DTEND;VALUE=DATE:20290309
DTSTAMP:20260424T102950
CREATED:20260211T230840Z
LAST-MODIFIED:20260217T185916Z
UID:10000598-1867622400-1867705199@www.foodcyclela.org
SUMMARY:International Women’s Day
DESCRIPTION:International Women’s Day\, recognized by the United Nations\, celebrates the social\, economic\, cultural\, and political achievements of women worldwide. At FoodCycle\, women lead at every level — from strategic leadership to hands-on distribution — advancing food justice and climate solutions in our community. By rescuing surplus food\, organizing volunteers\, and strengthening partnerships\, women on our team drive sustainable change. Today we recognize the power of women’s leadership in building healthier\, more equitable communities.
URL:https://www.foodcyclela.org/event/international-womens-day/2029-03-08/
ATTACH;FMTTYPE=image/png:https://www.foodcyclela.org/wp-content/uploads/2026/02/wd_banner_preview.png
END:VEVENT
BEGIN:VEVENT
DTSTART;VALUE=DATE:20300308
DTEND;VALUE=DATE:20300309
DTSTAMP:20260424T102950
CREATED:20260211T230840Z
LAST-MODIFIED:20260217T185916Z
UID:10000599-1899158400-1899241199@www.foodcyclela.org
SUMMARY:International Women’s Day
DESCRIPTION:International Women’s Day\, recognized by the United Nations\, celebrates the social\, economic\, cultural\, and political achievements of women worldwide. At FoodCycle\, women lead at every level — from strategic leadership to hands-on distribution — advancing food justice and climate solutions in our community. By rescuing surplus food\, organizing volunteers\, and strengthening partnerships\, women on our team drive sustainable change. Today we recognize the power of women’s leadership in building healthier\, more equitable communities.
URL:https://www.foodcyclela.org/event/international-womens-day/2030-03-08/
ATTACH;FMTTYPE=image/png:https://www.foodcyclela.org/wp-content/uploads/2026/02/wd_banner_preview.png
END:VEVENT
END:VCALENDAR