BEGIN:VCALENDAR
VERSION:2.0
PRODID:-//FoodCycle - ECPv6.15.20//NONSGML v1.0//EN
CALSCALE:GREGORIAN
METHOD:PUBLISH
X-WR-CALNAME:FoodCycle
X-ORIGINAL-URL:https://www.foodcyclela.org
X-WR-CALDESC:Events for FoodCycle
REFRESH-INTERVAL;VALUE=DURATION:PT1H
X-Robots-Tag:noindex
X-PUBLISHED-TTL:PT1H
BEGIN:VTIMEZONE
TZID:America/Los_Angeles
BEGIN:DAYLIGHT
TZOFFSETFROM:-0800
TZOFFSETTO:-0700
TZNAME:PDT
DTSTART:20260308T100000
END:DAYLIGHT
BEGIN:STANDARD
TZOFFSETFROM:-0700
TZOFFSETTO:-0800
TZNAME:PST
DTSTART:20261101T090000
END:STANDARD
BEGIN:DAYLIGHT
TZOFFSETFROM:-0800
TZOFFSETTO:-0700
TZNAME:PDT
DTSTART:20270314T100000
END:DAYLIGHT
BEGIN:STANDARD
TZOFFSETFROM:-0700
TZOFFSETTO:-0800
TZNAME:PST
DTSTART:20271107T090000
END:STANDARD
BEGIN:DAYLIGHT
TZOFFSETFROM:-0800
TZOFFSETTO:-0700
TZNAME:PDT
DTSTART:20280312T100000
END:DAYLIGHT
BEGIN:STANDARD
TZOFFSETFROM:-0700
TZOFFSETTO:-0800
TZNAME:PST
DTSTART:20281105T090000
END:STANDARD
BEGIN:DAYLIGHT
TZOFFSETFROM:-0800
TZOFFSETTO:-0700
TZNAME:PDT
DTSTART:20290311T100000
END:DAYLIGHT
BEGIN:STANDARD
TZOFFSETFROM:-0700
TZOFFSETTO:-0800
TZNAME:PST
DTSTART:20291104T090000
END:STANDARD
BEGIN:DAYLIGHT
TZOFFSETFROM:-0800
TZOFFSETTO:-0700
TZNAME:PDT
DTSTART:20300310T100000
END:DAYLIGHT
BEGIN:STANDARD
TZOFFSETFROM:-0700
TZOFFSETTO:-0800
TZNAME:PST
DTSTART:20301103T090000
END:STANDARD
BEGIN:DAYLIGHT
TZOFFSETFROM:-0800
TZOFFSETTO:-0700
TZNAME:PDT
DTSTART:20310309T100000
END:DAYLIGHT
BEGIN:STANDARD
TZOFFSETFROM:-0700
TZOFFSETTO:-0800
TZNAME:PST
DTSTART:20311102T090000
END:STANDARD
END:VTIMEZONE
BEGIN:VEVENT
DTSTART;VALUE=DATE:20270322
DTEND;VALUE=DATE:20270323
DTSTAMP:20260419T135019
CREATED:20260211T231451Z
LAST-MODIFIED:20260217T191829Z
UID:10000606-1805673600-1805759999@www.foodcyclela.org
SUMMARY:World Water Day
DESCRIPTION:World Water Day\, recognized by the United Nations\, highlights the importance of freshwater access and sustainable water management. Water is essential to growing food\, nourishing communities\, and maintaining healthy ecosystems. At FoodCycle\, reducing food waste also protects water resources. When food is wasted\, the water used to grow\, transport\, and produce it is wasted too. By rescuing surplus food and redistributing it to families in need\, we help conserve water while advancing food justice and climate solutions.
URL:https://www.foodcyclela.org/event/world-water-day/2027-03-22/
ATTACH;FMTTYPE=image/png:https://www.foodcyclela.org/wp-content/uploads/2026/02/world-water-day-2c-scaled-e1771355900712.png
END:VEVENT
BEGIN:VEVENT
DTSTART;VALUE=DATE:20280322
DTEND;VALUE=DATE:20280323
DTSTAMP:20260419T135019
CREATED:20260211T231451Z
LAST-MODIFIED:20260217T191829Z
UID:10000607-1837296000-1837382399@www.foodcyclela.org
SUMMARY:World Water Day
DESCRIPTION:World Water Day\, recognized by the United Nations\, highlights the importance of freshwater access and sustainable water management. Water is essential to growing food\, nourishing communities\, and maintaining healthy ecosystems. At FoodCycle\, reducing food waste also protects water resources. When food is wasted\, the water used to grow\, transport\, and produce it is wasted too. By rescuing surplus food and redistributing it to families in need\, we help conserve water while advancing food justice and climate solutions.
URL:https://www.foodcyclela.org/event/world-water-day/2028-03-22/
ATTACH;FMTTYPE=image/png:https://www.foodcyclela.org/wp-content/uploads/2026/02/world-water-day-2c-scaled-e1771355900712.png
END:VEVENT
BEGIN:VEVENT
DTSTART;VALUE=DATE:20290322
DTEND;VALUE=DATE:20290323
DTSTAMP:20260419T135019
CREATED:20260211T231451Z
LAST-MODIFIED:20260217T191829Z
UID:10000608-1868832000-1868918399@www.foodcyclela.org
SUMMARY:World Water Day
DESCRIPTION:World Water Day\, recognized by the United Nations\, highlights the importance of freshwater access and sustainable water management. Water is essential to growing food\, nourishing communities\, and maintaining healthy ecosystems. At FoodCycle\, reducing food waste also protects water resources. When food is wasted\, the water used to grow\, transport\, and produce it is wasted too. By rescuing surplus food and redistributing it to families in need\, we help conserve water while advancing food justice and climate solutions.
URL:https://www.foodcyclela.org/event/world-water-day/2029-03-22/
ATTACH;FMTTYPE=image/png:https://www.foodcyclela.org/wp-content/uploads/2026/02/world-water-day-2c-scaled-e1771355900712.png
END:VEVENT
BEGIN:VEVENT
DTSTART;VALUE=DATE:20300322
DTEND;VALUE=DATE:20300323
DTSTAMP:20260419T135019
CREATED:20260211T231451Z
LAST-MODIFIED:20260217T191829Z
UID:10000609-1900368000-1900454399@www.foodcyclela.org
SUMMARY:World Water Day
DESCRIPTION:World Water Day\, recognized by the United Nations\, highlights the importance of freshwater access and sustainable water management. Water is essential to growing food\, nourishing communities\, and maintaining healthy ecosystems. At FoodCycle\, reducing food waste also protects water resources. When food is wasted\, the water used to grow\, transport\, and produce it is wasted too. By rescuing surplus food and redistributing it to families in need\, we help conserve water while advancing food justice and climate solutions.
URL:https://www.foodcyclela.org/event/world-water-day/2030-03-22/
ATTACH;FMTTYPE=image/png:https://www.foodcyclela.org/wp-content/uploads/2026/02/world-water-day-2c-scaled-e1771355900712.png
END:VEVENT
END:VCALENDAR