BEGIN:VCALENDAR
VERSION:2.0
PRODID:-//FoodCycle - ECPv6.15.20//NONSGML v1.0//EN
CALSCALE:GREGORIAN
METHOD:PUBLISH
X-WR-CALNAME:FoodCycle
X-ORIGINAL-URL:https://www.foodcyclela.org
X-WR-CALDESC:Events for FoodCycle
REFRESH-INTERVAL;VALUE=DURATION:PT1H
X-Robots-Tag:noindex
X-PUBLISHED-TTL:PT1H
BEGIN:VTIMEZONE
TZID:America/Los_Angeles
BEGIN:DAYLIGHT
TZOFFSETFROM:-0800
TZOFFSETTO:-0700
TZNAME:PDT
DTSTART:20250309T100000
END:DAYLIGHT
BEGIN:STANDARD
TZOFFSETFROM:-0700
TZOFFSETTO:-0800
TZNAME:PST
DTSTART:20251102T090000
END:STANDARD
BEGIN:DAYLIGHT
TZOFFSETFROM:-0800
TZOFFSETTO:-0700
TZNAME:PDT
DTSTART:20260308T100000
END:DAYLIGHT
BEGIN:STANDARD
TZOFFSETFROM:-0700
TZOFFSETTO:-0800
TZNAME:PST
DTSTART:20261101T090000
END:STANDARD
BEGIN:DAYLIGHT
TZOFFSETFROM:-0800
TZOFFSETTO:-0700
TZNAME:PDT
DTSTART:20270314T100000
END:DAYLIGHT
BEGIN:STANDARD
TZOFFSETFROM:-0700
TZOFFSETTO:-0800
TZNAME:PST
DTSTART:20271107T090000
END:STANDARD
BEGIN:DAYLIGHT
TZOFFSETFROM:-0800
TZOFFSETTO:-0700
TZNAME:PDT
DTSTART:20280312T100000
END:DAYLIGHT
BEGIN:STANDARD
TZOFFSETFROM:-0700
TZOFFSETTO:-0800
TZNAME:PST
DTSTART:20281105T090000
END:STANDARD
BEGIN:DAYLIGHT
TZOFFSETFROM:-0800
TZOFFSETTO:-0700
TZNAME:PDT
DTSTART:20290311T100000
END:DAYLIGHT
BEGIN:STANDARD
TZOFFSETFROM:-0700
TZOFFSETTO:-0800
TZNAME:PST
DTSTART:20291104T090000
END:STANDARD
BEGIN:DAYLIGHT
TZOFFSETFROM:-0800
TZOFFSETTO:-0700
TZNAME:PDT
DTSTART:20300310T100000
END:DAYLIGHT
BEGIN:STANDARD
TZOFFSETFROM:-0700
TZOFFSETTO:-0800
TZNAME:PST
DTSTART:20301103T090000
END:STANDARD
BEGIN:DAYLIGHT
TZOFFSETFROM:-0800
TZOFFSETTO:-0700
TZNAME:PDT
DTSTART:20310309T100000
END:DAYLIGHT
BEGIN:STANDARD
TZOFFSETFROM:-0700
TZOFFSETTO:-0800
TZNAME:PST
DTSTART:20311102T090000
END:STANDARD
END:VTIMEZONE
BEGIN:VEVENT
DTSTART;VALUE=DATE:20260401
DTEND;VALUE=DATE:20260501
DTSTAMP:20260419T075854
CREATED:20260211T235205Z
LAST-MODIFIED:20260211T235205Z
UID:10000611-1775001600-1777593599@www.foodcyclela.org
SUMMARY:National Volunteer Month
DESCRIPTION:National Volunteer Month recognizes the individuals who give their time and energy to strengthen communities. At FoodCycle\, volunteers are essential to our mission\, sorting rescued produce\, preparing distributions\, supporting partnerships\, and advancing climate-focused initiatives. Every volunteer shift transforms surplus food into nourishment and reduces environmental waste. This month\, we celebrate the people who show up consistently to serve with dignity\, compassion\, and action.
URL:https://www.foodcyclela.org/event/national-volunteer-month/2026-04-01/
END:VEVENT
BEGIN:VEVENT
DTSTART;VALUE=DATE:20270401
DTEND;VALUE=DATE:20270501
DTSTAMP:20260419T075854
CREATED:20260211T235205Z
LAST-MODIFIED:20260211T235205Z
UID:10000612-1806537600-1809129599@www.foodcyclela.org
SUMMARY:National Volunteer Month
DESCRIPTION:National Volunteer Month recognizes the individuals who give their time and energy to strengthen communities. At FoodCycle\, volunteers are essential to our mission\, sorting rescued produce\, preparing distributions\, supporting partnerships\, and advancing climate-focused initiatives. Every volunteer shift transforms surplus food into nourishment and reduces environmental waste. This month\, we celebrate the people who show up consistently to serve with dignity\, compassion\, and action.
URL:https://www.foodcyclela.org/event/national-volunteer-month/2027-04-01/
END:VEVENT
BEGIN:VEVENT
DTSTART;VALUE=DATE:20280401
DTEND;VALUE=DATE:20280501
DTSTAMP:20260419T075854
CREATED:20260211T235205Z
LAST-MODIFIED:20260211T235205Z
UID:10000613-1838160000-1840751999@www.foodcyclela.org
SUMMARY:National Volunteer Month
DESCRIPTION:National Volunteer Month recognizes the individuals who give their time and energy to strengthen communities. At FoodCycle\, volunteers are essential to our mission\, sorting rescued produce\, preparing distributions\, supporting partnerships\, and advancing climate-focused initiatives. Every volunteer shift transforms surplus food into nourishment and reduces environmental waste. This month\, we celebrate the people who show up consistently to serve with dignity\, compassion\, and action.
URL:https://www.foodcyclela.org/event/national-volunteer-month/2028-04-01/
END:VEVENT
BEGIN:VEVENT
DTSTART;VALUE=DATE:20290401
DTEND;VALUE=DATE:20290501
DTSTAMP:20260419T075854
CREATED:20260211T235205Z
LAST-MODIFIED:20260211T235205Z
UID:10000614-1869696000-1872287999@www.foodcyclela.org
SUMMARY:National Volunteer Month
DESCRIPTION:National Volunteer Month recognizes the individuals who give their time and energy to strengthen communities. At FoodCycle\, volunteers are essential to our mission\, sorting rescued produce\, preparing distributions\, supporting partnerships\, and advancing climate-focused initiatives. Every volunteer shift transforms surplus food into nourishment and reduces environmental waste. This month\, we celebrate the people who show up consistently to serve with dignity\, compassion\, and action.
URL:https://www.foodcyclela.org/event/national-volunteer-month/2029-04-01/
END:VEVENT
BEGIN:VEVENT
DTSTART;VALUE=DATE:20300401
DTEND;VALUE=DATE:20300501
DTSTAMP:20260419T075854
CREATED:20260211T235205Z
LAST-MODIFIED:20260211T235205Z
UID:10000615-1901232000-1903823999@www.foodcyclela.org
SUMMARY:National Volunteer Month
DESCRIPTION:National Volunteer Month recognizes the individuals who give their time and energy to strengthen communities. At FoodCycle\, volunteers are essential to our mission\, sorting rescued produce\, preparing distributions\, supporting partnerships\, and advancing climate-focused initiatives. Every volunteer shift transforms surplus food into nourishment and reduces environmental waste. This month\, we celebrate the people who show up consistently to serve with dignity\, compassion\, and action.
URL:https://www.foodcyclela.org/event/national-volunteer-month/2030-04-01/
END:VEVENT
END:VCALENDAR