BEGIN:VCALENDAR
VERSION:2.0
PRODID:-//FoodCycle - ECPv6.15.20//NONSGML v1.0//EN
CALSCALE:GREGORIAN
METHOD:PUBLISH
X-WR-CALNAME:FoodCycle
X-ORIGINAL-URL:https://www.foodcyclela.org
X-WR-CALDESC:Events for FoodCycle
REFRESH-INTERVAL;VALUE=DURATION:PT1H
X-Robots-Tag:noindex
X-PUBLISHED-TTL:PT1H
BEGIN:VTIMEZONE
TZID:America/Los_Angeles
BEGIN:DAYLIGHT
TZOFFSETFROM:-0800
TZOFFSETTO:-0700
TZNAME:PDT
DTSTART:20250309T100000
END:DAYLIGHT
BEGIN:STANDARD
TZOFFSETFROM:-0700
TZOFFSETTO:-0800
TZNAME:PST
DTSTART:20251102T090000
END:STANDARD
BEGIN:DAYLIGHT
TZOFFSETFROM:-0800
TZOFFSETTO:-0700
TZNAME:PDT
DTSTART:20260308T100000
END:DAYLIGHT
BEGIN:STANDARD
TZOFFSETFROM:-0700
TZOFFSETTO:-0800
TZNAME:PST
DTSTART:20261101T090000
END:STANDARD
BEGIN:DAYLIGHT
TZOFFSETFROM:-0800
TZOFFSETTO:-0700
TZNAME:PDT
DTSTART:20270314T100000
END:DAYLIGHT
BEGIN:STANDARD
TZOFFSETFROM:-0700
TZOFFSETTO:-0800
TZNAME:PST
DTSTART:20271107T090000
END:STANDARD
BEGIN:DAYLIGHT
TZOFFSETFROM:-0800
TZOFFSETTO:-0700
TZNAME:PDT
DTSTART:20280312T100000
END:DAYLIGHT
BEGIN:STANDARD
TZOFFSETFROM:-0700
TZOFFSETTO:-0800
TZNAME:PST
DTSTART:20281105T090000
END:STANDARD
BEGIN:DAYLIGHT
TZOFFSETFROM:-0800
TZOFFSETTO:-0700
TZNAME:PDT
DTSTART:20290311T100000
END:DAYLIGHT
BEGIN:STANDARD
TZOFFSETFROM:-0700
TZOFFSETTO:-0800
TZNAME:PST
DTSTART:20291104T090000
END:STANDARD
BEGIN:DAYLIGHT
TZOFFSETFROM:-0800
TZOFFSETTO:-0700
TZNAME:PDT
DTSTART:20300310T100000
END:DAYLIGHT
BEGIN:STANDARD
TZOFFSETFROM:-0700
TZOFFSETTO:-0800
TZNAME:PST
DTSTART:20301103T090000
END:STANDARD
BEGIN:DAYLIGHT
TZOFFSETFROM:-0800
TZOFFSETTO:-0700
TZNAME:PDT
DTSTART:20310309T100000
END:DAYLIGHT
BEGIN:STANDARD
TZOFFSETFROM:-0700
TZOFFSETTO:-0800
TZNAME:PST
DTSTART:20311102T090000
END:STANDARD
END:VTIMEZONE
BEGIN:VEVENT
DTSTART;VALUE=DATE:20260422
DTEND;VALUE=DATE:20260423
DTSTAMP:20260419T075853
CREATED:20260212T000408Z
LAST-MODIFIED:20260212T000408Z
UID:10000626-1776816000-1776902399@www.foodcyclela.org
SUMMARY:Earth Day (Apr 22 – UN)
DESCRIPTION:Earth Day is a global call to protect our planet through meaningful\, collective action. At FoodCycle\, environmental stewardship and food justice are inseparable. Food waste is a major contributor to greenhouse gas emissions — yet millions face food insecurity. By rescuing surplus food and redistributing it to families in need\, we reduce landfill waste\, conserve water and resources\, and nourish our community. Earth Day reminds us that sustainable solutions can strengthen both the planet and the people who call it home.
URL:https://www.foodcyclela.org/event/earth-day-apr-22-un/2026-04-22/
END:VEVENT
BEGIN:VEVENT
DTSTART;VALUE=DATE:20270422
DTEND;VALUE=DATE:20270423
DTSTAMP:20260419T075853
CREATED:20260212T000408Z
LAST-MODIFIED:20260212T000408Z
UID:10000627-1808352000-1808438399@www.foodcyclela.org
SUMMARY:Earth Day (Apr 22 – UN)
DESCRIPTION:Earth Day is a global call to protect our planet through meaningful\, collective action. At FoodCycle\, environmental stewardship and food justice are inseparable. Food waste is a major contributor to greenhouse gas emissions — yet millions face food insecurity. By rescuing surplus food and redistributing it to families in need\, we reduce landfill waste\, conserve water and resources\, and nourish our community. Earth Day reminds us that sustainable solutions can strengthen both the planet and the people who call it home.
URL:https://www.foodcyclela.org/event/earth-day-apr-22-un/2027-04-22/
END:VEVENT
BEGIN:VEVENT
DTSTART;VALUE=DATE:20280422
DTEND;VALUE=DATE:20280423
DTSTAMP:20260419T075853
CREATED:20260212T000408Z
LAST-MODIFIED:20260212T000408Z
UID:10000628-1839974400-1840060799@www.foodcyclela.org
SUMMARY:Earth Day (Apr 22 – UN)
DESCRIPTION:Earth Day is a global call to protect our planet through meaningful\, collective action. At FoodCycle\, environmental stewardship and food justice are inseparable. Food waste is a major contributor to greenhouse gas emissions — yet millions face food insecurity. By rescuing surplus food and redistributing it to families in need\, we reduce landfill waste\, conserve water and resources\, and nourish our community. Earth Day reminds us that sustainable solutions can strengthen both the planet and the people who call it home.
URL:https://www.foodcyclela.org/event/earth-day-apr-22-un/2028-04-22/
END:VEVENT
BEGIN:VEVENT
DTSTART;VALUE=DATE:20290422
DTEND;VALUE=DATE:20290423
DTSTAMP:20260419T075853
CREATED:20260212T000408Z
LAST-MODIFIED:20260212T000408Z
UID:10000629-1871510400-1871596799@www.foodcyclela.org
SUMMARY:Earth Day (Apr 22 – UN)
DESCRIPTION:Earth Day is a global call to protect our planet through meaningful\, collective action. At FoodCycle\, environmental stewardship and food justice are inseparable. Food waste is a major contributor to greenhouse gas emissions — yet millions face food insecurity. By rescuing surplus food and redistributing it to families in need\, we reduce landfill waste\, conserve water and resources\, and nourish our community. Earth Day reminds us that sustainable solutions can strengthen both the planet and the people who call it home.
URL:https://www.foodcyclela.org/event/earth-day-apr-22-un/2029-04-22/
END:VEVENT
BEGIN:VEVENT
DTSTART;VALUE=DATE:20300422
DTEND;VALUE=DATE:20300423
DTSTAMP:20260419T075853
CREATED:20260212T000408Z
LAST-MODIFIED:20260212T000408Z
UID:10000630-1903046400-1903132799@www.foodcyclela.org
SUMMARY:Earth Day (Apr 22 – UN)
DESCRIPTION:Earth Day is a global call to protect our planet through meaningful\, collective action. At FoodCycle\, environmental stewardship and food justice are inseparable. Food waste is a major contributor to greenhouse gas emissions — yet millions face food insecurity. By rescuing surplus food and redistributing it to families in need\, we reduce landfill waste\, conserve water and resources\, and nourish our community. Earth Day reminds us that sustainable solutions can strengthen both the planet and the people who call it home.
URL:https://www.foodcyclela.org/event/earth-day-apr-22-un/2030-04-22/
END:VEVENT
END:VCALENDAR