BEGIN:VCALENDAR
VERSION:2.0
PRODID:-//FoodCycle - ECPv6.15.20//NONSGML v1.0//EN
CALSCALE:GREGORIAN
METHOD:PUBLISH
X-WR-CALNAME:FoodCycle
X-ORIGINAL-URL:https://www.foodcyclela.org
X-WR-CALDESC:Events for FoodCycle
REFRESH-INTERVAL;VALUE=DURATION:PT1H
X-Robots-Tag:noindex
X-PUBLISHED-TTL:PT1H
BEGIN:VTIMEZONE
TZID:America/Los_Angeles
BEGIN:DAYLIGHT
TZOFFSETFROM:-0800
TZOFFSETTO:-0700
TZNAME:PDT
DTSTART:20250309T100000
END:DAYLIGHT
BEGIN:STANDARD
TZOFFSETFROM:-0700
TZOFFSETTO:-0800
TZNAME:PST
DTSTART:20251102T090000
END:STANDARD
BEGIN:DAYLIGHT
TZOFFSETFROM:-0800
TZOFFSETTO:-0700
TZNAME:PDT
DTSTART:20260308T100000
END:DAYLIGHT
BEGIN:STANDARD
TZOFFSETFROM:-0700
TZOFFSETTO:-0800
TZNAME:PST
DTSTART:20261101T090000
END:STANDARD
BEGIN:DAYLIGHT
TZOFFSETFROM:-0800
TZOFFSETTO:-0700
TZNAME:PDT
DTSTART:20270314T100000
END:DAYLIGHT
BEGIN:STANDARD
TZOFFSETFROM:-0700
TZOFFSETTO:-0800
TZNAME:PST
DTSTART:20271107T090000
END:STANDARD
BEGIN:DAYLIGHT
TZOFFSETFROM:-0800
TZOFFSETTO:-0700
TZNAME:PDT
DTSTART:20280312T100000
END:DAYLIGHT
BEGIN:STANDARD
TZOFFSETFROM:-0700
TZOFFSETTO:-0800
TZNAME:PST
DTSTART:20281105T090000
END:STANDARD
BEGIN:DAYLIGHT
TZOFFSETFROM:-0800
TZOFFSETTO:-0700
TZNAME:PDT
DTSTART:20290311T100000
END:DAYLIGHT
BEGIN:STANDARD
TZOFFSETFROM:-0700
TZOFFSETTO:-0800
TZNAME:PST
DTSTART:20291104T090000
END:STANDARD
BEGIN:DAYLIGHT
TZOFFSETFROM:-0800
TZOFFSETTO:-0700
TZNAME:PDT
DTSTART:20300310T100000
END:DAYLIGHT
BEGIN:STANDARD
TZOFFSETFROM:-0700
TZOFFSETTO:-0800
TZNAME:PST
DTSTART:20301103T090000
END:STANDARD
BEGIN:DAYLIGHT
TZOFFSETFROM:-0800
TZOFFSETTO:-0700
TZNAME:PDT
DTSTART:20310309T100000
END:DAYLIGHT
BEGIN:STANDARD
TZOFFSETFROM:-0700
TZOFFSETTO:-0800
TZNAME:PST
DTSTART:20311102T090000
END:STANDARD
END:VTIMEZONE
BEGIN:VEVENT
DTSTART;VALUE=DATE:20260501
DTEND;VALUE=DATE:20260601
DTSTAMP:20260419T075855
CREATED:20260212T001903Z
LAST-MODIFIED:20260212T001903Z
UID:10000641-1777593600-1780271999@www.foodcyclela.org
SUMMARY:Mental Health Awareness Month
DESCRIPTION:Mental Health Awareness Month highlights the importance of emotional and psychological well-being. Food insecurity and financial stress can significantly impact mental health\, increasing anxiety and instability for families. At FoodCycle\, providing consistent access to nutritious food helps reduce stress and strengthen community resilience. When basic needs are met\, individuals and families are better able to focus on healing\, stability\, and growth.
URL:https://www.foodcyclela.org/event/mental-health-awareness-month/2026-05-01/
END:VEVENT
BEGIN:VEVENT
DTSTART;VALUE=DATE:20270501
DTEND;VALUE=DATE:20270601
DTSTAMP:20260419T075855
CREATED:20260212T001903Z
LAST-MODIFIED:20260212T001903Z
UID:10000642-1809129600-1811807999@www.foodcyclela.org
SUMMARY:Mental Health Awareness Month
DESCRIPTION:Mental Health Awareness Month highlights the importance of emotional and psychological well-being. Food insecurity and financial stress can significantly impact mental health\, increasing anxiety and instability for families. At FoodCycle\, providing consistent access to nutritious food helps reduce stress and strengthen community resilience. When basic needs are met\, individuals and families are better able to focus on healing\, stability\, and growth.
URL:https://www.foodcyclela.org/event/mental-health-awareness-month/2027-05-01/
END:VEVENT
BEGIN:VEVENT
DTSTART;VALUE=DATE:20280501
DTEND;VALUE=DATE:20280601
DTSTAMP:20260419T075855
CREATED:20260212T001903Z
LAST-MODIFIED:20260212T001903Z
UID:10000643-1840752000-1843430399@www.foodcyclela.org
SUMMARY:Mental Health Awareness Month
DESCRIPTION:Mental Health Awareness Month highlights the importance of emotional and psychological well-being. Food insecurity and financial stress can significantly impact mental health\, increasing anxiety and instability for families. At FoodCycle\, providing consistent access to nutritious food helps reduce stress and strengthen community resilience. When basic needs are met\, individuals and families are better able to focus on healing\, stability\, and growth.
URL:https://www.foodcyclela.org/event/mental-health-awareness-month/2028-05-01/
END:VEVENT
BEGIN:VEVENT
DTSTART;VALUE=DATE:20290501
DTEND;VALUE=DATE:20290601
DTSTAMP:20260419T075855
CREATED:20260212T001903Z
LAST-MODIFIED:20260212T001903Z
UID:10000644-1872288000-1874966399@www.foodcyclela.org
SUMMARY:Mental Health Awareness Month
DESCRIPTION:Mental Health Awareness Month highlights the importance of emotional and psychological well-being. Food insecurity and financial stress can significantly impact mental health\, increasing anxiety and instability for families. At FoodCycle\, providing consistent access to nutritious food helps reduce stress and strengthen community resilience. When basic needs are met\, individuals and families are better able to focus on healing\, stability\, and growth.
URL:https://www.foodcyclela.org/event/mental-health-awareness-month/2029-05-01/
END:VEVENT
BEGIN:VEVENT
DTSTART;VALUE=DATE:20300501
DTEND;VALUE=DATE:20300601
DTSTAMP:20260419T075855
CREATED:20260212T001903Z
LAST-MODIFIED:20260212T001903Z
UID:10000645-1903824000-1906502399@www.foodcyclela.org
SUMMARY:Mental Health Awareness Month
DESCRIPTION:Mental Health Awareness Month highlights the importance of emotional and psychological well-being. Food insecurity and financial stress can significantly impact mental health\, increasing anxiety and instability for families. At FoodCycle\, providing consistent access to nutritious food helps reduce stress and strengthen community resilience. When basic needs are met\, individuals and families are better able to focus on healing\, stability\, and growth.
URL:https://www.foodcyclela.org/event/mental-health-awareness-month/2030-05-01/
END:VEVENT
END:VCALENDAR