BEGIN:VCALENDAR
VERSION:2.0
PRODID:-//FoodCycle - ECPv6.15.20//NONSGML v1.0//EN
CALSCALE:GREGORIAN
METHOD:PUBLISH
X-WR-CALNAME:FoodCycle
X-ORIGINAL-URL:https://www.foodcyclela.org
X-WR-CALDESC:Events for FoodCycle
REFRESH-INTERVAL;VALUE=DURATION:PT1H
X-Robots-Tag:noindex
X-PUBLISHED-TTL:PT1H
BEGIN:VTIMEZONE
TZID:America/Los_Angeles
BEGIN:DAYLIGHT
TZOFFSETFROM:-0800
TZOFFSETTO:-0700
TZNAME:PDT
DTSTART:20250309T100000
END:DAYLIGHT
BEGIN:STANDARD
TZOFFSETFROM:-0700
TZOFFSETTO:-0800
TZNAME:PST
DTSTART:20251102T090000
END:STANDARD
BEGIN:DAYLIGHT
TZOFFSETFROM:-0800
TZOFFSETTO:-0700
TZNAME:PDT
DTSTART:20260308T100000
END:DAYLIGHT
BEGIN:STANDARD
TZOFFSETFROM:-0700
TZOFFSETTO:-0800
TZNAME:PST
DTSTART:20261101T090000
END:STANDARD
BEGIN:DAYLIGHT
TZOFFSETFROM:-0800
TZOFFSETTO:-0700
TZNAME:PDT
DTSTART:20270314T100000
END:DAYLIGHT
BEGIN:STANDARD
TZOFFSETFROM:-0700
TZOFFSETTO:-0800
TZNAME:PST
DTSTART:20271107T090000
END:STANDARD
BEGIN:DAYLIGHT
TZOFFSETFROM:-0800
TZOFFSETTO:-0700
TZNAME:PDT
DTSTART:20280312T100000
END:DAYLIGHT
BEGIN:STANDARD
TZOFFSETFROM:-0700
TZOFFSETTO:-0800
TZNAME:PST
DTSTART:20281105T090000
END:STANDARD
BEGIN:DAYLIGHT
TZOFFSETFROM:-0800
TZOFFSETTO:-0700
TZNAME:PDT
DTSTART:20290311T100000
END:DAYLIGHT
BEGIN:STANDARD
TZOFFSETFROM:-0700
TZOFFSETTO:-0800
TZNAME:PST
DTSTART:20291104T090000
END:STANDARD
BEGIN:DAYLIGHT
TZOFFSETFROM:-0800
TZOFFSETTO:-0700
TZNAME:PDT
DTSTART:20300310T100000
END:DAYLIGHT
BEGIN:STANDARD
TZOFFSETFROM:-0700
TZOFFSETTO:-0800
TZNAME:PST
DTSTART:20301103T090000
END:STANDARD
BEGIN:DAYLIGHT
TZOFFSETFROM:-0800
TZOFFSETTO:-0700
TZNAME:PDT
DTSTART:20310309T100000
END:DAYLIGHT
BEGIN:STANDARD
TZOFFSETFROM:-0700
TZOFFSETTO:-0800
TZNAME:PST
DTSTART:20311102T090000
END:STANDARD
END:VTIMEZONE
BEGIN:VEVENT
DTSTART;VALUE=DATE:20260501
DTEND;VALUE=DATE:20260601
DTSTAMP:20260419T075928
CREATED:20260212T002323Z
LAST-MODIFIED:20260212T002323Z
UID:10000656-1777593600-1780271999@www.foodcyclela.org
SUMMARY:National Bike Month 🚲
DESCRIPTION:National Bike Month highlights the importance of sustainable transportation and reducing carbon emissions. At FoodCycle\, environmental responsibility is part of our mission. In addition to rescuing surplus food\, we utilize green vehicles\, including electric transportation\, to reduce our carbon footprint while serving communities experiencing food insecurity. Every mile driven sustainably supports cleaner air\, healthier neighborhoods\, and stronger climate resilience. This month\, we encourage our community to explore eco-friendly transportation options and join us in building a greener future.
URL:https://www.foodcyclela.org/event/national-bike-month-%f0%9f%9a%b2/2026-05-01/
END:VEVENT
BEGIN:VEVENT
DTSTART;VALUE=DATE:20270501
DTEND;VALUE=DATE:20270601
DTSTAMP:20260419T075928
CREATED:20260212T002323Z
LAST-MODIFIED:20260212T002323Z
UID:10000657-1809129600-1811807999@www.foodcyclela.org
SUMMARY:National Bike Month 🚲
DESCRIPTION:National Bike Month highlights the importance of sustainable transportation and reducing carbon emissions. At FoodCycle\, environmental responsibility is part of our mission. In addition to rescuing surplus food\, we utilize green vehicles\, including electric transportation\, to reduce our carbon footprint while serving communities experiencing food insecurity. Every mile driven sustainably supports cleaner air\, healthier neighborhoods\, and stronger climate resilience. This month\, we encourage our community to explore eco-friendly transportation options and join us in building a greener future.
URL:https://www.foodcyclela.org/event/national-bike-month-%f0%9f%9a%b2/2027-05-01/
END:VEVENT
BEGIN:VEVENT
DTSTART;VALUE=DATE:20280501
DTEND;VALUE=DATE:20280601
DTSTAMP:20260419T075928
CREATED:20260212T002323Z
LAST-MODIFIED:20260212T002323Z
UID:10000658-1840752000-1843430399@www.foodcyclela.org
SUMMARY:National Bike Month 🚲
DESCRIPTION:National Bike Month highlights the importance of sustainable transportation and reducing carbon emissions. At FoodCycle\, environmental responsibility is part of our mission. In addition to rescuing surplus food\, we utilize green vehicles\, including electric transportation\, to reduce our carbon footprint while serving communities experiencing food insecurity. Every mile driven sustainably supports cleaner air\, healthier neighborhoods\, and stronger climate resilience. This month\, we encourage our community to explore eco-friendly transportation options and join us in building a greener future.
URL:https://www.foodcyclela.org/event/national-bike-month-%f0%9f%9a%b2/2028-05-01/
END:VEVENT
BEGIN:VEVENT
DTSTART;VALUE=DATE:20290501
DTEND;VALUE=DATE:20290601
DTSTAMP:20260419T075928
CREATED:20260212T002323Z
LAST-MODIFIED:20260212T002323Z
UID:10000659-1872288000-1874966399@www.foodcyclela.org
SUMMARY:National Bike Month 🚲
DESCRIPTION:National Bike Month highlights the importance of sustainable transportation and reducing carbon emissions. At FoodCycle\, environmental responsibility is part of our mission. In addition to rescuing surplus food\, we utilize green vehicles\, including electric transportation\, to reduce our carbon footprint while serving communities experiencing food insecurity. Every mile driven sustainably supports cleaner air\, healthier neighborhoods\, and stronger climate resilience. This month\, we encourage our community to explore eco-friendly transportation options and join us in building a greener future.
URL:https://www.foodcyclela.org/event/national-bike-month-%f0%9f%9a%b2/2029-05-01/
END:VEVENT
BEGIN:VEVENT
DTSTART;VALUE=DATE:20300501
DTEND;VALUE=DATE:20300601
DTSTAMP:20260419T075928
CREATED:20260212T002323Z
LAST-MODIFIED:20260212T002323Z
UID:10000660-1903824000-1906502399@www.foodcyclela.org
SUMMARY:National Bike Month 🚲
DESCRIPTION:National Bike Month highlights the importance of sustainable transportation and reducing carbon emissions. At FoodCycle\, environmental responsibility is part of our mission. In addition to rescuing surplus food\, we utilize green vehicles\, including electric transportation\, to reduce our carbon footprint while serving communities experiencing food insecurity. Every mile driven sustainably supports cleaner air\, healthier neighborhoods\, and stronger climate resilience. This month\, we encourage our community to explore eco-friendly transportation options and join us in building a greener future.
URL:https://www.foodcyclela.org/event/national-bike-month-%f0%9f%9a%b2/2030-05-01/
END:VEVENT
END:VCALENDAR