BEGIN:VCALENDAR
VERSION:2.0
PRODID:-//FoodCycle - ECPv6.15.20//NONSGML v1.0//EN
CALSCALE:GREGORIAN
METHOD:PUBLISH
X-WR-CALNAME:FoodCycle
X-ORIGINAL-URL:https://www.foodcyclela.org
X-WR-CALDESC:Events for FoodCycle
REFRESH-INTERVAL;VALUE=DURATION:PT1H
X-Robots-Tag:noindex
X-PUBLISHED-TTL:PT1H
BEGIN:VTIMEZONE
TZID:America/Los_Angeles
BEGIN:DAYLIGHT
TZOFFSETFROM:-0800
TZOFFSETTO:-0700
TZNAME:PDT
DTSTART:20250309T100000
END:DAYLIGHT
BEGIN:STANDARD
TZOFFSETFROM:-0700
TZOFFSETTO:-0800
TZNAME:PST
DTSTART:20251102T090000
END:STANDARD
BEGIN:DAYLIGHT
TZOFFSETFROM:-0800
TZOFFSETTO:-0700
TZNAME:PDT
DTSTART:20260308T100000
END:DAYLIGHT
BEGIN:STANDARD
TZOFFSETFROM:-0700
TZOFFSETTO:-0800
TZNAME:PST
DTSTART:20261101T090000
END:STANDARD
BEGIN:DAYLIGHT
TZOFFSETFROM:-0800
TZOFFSETTO:-0700
TZNAME:PDT
DTSTART:20270314T100000
END:DAYLIGHT
BEGIN:STANDARD
TZOFFSETFROM:-0700
TZOFFSETTO:-0800
TZNAME:PST
DTSTART:20271107T090000
END:STANDARD
BEGIN:DAYLIGHT
TZOFFSETFROM:-0800
TZOFFSETTO:-0700
TZNAME:PDT
DTSTART:20280312T100000
END:DAYLIGHT
BEGIN:STANDARD
TZOFFSETFROM:-0700
TZOFFSETTO:-0800
TZNAME:PST
DTSTART:20281105T090000
END:STANDARD
BEGIN:DAYLIGHT
TZOFFSETFROM:-0800
TZOFFSETTO:-0700
TZNAME:PDT
DTSTART:20290311T100000
END:DAYLIGHT
BEGIN:STANDARD
TZOFFSETFROM:-0700
TZOFFSETTO:-0800
TZNAME:PST
DTSTART:20291104T090000
END:STANDARD
BEGIN:DAYLIGHT
TZOFFSETFROM:-0800
TZOFFSETTO:-0700
TZNAME:PDT
DTSTART:20300310T100000
END:DAYLIGHT
BEGIN:STANDARD
TZOFFSETFROM:-0700
TZOFFSETTO:-0800
TZNAME:PST
DTSTART:20301103T090000
END:STANDARD
BEGIN:DAYLIGHT
TZOFFSETFROM:-0800
TZOFFSETTO:-0700
TZNAME:PDT
DTSTART:20310309T100000
END:DAYLIGHT
BEGIN:STANDARD
TZOFFSETFROM:-0700
TZOFFSETTO:-0800
TZNAME:PST
DTSTART:20311102T090000
END:STANDARD
END:VTIMEZONE
BEGIN:VEVENT
DTSTART;VALUE=DATE:20260621
DTEND;VALUE=DATE:20260622
DTSTAMP:20260419T163110
CREATED:20260212T211922Z
LAST-MODIFIED:20260212T211922Z
UID:10000676-1782000000-1782086399@www.foodcyclela.org
SUMMARY:👔 Father’s Day (June 21)
DESCRIPTION:Father’s Day recognizes fathers and caregivers who provide support\, stability\, and guidance. At FoodCycle\, we support families by ensuring access to nutritious food — helping relieve financial stress and strengthen households. Today we celebrate fathers\, grandfathers\, and guardians who nurture their families and communities with dedication and care.
URL:https://www.foodcyclela.org/event/%f0%9f%91%94-fathers-day-june-21/2026-06-21/
END:VEVENT
BEGIN:VEVENT
DTSTART;VALUE=DATE:20270621
DTEND;VALUE=DATE:20270622
DTSTAMP:20260419T163110
CREATED:20260212T211922Z
LAST-MODIFIED:20260212T211922Z
UID:10000677-1813536000-1813622399@www.foodcyclela.org
SUMMARY:👔 Father’s Day (June 21)
DESCRIPTION:Father’s Day recognizes fathers and caregivers who provide support\, stability\, and guidance. At FoodCycle\, we support families by ensuring access to nutritious food — helping relieve financial stress and strengthen households. Today we celebrate fathers\, grandfathers\, and guardians who nurture their families and communities with dedication and care.
URL:https://www.foodcyclela.org/event/%f0%9f%91%94-fathers-day-june-21/2027-06-21/
END:VEVENT
BEGIN:VEVENT
DTSTART;VALUE=DATE:20280621
DTEND;VALUE=DATE:20280622
DTSTAMP:20260419T163110
CREATED:20260212T211922Z
LAST-MODIFIED:20260212T211922Z
UID:10000678-1845158400-1845244799@www.foodcyclela.org
SUMMARY:👔 Father’s Day (June 21)
DESCRIPTION:Father’s Day recognizes fathers and caregivers who provide support\, stability\, and guidance. At FoodCycle\, we support families by ensuring access to nutritious food — helping relieve financial stress and strengthen households. Today we celebrate fathers\, grandfathers\, and guardians who nurture their families and communities with dedication and care.
URL:https://www.foodcyclela.org/event/%f0%9f%91%94-fathers-day-june-21/2028-06-21/
END:VEVENT
BEGIN:VEVENT
DTSTART;VALUE=DATE:20290621
DTEND;VALUE=DATE:20290622
DTSTAMP:20260419T163110
CREATED:20260212T211922Z
LAST-MODIFIED:20260212T211922Z
UID:10000679-1876694400-1876780799@www.foodcyclela.org
SUMMARY:👔 Father’s Day (June 21)
DESCRIPTION:Father’s Day recognizes fathers and caregivers who provide support\, stability\, and guidance. At FoodCycle\, we support families by ensuring access to nutritious food — helping relieve financial stress and strengthen households. Today we celebrate fathers\, grandfathers\, and guardians who nurture their families and communities with dedication and care.
URL:https://www.foodcyclela.org/event/%f0%9f%91%94-fathers-day-june-21/2029-06-21/
END:VEVENT
BEGIN:VEVENT
DTSTART;VALUE=DATE:20300621
DTEND;VALUE=DATE:20300622
DTSTAMP:20260419T163110
CREATED:20260212T211922Z
LAST-MODIFIED:20260212T211922Z
UID:10000680-1908230400-1908316799@www.foodcyclela.org
SUMMARY:👔 Father’s Day (June 21)
DESCRIPTION:Father’s Day recognizes fathers and caregivers who provide support\, stability\, and guidance. At FoodCycle\, we support families by ensuring access to nutritious food — helping relieve financial stress and strengthen households. Today we celebrate fathers\, grandfathers\, and guardians who nurture their families and communities with dedication and care.
URL:https://www.foodcyclela.org/event/%f0%9f%91%94-fathers-day-june-21/2030-06-21/
END:VEVENT
END:VCALENDAR