BEGIN:VCALENDAR
VERSION:2.0
PRODID:-//FoodCycle - ECPv6.15.20//NONSGML v1.0//EN
CALSCALE:GREGORIAN
METHOD:PUBLISH
X-WR-CALNAME:FoodCycle
X-ORIGINAL-URL:https://www.foodcyclela.org
X-WR-CALDESC:Events for FoodCycle
REFRESH-INTERVAL;VALUE=DURATION:PT1H
X-Robots-Tag:noindex
X-PUBLISHED-TTL:PT1H
BEGIN:VTIMEZONE
TZID:America/Los_Angeles
BEGIN:DAYLIGHT
TZOFFSETFROM:-0800
TZOFFSETTO:-0700
TZNAME:PDT
DTSTART:20250309T100000
END:DAYLIGHT
BEGIN:STANDARD
TZOFFSETFROM:-0700
TZOFFSETTO:-0800
TZNAME:PST
DTSTART:20251102T090000
END:STANDARD
BEGIN:DAYLIGHT
TZOFFSETFROM:-0800
TZOFFSETTO:-0700
TZNAME:PDT
DTSTART:20260308T100000
END:DAYLIGHT
BEGIN:STANDARD
TZOFFSETFROM:-0700
TZOFFSETTO:-0800
TZNAME:PST
DTSTART:20261101T090000
END:STANDARD
BEGIN:DAYLIGHT
TZOFFSETFROM:-0800
TZOFFSETTO:-0700
TZNAME:PDT
DTSTART:20270314T100000
END:DAYLIGHT
BEGIN:STANDARD
TZOFFSETFROM:-0700
TZOFFSETTO:-0800
TZNAME:PST
DTSTART:20271107T090000
END:STANDARD
BEGIN:DAYLIGHT
TZOFFSETFROM:-0800
TZOFFSETTO:-0700
TZNAME:PDT
DTSTART:20280312T100000
END:DAYLIGHT
BEGIN:STANDARD
TZOFFSETFROM:-0700
TZOFFSETTO:-0800
TZNAME:PST
DTSTART:20281105T090000
END:STANDARD
BEGIN:DAYLIGHT
TZOFFSETFROM:-0800
TZOFFSETTO:-0700
TZNAME:PDT
DTSTART:20290311T100000
END:DAYLIGHT
BEGIN:STANDARD
TZOFFSETFROM:-0700
TZOFFSETTO:-0800
TZNAME:PST
DTSTART:20291104T090000
END:STANDARD
BEGIN:DAYLIGHT
TZOFFSETFROM:-0800
TZOFFSETTO:-0700
TZNAME:PDT
DTSTART:20300310T100000
END:DAYLIGHT
BEGIN:STANDARD
TZOFFSETFROM:-0700
TZOFFSETTO:-0800
TZNAME:PST
DTSTART:20301103T090000
END:STANDARD
BEGIN:DAYLIGHT
TZOFFSETFROM:-0800
TZOFFSETTO:-0700
TZNAME:PDT
DTSTART:20310309T100000
END:DAYLIGHT
BEGIN:STANDARD
TZOFFSETFROM:-0700
TZOFFSETTO:-0800
TZNAME:PST
DTSTART:20311102T090000
END:STANDARD
END:VTIMEZONE
BEGIN:VEVENT
DTSTART;VALUE=DATE:20260621
DTEND;VALUE=DATE:20260622
DTSTAMP:20260419T110403
CREATED:20260212T212014Z
LAST-MODIFIED:20260212T212014Z
UID:10000681-1782000000-1782086399@www.foodcyclela.org
SUMMARY:✊🏽 Juneteenth (June 19\, 2026)
DESCRIPTION:Juneteenth commemorates the emancipation of enslaved African Americans and celebrates Black resilience\, culture\, and progress. Food justice is deeply connected to equity and freedom — including access to land\, nourishment\, and economic opportunity. At FoodCycle\, we honor the legacy of community-led food systems and work toward equitable access to healthy food in historically underserved neighborhoods.
URL:https://www.foodcyclela.org/event/%e2%9c%8a%f0%9f%8f%bd-juneteenth-june-19-2026/2026-06-21/
END:VEVENT
BEGIN:VEVENT
DTSTART;VALUE=DATE:20270621
DTEND;VALUE=DATE:20270622
DTSTAMP:20260419T110403
CREATED:20260212T212014Z
LAST-MODIFIED:20260212T212014Z
UID:10000682-1813536000-1813622399@www.foodcyclela.org
SUMMARY:✊🏽 Juneteenth (June 19\, 2026)
DESCRIPTION:Juneteenth commemorates the emancipation of enslaved African Americans and celebrates Black resilience\, culture\, and progress. Food justice is deeply connected to equity and freedom — including access to land\, nourishment\, and economic opportunity. At FoodCycle\, we honor the legacy of community-led food systems and work toward equitable access to healthy food in historically underserved neighborhoods.
URL:https://www.foodcyclela.org/event/%e2%9c%8a%f0%9f%8f%bd-juneteenth-june-19-2026/2027-06-21/
END:VEVENT
BEGIN:VEVENT
DTSTART;VALUE=DATE:20280621
DTEND;VALUE=DATE:20280622
DTSTAMP:20260419T110403
CREATED:20260212T212014Z
LAST-MODIFIED:20260212T212014Z
UID:10000683-1845158400-1845244799@www.foodcyclela.org
SUMMARY:✊🏽 Juneteenth (June 19\, 2026)
DESCRIPTION:Juneteenth commemorates the emancipation of enslaved African Americans and celebrates Black resilience\, culture\, and progress. Food justice is deeply connected to equity and freedom — including access to land\, nourishment\, and economic opportunity. At FoodCycle\, we honor the legacy of community-led food systems and work toward equitable access to healthy food in historically underserved neighborhoods.
URL:https://www.foodcyclela.org/event/%e2%9c%8a%f0%9f%8f%bd-juneteenth-june-19-2026/2028-06-21/
END:VEVENT
BEGIN:VEVENT
DTSTART;VALUE=DATE:20290621
DTEND;VALUE=DATE:20290622
DTSTAMP:20260419T110403
CREATED:20260212T212014Z
LAST-MODIFIED:20260212T212014Z
UID:10000684-1876694400-1876780799@www.foodcyclela.org
SUMMARY:✊🏽 Juneteenth (June 19\, 2026)
DESCRIPTION:Juneteenth commemorates the emancipation of enslaved African Americans and celebrates Black resilience\, culture\, and progress. Food justice is deeply connected to equity and freedom — including access to land\, nourishment\, and economic opportunity. At FoodCycle\, we honor the legacy of community-led food systems and work toward equitable access to healthy food in historically underserved neighborhoods.
URL:https://www.foodcyclela.org/event/%e2%9c%8a%f0%9f%8f%bd-juneteenth-june-19-2026/2029-06-21/
END:VEVENT
BEGIN:VEVENT
DTSTART;VALUE=DATE:20300621
DTEND;VALUE=DATE:20300622
DTSTAMP:20260419T110403
CREATED:20260212T212014Z
LAST-MODIFIED:20260212T212014Z
UID:10000685-1908230400-1908316799@www.foodcyclela.org
SUMMARY:✊🏽 Juneteenth (June 19\, 2026)
DESCRIPTION:Juneteenth commemorates the emancipation of enslaved African Americans and celebrates Black resilience\, culture\, and progress. Food justice is deeply connected to equity and freedom — including access to land\, nourishment\, and economic opportunity. At FoodCycle\, we honor the legacy of community-led food systems and work toward equitable access to healthy food in historically underserved neighborhoods.
URL:https://www.foodcyclela.org/event/%e2%9c%8a%f0%9f%8f%bd-juneteenth-june-19-2026/2030-06-21/
END:VEVENT
END:VCALENDAR