BEGIN:VCALENDAR
VERSION:2.0
PRODID:-//FoodCycle - ECPv6.15.20//NONSGML v1.0//EN
CALSCALE:GREGORIAN
METHOD:PUBLISH
X-WR-CALNAME:FoodCycle
X-ORIGINAL-URL:https://www.foodcyclela.org
X-WR-CALDESC:Events for FoodCycle
REFRESH-INTERVAL;VALUE=DURATION:PT1H
X-Robots-Tag:noindex
X-PUBLISHED-TTL:PT1H
BEGIN:VTIMEZONE
TZID:America/Los_Angeles
BEGIN:DAYLIGHT
TZOFFSETFROM:-0800
TZOFFSETTO:-0700
TZNAME:PDT
DTSTART:20250309T100000
END:DAYLIGHT
BEGIN:STANDARD
TZOFFSETFROM:-0700
TZOFFSETTO:-0800
TZNAME:PST
DTSTART:20251102T090000
END:STANDARD
BEGIN:DAYLIGHT
TZOFFSETFROM:-0800
TZOFFSETTO:-0700
TZNAME:PDT
DTSTART:20260308T100000
END:DAYLIGHT
BEGIN:STANDARD
TZOFFSETFROM:-0700
TZOFFSETTO:-0800
TZNAME:PST
DTSTART:20261101T090000
END:STANDARD
BEGIN:DAYLIGHT
TZOFFSETFROM:-0800
TZOFFSETTO:-0700
TZNAME:PDT
DTSTART:20270314T100000
END:DAYLIGHT
BEGIN:STANDARD
TZOFFSETFROM:-0700
TZOFFSETTO:-0800
TZNAME:PST
DTSTART:20271107T090000
END:STANDARD
BEGIN:DAYLIGHT
TZOFFSETFROM:-0800
TZOFFSETTO:-0700
TZNAME:PDT
DTSTART:20280312T100000
END:DAYLIGHT
BEGIN:STANDARD
TZOFFSETFROM:-0700
TZOFFSETTO:-0800
TZNAME:PST
DTSTART:20281105T090000
END:STANDARD
BEGIN:DAYLIGHT
TZOFFSETFROM:-0800
TZOFFSETTO:-0700
TZNAME:PDT
DTSTART:20290311T100000
END:DAYLIGHT
BEGIN:STANDARD
TZOFFSETFROM:-0700
TZOFFSETTO:-0800
TZNAME:PST
DTSTART:20291104T090000
END:STANDARD
BEGIN:DAYLIGHT
TZOFFSETFROM:-0800
TZOFFSETTO:-0700
TZNAME:PDT
DTSTART:20300310T100000
END:DAYLIGHT
BEGIN:STANDARD
TZOFFSETFROM:-0700
TZOFFSETTO:-0800
TZNAME:PST
DTSTART:20301103T090000
END:STANDARD
BEGIN:DAYLIGHT
TZOFFSETFROM:-0800
TZOFFSETTO:-0700
TZNAME:PDT
DTSTART:20310309T100000
END:DAYLIGHT
BEGIN:STANDARD
TZOFFSETFROM:-0700
TZOFFSETTO:-0800
TZNAME:PST
DTSTART:20311102T090000
END:STANDARD
END:VTIMEZONE
BEGIN:VEVENT
DTSTART;VALUE=DATE:20260701
DTEND;VALUE=DATE:20260801
DTSTAMP:20260419T121340
CREATED:20260212T215242Z
LAST-MODIFIED:20260212T215242Z
UID:10000701-1782864000-1785542399@www.foodcyclela.org
SUMMARY:National Picnic Month
DESCRIPTION:National Picnic Month celebrates gathering outdoors and sharing meals with family and friends. Food has always brought communities together. We believe everyone deserves to participate in moments of connection and joy around food. By rescuing surplus meals and supporting distributions throughout the summer\, we help ensure more families can share in the simple pleasure of a meal together.
URL:https://www.foodcyclela.org/event/national-picnic-month/2026-07-01/
END:VEVENT
BEGIN:VEVENT
DTSTART;VALUE=DATE:20270701
DTEND;VALUE=DATE:20270801
DTSTAMP:20260419T121340
CREATED:20260212T215242Z
LAST-MODIFIED:20260212T215242Z
UID:10000702-1814400000-1817078399@www.foodcyclela.org
SUMMARY:National Picnic Month
DESCRIPTION:National Picnic Month celebrates gathering outdoors and sharing meals with family and friends. Food has always brought communities together. We believe everyone deserves to participate in moments of connection and joy around food. By rescuing surplus meals and supporting distributions throughout the summer\, we help ensure more families can share in the simple pleasure of a meal together.
URL:https://www.foodcyclela.org/event/national-picnic-month/2027-07-01/
END:VEVENT
BEGIN:VEVENT
DTSTART;VALUE=DATE:20280701
DTEND;VALUE=DATE:20280801
DTSTAMP:20260419T121340
CREATED:20260212T215242Z
LAST-MODIFIED:20260212T215242Z
UID:10000703-1846022400-1848700799@www.foodcyclela.org
SUMMARY:National Picnic Month
DESCRIPTION:National Picnic Month celebrates gathering outdoors and sharing meals with family and friends. Food has always brought communities together. We believe everyone deserves to participate in moments of connection and joy around food. By rescuing surplus meals and supporting distributions throughout the summer\, we help ensure more families can share in the simple pleasure of a meal together.
URL:https://www.foodcyclela.org/event/national-picnic-month/2028-07-01/
END:VEVENT
BEGIN:VEVENT
DTSTART;VALUE=DATE:20290701
DTEND;VALUE=DATE:20290801
DTSTAMP:20260419T121340
CREATED:20260212T215242Z
LAST-MODIFIED:20260212T215242Z
UID:10000704-1877558400-1880236799@www.foodcyclela.org
SUMMARY:National Picnic Month
DESCRIPTION:National Picnic Month celebrates gathering outdoors and sharing meals with family and friends. Food has always brought communities together. We believe everyone deserves to participate in moments of connection and joy around food. By rescuing surplus meals and supporting distributions throughout the summer\, we help ensure more families can share in the simple pleasure of a meal together.
URL:https://www.foodcyclela.org/event/national-picnic-month/2029-07-01/
END:VEVENT
BEGIN:VEVENT
DTSTART;VALUE=DATE:20300701
DTEND;VALUE=DATE:20300801
DTSTAMP:20260419T121340
CREATED:20260212T215242Z
LAST-MODIFIED:20260212T215242Z
UID:10000705-1909094400-1911772799@www.foodcyclela.org
SUMMARY:National Picnic Month
DESCRIPTION:National Picnic Month celebrates gathering outdoors and sharing meals with family and friends. Food has always brought communities together. We believe everyone deserves to participate in moments of connection and joy around food. By rescuing surplus meals and supporting distributions throughout the summer\, we help ensure more families can share in the simple pleasure of a meal together.
URL:https://www.foodcyclela.org/event/national-picnic-month/2030-07-01/
END:VEVENT
END:VCALENDAR