BEGIN:VCALENDAR
VERSION:2.0
PRODID:-//FoodCycle - ECPv6.15.20//NONSGML v1.0//EN
CALSCALE:GREGORIAN
METHOD:PUBLISH
X-WR-CALNAME:FoodCycle
X-ORIGINAL-URL:https://www.foodcyclela.org
X-WR-CALDESC:Events for FoodCycle
REFRESH-INTERVAL;VALUE=DURATION:PT1H
X-Robots-Tag:noindex
X-PUBLISHED-TTL:PT1H
BEGIN:VTIMEZONE
TZID:America/Los_Angeles
BEGIN:DAYLIGHT
TZOFFSETFROM:-0800
TZOFFSETTO:-0700
TZNAME:PDT
DTSTART:20250309T100000
END:DAYLIGHT
BEGIN:STANDARD
TZOFFSETFROM:-0700
TZOFFSETTO:-0800
TZNAME:PST
DTSTART:20251102T090000
END:STANDARD
BEGIN:DAYLIGHT
TZOFFSETFROM:-0800
TZOFFSETTO:-0700
TZNAME:PDT
DTSTART:20260308T100000
END:DAYLIGHT
BEGIN:STANDARD
TZOFFSETFROM:-0700
TZOFFSETTO:-0800
TZNAME:PST
DTSTART:20261101T090000
END:STANDARD
BEGIN:DAYLIGHT
TZOFFSETFROM:-0800
TZOFFSETTO:-0700
TZNAME:PDT
DTSTART:20270314T100000
END:DAYLIGHT
BEGIN:STANDARD
TZOFFSETFROM:-0700
TZOFFSETTO:-0800
TZNAME:PST
DTSTART:20271107T090000
END:STANDARD
BEGIN:DAYLIGHT
TZOFFSETFROM:-0800
TZOFFSETTO:-0700
TZNAME:PDT
DTSTART:20280312T100000
END:DAYLIGHT
BEGIN:STANDARD
TZOFFSETFROM:-0700
TZOFFSETTO:-0800
TZNAME:PST
DTSTART:20281105T090000
END:STANDARD
BEGIN:DAYLIGHT
TZOFFSETFROM:-0800
TZOFFSETTO:-0700
TZNAME:PDT
DTSTART:20290311T100000
END:DAYLIGHT
BEGIN:STANDARD
TZOFFSETFROM:-0700
TZOFFSETTO:-0800
TZNAME:PST
DTSTART:20291104T090000
END:STANDARD
BEGIN:DAYLIGHT
TZOFFSETFROM:-0800
TZOFFSETTO:-0700
TZNAME:PDT
DTSTART:20300310T100000
END:DAYLIGHT
BEGIN:STANDARD
TZOFFSETFROM:-0700
TZOFFSETTO:-0800
TZNAME:PST
DTSTART:20301103T090000
END:STANDARD
BEGIN:DAYLIGHT
TZOFFSETFROM:-0800
TZOFFSETTO:-0700
TZNAME:PDT
DTSTART:20310309T100000
END:DAYLIGHT
BEGIN:STANDARD
TZOFFSETFROM:-0700
TZOFFSETTO:-0800
TZNAME:PST
DTSTART:20311102T090000
END:STANDARD
END:VTIMEZONE
BEGIN:VEVENT
DTSTART;VALUE=DATE:20260801
DTEND;VALUE=DATE:20260901
DTSTAMP:20260419T150319
CREATED:20260212T221352Z
LAST-MODIFIED:20260212T221352Z
UID:10000706-1785542400-1788220799@www.foodcyclela.org
SUMMARY:National Back to School Month
DESCRIPTION:Backpacks get packed. Schedules return. Classrooms fill.\nBut learning requires more than pencils and paper — it requires nourishment. Food insecurity disrupts focus\, attendance\, and long-term academic outcomes. Ensuring students have consistent access to healthy meals strengthens not just report cards\, but futures.
URL:https://www.foodcyclela.org/event/national-back-to-school-month/2026-08-01/
END:VEVENT
BEGIN:VEVENT
DTSTART;VALUE=DATE:20270801
DTEND;VALUE=DATE:20270901
DTSTAMP:20260419T150319
CREATED:20260212T221352Z
LAST-MODIFIED:20260212T221352Z
UID:10000707-1817078400-1819756799@www.foodcyclela.org
SUMMARY:National Back to School Month
DESCRIPTION:Backpacks get packed. Schedules return. Classrooms fill.\nBut learning requires more than pencils and paper — it requires nourishment. Food insecurity disrupts focus\, attendance\, and long-term academic outcomes. Ensuring students have consistent access to healthy meals strengthens not just report cards\, but futures.
URL:https://www.foodcyclela.org/event/national-back-to-school-month/2027-08-01/
END:VEVENT
BEGIN:VEVENT
DTSTART;VALUE=DATE:20280801
DTEND;VALUE=DATE:20280901
DTSTAMP:20260419T150319
CREATED:20260212T221352Z
LAST-MODIFIED:20260212T221352Z
UID:10000708-1848700800-1851379199@www.foodcyclela.org
SUMMARY:National Back to School Month
DESCRIPTION:Backpacks get packed. Schedules return. Classrooms fill.\nBut learning requires more than pencils and paper — it requires nourishment. Food insecurity disrupts focus\, attendance\, and long-term academic outcomes. Ensuring students have consistent access to healthy meals strengthens not just report cards\, but futures.
URL:https://www.foodcyclela.org/event/national-back-to-school-month/2028-08-01/
END:VEVENT
BEGIN:VEVENT
DTSTART;VALUE=DATE:20290801
DTEND;VALUE=DATE:20290901
DTSTAMP:20260419T150319
CREATED:20260212T221352Z
LAST-MODIFIED:20260212T221352Z
UID:10000709-1880236800-1882915199@www.foodcyclela.org
SUMMARY:National Back to School Month
DESCRIPTION:Backpacks get packed. Schedules return. Classrooms fill.\nBut learning requires more than pencils and paper — it requires nourishment. Food insecurity disrupts focus\, attendance\, and long-term academic outcomes. Ensuring students have consistent access to healthy meals strengthens not just report cards\, but futures.
URL:https://www.foodcyclela.org/event/national-back-to-school-month/2029-08-01/
END:VEVENT
BEGIN:VEVENT
DTSTART;VALUE=DATE:20300801
DTEND;VALUE=DATE:20300901
DTSTAMP:20260419T150319
CREATED:20260212T221352Z
LAST-MODIFIED:20260212T221352Z
UID:10000710-1911772800-1914451199@www.foodcyclela.org
SUMMARY:National Back to School Month
DESCRIPTION:Backpacks get packed. Schedules return. Classrooms fill.\nBut learning requires more than pencils and paper — it requires nourishment. Food insecurity disrupts focus\, attendance\, and long-term academic outcomes. Ensuring students have consistent access to healthy meals strengthens not just report cards\, but futures.
URL:https://www.foodcyclela.org/event/national-back-to-school-month/2030-08-01/
END:VEVENT
END:VCALENDAR