BEGIN:VCALENDAR
VERSION:2.0
PRODID:-//FoodCycle - ECPv6.15.20//NONSGML v1.0//EN
CALSCALE:GREGORIAN
METHOD:PUBLISH
X-WR-CALNAME:FoodCycle
X-ORIGINAL-URL:https://www.foodcyclela.org
X-WR-CALDESC:Events for FoodCycle
REFRESH-INTERVAL;VALUE=DURATION:PT1H
X-Robots-Tag:noindex
X-PUBLISHED-TTL:PT1H
BEGIN:VTIMEZONE
TZID:America/Los_Angeles
BEGIN:DAYLIGHT
TZOFFSETFROM:-0800
TZOFFSETTO:-0700
TZNAME:PDT
DTSTART:20250309T100000
END:DAYLIGHT
BEGIN:STANDARD
TZOFFSETFROM:-0700
TZOFFSETTO:-0800
TZNAME:PST
DTSTART:20251102T090000
END:STANDARD
BEGIN:DAYLIGHT
TZOFFSETFROM:-0800
TZOFFSETTO:-0700
TZNAME:PDT
DTSTART:20260308T100000
END:DAYLIGHT
BEGIN:STANDARD
TZOFFSETFROM:-0700
TZOFFSETTO:-0800
TZNAME:PST
DTSTART:20261101T090000
END:STANDARD
BEGIN:DAYLIGHT
TZOFFSETFROM:-0800
TZOFFSETTO:-0700
TZNAME:PDT
DTSTART:20270314T100000
END:DAYLIGHT
BEGIN:STANDARD
TZOFFSETFROM:-0700
TZOFFSETTO:-0800
TZNAME:PST
DTSTART:20271107T090000
END:STANDARD
BEGIN:DAYLIGHT
TZOFFSETFROM:-0800
TZOFFSETTO:-0700
TZNAME:PDT
DTSTART:20280312T100000
END:DAYLIGHT
BEGIN:STANDARD
TZOFFSETFROM:-0700
TZOFFSETTO:-0800
TZNAME:PST
DTSTART:20281105T090000
END:STANDARD
BEGIN:DAYLIGHT
TZOFFSETFROM:-0800
TZOFFSETTO:-0700
TZNAME:PDT
DTSTART:20290311T100000
END:DAYLIGHT
BEGIN:STANDARD
TZOFFSETFROM:-0700
TZOFFSETTO:-0800
TZNAME:PST
DTSTART:20291104T090000
END:STANDARD
BEGIN:DAYLIGHT
TZOFFSETFROM:-0800
TZOFFSETTO:-0700
TZNAME:PDT
DTSTART:20300310T100000
END:DAYLIGHT
BEGIN:STANDARD
TZOFFSETFROM:-0700
TZOFFSETTO:-0800
TZNAME:PST
DTSTART:20301103T090000
END:STANDARD
BEGIN:DAYLIGHT
TZOFFSETFROM:-0800
TZOFFSETTO:-0700
TZNAME:PDT
DTSTART:20310309T100000
END:DAYLIGHT
BEGIN:STANDARD
TZOFFSETFROM:-0700
TZOFFSETTO:-0800
TZNAME:PST
DTSTART:20311102T090000
END:STANDARD
END:VTIMEZONE
BEGIN:VEVENT
DTSTART;VALUE=DATE:20260901
DTEND;VALUE=DATE:20261001
DTSTAMP:20260419T122741
CREATED:20260212T221734Z
LAST-MODIFIED:20260212T221734Z
UID:10000726-1788220800-1790812799@www.foodcyclela.org
SUMMARY:🍎 Hunger Action Month
DESCRIPTION:Hunger is not invisible — it’s local. September is a reminder that food insecurity exists in every zip code. Raising awareness is important. Taking action is essential. Collective effort transforms excess into access and strengthens the fabric of neighborhoods.
URL:https://www.foodcyclela.org/event/%f0%9f%8d%8e-hunger-action-month/2026-09-01/
END:VEVENT
BEGIN:VEVENT
DTSTART;VALUE=DATE:20270901
DTEND;VALUE=DATE:20271001
DTSTAMP:20260419T122741
CREATED:20260212T221734Z
LAST-MODIFIED:20260212T221734Z
UID:10000727-1819756800-1822348799@www.foodcyclela.org
SUMMARY:🍎 Hunger Action Month
DESCRIPTION:Hunger is not invisible — it’s local. September is a reminder that food insecurity exists in every zip code. Raising awareness is important. Taking action is essential. Collective effort transforms excess into access and strengthens the fabric of neighborhoods.
URL:https://www.foodcyclela.org/event/%f0%9f%8d%8e-hunger-action-month/2027-09-01/
END:VEVENT
BEGIN:VEVENT
DTSTART;VALUE=DATE:20280901
DTEND;VALUE=DATE:20281001
DTSTAMP:20260419T122741
CREATED:20260212T221734Z
LAST-MODIFIED:20260212T221734Z
UID:10000728-1851379200-1853971199@www.foodcyclela.org
SUMMARY:🍎 Hunger Action Month
DESCRIPTION:Hunger is not invisible — it’s local. September is a reminder that food insecurity exists in every zip code. Raising awareness is important. Taking action is essential. Collective effort transforms excess into access and strengthens the fabric of neighborhoods.
URL:https://www.foodcyclela.org/event/%f0%9f%8d%8e-hunger-action-month/2028-09-01/
END:VEVENT
BEGIN:VEVENT
DTSTART;VALUE=DATE:20290901
DTEND;VALUE=DATE:20291001
DTSTAMP:20260419T122741
CREATED:20260212T221734Z
LAST-MODIFIED:20260212T221734Z
UID:10000729-1882915200-1885507199@www.foodcyclela.org
SUMMARY:🍎 Hunger Action Month
DESCRIPTION:Hunger is not invisible — it’s local. September is a reminder that food insecurity exists in every zip code. Raising awareness is important. Taking action is essential. Collective effort transforms excess into access and strengthens the fabric of neighborhoods.
URL:https://www.foodcyclela.org/event/%f0%9f%8d%8e-hunger-action-month/2029-09-01/
END:VEVENT
BEGIN:VEVENT
DTSTART;VALUE=DATE:20300901
DTEND;VALUE=DATE:20301001
DTSTAMP:20260419T122741
CREATED:20260212T221734Z
LAST-MODIFIED:20260212T221734Z
UID:10000730-1914451200-1917043199@www.foodcyclela.org
SUMMARY:🍎 Hunger Action Month
DESCRIPTION:Hunger is not invisible — it’s local. September is a reminder that food insecurity exists in every zip code. Raising awareness is important. Taking action is essential. Collective effort transforms excess into access and strengthens the fabric of neighborhoods.
URL:https://www.foodcyclela.org/event/%f0%9f%8d%8e-hunger-action-month/2030-09-01/
END:VEVENT
END:VCALENDAR