BEGIN:VCALENDAR
VERSION:2.0
PRODID:-//FoodCycle - ECPv6.15.20//NONSGML v1.0//EN
CALSCALE:GREGORIAN
METHOD:PUBLISH
X-WR-CALNAME:FoodCycle
X-ORIGINAL-URL:https://www.foodcyclela.org
X-WR-CALDESC:Events for FoodCycle
REFRESH-INTERVAL;VALUE=DURATION:PT1H
X-Robots-Tag:noindex
X-PUBLISHED-TTL:PT1H
BEGIN:VTIMEZONE
TZID:America/Los_Angeles
BEGIN:DAYLIGHT
TZOFFSETFROM:-0800
TZOFFSETTO:-0700
TZNAME:PDT
DTSTART:20250309T100000
END:DAYLIGHT
BEGIN:STANDARD
TZOFFSETFROM:-0700
TZOFFSETTO:-0800
TZNAME:PST
DTSTART:20251102T090000
END:STANDARD
BEGIN:DAYLIGHT
TZOFFSETFROM:-0800
TZOFFSETTO:-0700
TZNAME:PDT
DTSTART:20260308T100000
END:DAYLIGHT
BEGIN:STANDARD
TZOFFSETFROM:-0700
TZOFFSETTO:-0800
TZNAME:PST
DTSTART:20261101T090000
END:STANDARD
BEGIN:DAYLIGHT
TZOFFSETFROM:-0800
TZOFFSETTO:-0700
TZNAME:PDT
DTSTART:20270314T100000
END:DAYLIGHT
BEGIN:STANDARD
TZOFFSETFROM:-0700
TZOFFSETTO:-0800
TZNAME:PST
DTSTART:20271107T090000
END:STANDARD
BEGIN:DAYLIGHT
TZOFFSETFROM:-0800
TZOFFSETTO:-0700
TZNAME:PDT
DTSTART:20280312T100000
END:DAYLIGHT
BEGIN:STANDARD
TZOFFSETFROM:-0700
TZOFFSETTO:-0800
TZNAME:PST
DTSTART:20281105T090000
END:STANDARD
BEGIN:DAYLIGHT
TZOFFSETFROM:-0800
TZOFFSETTO:-0700
TZNAME:PDT
DTSTART:20290311T100000
END:DAYLIGHT
BEGIN:STANDARD
TZOFFSETFROM:-0700
TZOFFSETTO:-0800
TZNAME:PST
DTSTART:20291104T090000
END:STANDARD
BEGIN:DAYLIGHT
TZOFFSETFROM:-0800
TZOFFSETTO:-0700
TZNAME:PDT
DTSTART:20300310T100000
END:DAYLIGHT
BEGIN:STANDARD
TZOFFSETFROM:-0700
TZOFFSETTO:-0800
TZNAME:PST
DTSTART:20301103T090000
END:STANDARD
BEGIN:DAYLIGHT
TZOFFSETFROM:-0800
TZOFFSETTO:-0700
TZNAME:PDT
DTSTART:20310309T100000
END:DAYLIGHT
BEGIN:STANDARD
TZOFFSETFROM:-0700
TZOFFSETTO:-0800
TZNAME:PST
DTSTART:20311102T090000
END:STANDARD
END:VTIMEZONE
BEGIN:VEVENT
DTSTART;VALUE=DATE:20260920
DTEND;VALUE=DATE:20260921
DTSTAMP:20260419T130910
CREATED:20260212T221944Z
LAST-MODIFIED:20260212T221944Z
UID:10000736-1789862400-1789948799@www.foodcyclela.org
SUMMARY:🌎 World Cleanup Day
DESCRIPTION:Community pride begins with stewardship. Cleanup efforts reduce environmental harm and reinforce the connection between sustainability and daily life. Cleaner neighborhoods support healthier living conditions and reflect collective responsibility.
URL:https://www.foodcyclela.org/event/%f0%9f%8c%8e-world-cleanup-day/2026-09-20/
END:VEVENT
BEGIN:VEVENT
DTSTART;VALUE=DATE:20270920
DTEND;VALUE=DATE:20270921
DTSTAMP:20260419T130910
CREATED:20260212T221944Z
LAST-MODIFIED:20260212T221944Z
UID:10000737-1821398400-1821484799@www.foodcyclela.org
SUMMARY:🌎 World Cleanup Day
DESCRIPTION:Community pride begins with stewardship. Cleanup efforts reduce environmental harm and reinforce the connection between sustainability and daily life. Cleaner neighborhoods support healthier living conditions and reflect collective responsibility.
URL:https://www.foodcyclela.org/event/%f0%9f%8c%8e-world-cleanup-day/2027-09-20/
END:VEVENT
BEGIN:VEVENT
DTSTART;VALUE=DATE:20280920
DTEND;VALUE=DATE:20280921
DTSTAMP:20260419T130910
CREATED:20260212T221944Z
LAST-MODIFIED:20260212T221944Z
UID:10000738-1853020800-1853107199@www.foodcyclela.org
SUMMARY:🌎 World Cleanup Day
DESCRIPTION:Community pride begins with stewardship. Cleanup efforts reduce environmental harm and reinforce the connection between sustainability and daily life. Cleaner neighborhoods support healthier living conditions and reflect collective responsibility.
URL:https://www.foodcyclela.org/event/%f0%9f%8c%8e-world-cleanup-day/2028-09-20/
END:VEVENT
BEGIN:VEVENT
DTSTART;VALUE=DATE:20290920
DTEND;VALUE=DATE:20290921
DTSTAMP:20260419T130910
CREATED:20260212T221944Z
LAST-MODIFIED:20260212T221944Z
UID:10000739-1884556800-1884643199@www.foodcyclela.org
SUMMARY:🌎 World Cleanup Day
DESCRIPTION:Community pride begins with stewardship. Cleanup efforts reduce environmental harm and reinforce the connection between sustainability and daily life. Cleaner neighborhoods support healthier living conditions and reflect collective responsibility.
URL:https://www.foodcyclela.org/event/%f0%9f%8c%8e-world-cleanup-day/2029-09-20/
END:VEVENT
BEGIN:VEVENT
DTSTART;VALUE=DATE:20300920
DTEND;VALUE=DATE:20300921
DTSTAMP:20260419T130910
CREATED:20260212T221944Z
LAST-MODIFIED:20260212T221944Z
UID:10000740-1916092800-1916179199@www.foodcyclela.org
SUMMARY:🌎 World Cleanup Day
DESCRIPTION:Community pride begins with stewardship. Cleanup efforts reduce environmental harm and reinforce the connection between sustainability and daily life. Cleaner neighborhoods support healthier living conditions and reflect collective responsibility.
URL:https://www.foodcyclela.org/event/%f0%9f%8c%8e-world-cleanup-day/2030-09-20/
END:VEVENT
END:VCALENDAR