BEGIN:VCALENDAR
VERSION:2.0
PRODID:-//FoodCycle - ECPv6.15.20//NONSGML v1.0//EN
CALSCALE:GREGORIAN
METHOD:PUBLISH
X-WR-CALNAME:FoodCycle
X-ORIGINAL-URL:https://www.foodcyclela.org
X-WR-CALDESC:Events for FoodCycle
REFRESH-INTERVAL;VALUE=DURATION:PT1H
X-Robots-Tag:noindex
X-PUBLISHED-TTL:PT1H
BEGIN:VTIMEZONE
TZID:America/Los_Angeles
BEGIN:DAYLIGHT
TZOFFSETFROM:-0800
TZOFFSETTO:-0700
TZNAME:PDT
DTSTART:20250309T100000
END:DAYLIGHT
BEGIN:STANDARD
TZOFFSETFROM:-0700
TZOFFSETTO:-0800
TZNAME:PST
DTSTART:20251102T090000
END:STANDARD
BEGIN:DAYLIGHT
TZOFFSETFROM:-0800
TZOFFSETTO:-0700
TZNAME:PDT
DTSTART:20260308T100000
END:DAYLIGHT
BEGIN:STANDARD
TZOFFSETFROM:-0700
TZOFFSETTO:-0800
TZNAME:PST
DTSTART:20261101T090000
END:STANDARD
BEGIN:DAYLIGHT
TZOFFSETFROM:-0800
TZOFFSETTO:-0700
TZNAME:PDT
DTSTART:20270314T100000
END:DAYLIGHT
BEGIN:STANDARD
TZOFFSETFROM:-0700
TZOFFSETTO:-0800
TZNAME:PST
DTSTART:20271107T090000
END:STANDARD
BEGIN:DAYLIGHT
TZOFFSETFROM:-0800
TZOFFSETTO:-0700
TZNAME:PDT
DTSTART:20280312T100000
END:DAYLIGHT
BEGIN:STANDARD
TZOFFSETFROM:-0700
TZOFFSETTO:-0800
TZNAME:PST
DTSTART:20281105T090000
END:STANDARD
BEGIN:DAYLIGHT
TZOFFSETFROM:-0800
TZOFFSETTO:-0700
TZNAME:PDT
DTSTART:20290311T100000
END:DAYLIGHT
BEGIN:STANDARD
TZOFFSETFROM:-0700
TZOFFSETTO:-0800
TZNAME:PST
DTSTART:20291104T090000
END:STANDARD
BEGIN:DAYLIGHT
TZOFFSETFROM:-0800
TZOFFSETTO:-0700
TZNAME:PDT
DTSTART:20300310T100000
END:DAYLIGHT
BEGIN:STANDARD
TZOFFSETFROM:-0700
TZOFFSETTO:-0800
TZNAME:PST
DTSTART:20301103T090000
END:STANDARD
BEGIN:DAYLIGHT
TZOFFSETFROM:-0800
TZOFFSETTO:-0700
TZNAME:PDT
DTSTART:20310309T100000
END:DAYLIGHT
BEGIN:STANDARD
TZOFFSETFROM:-0700
TZOFFSETTO:-0800
TZNAME:PST
DTSTART:20311102T090000
END:STANDARD
END:VTIMEZONE
BEGIN:VEVENT
DTSTART;VALUE=DATE:20260905
DTEND;VALUE=DATE:20260906
DTSTAMP:20260419T113238
CREATED:20260212T222018Z
LAST-MODIFIED:20260212T222018Z
UID:10000741-1788566400-1788652799@www.foodcyclela.org
SUMMARY:💛 International Day of Charity (Sept 5 – UN)
DESCRIPTION:Charity is more than donation — it’s participation. It’s showing up\, sharing resources\, and investing in solutions that strengthen communities long-term. When generosity is consistent\, impact compounds.
URL:https://www.foodcyclela.org/event/%f0%9f%92%9b-international-day-of-charity-sept-5-un/2026-09-05/
END:VEVENT
BEGIN:VEVENT
DTSTART;VALUE=DATE:20270905
DTEND;VALUE=DATE:20270906
DTSTAMP:20260419T113238
CREATED:20260212T222018Z
LAST-MODIFIED:20260212T222018Z
UID:10000742-1820102400-1820188799@www.foodcyclela.org
SUMMARY:💛 International Day of Charity (Sept 5 – UN)
DESCRIPTION:Charity is more than donation — it’s participation. It’s showing up\, sharing resources\, and investing in solutions that strengthen communities long-term. When generosity is consistent\, impact compounds.
URL:https://www.foodcyclela.org/event/%f0%9f%92%9b-international-day-of-charity-sept-5-un/2027-09-05/
END:VEVENT
BEGIN:VEVENT
DTSTART;VALUE=DATE:20280905
DTEND;VALUE=DATE:20280906
DTSTAMP:20260419T113238
CREATED:20260212T222018Z
LAST-MODIFIED:20260212T222018Z
UID:10000743-1851724800-1851811199@www.foodcyclela.org
SUMMARY:💛 International Day of Charity (Sept 5 – UN)
DESCRIPTION:Charity is more than donation — it’s participation. It’s showing up\, sharing resources\, and investing in solutions that strengthen communities long-term. When generosity is consistent\, impact compounds.
URL:https://www.foodcyclela.org/event/%f0%9f%92%9b-international-day-of-charity-sept-5-un/2028-09-05/
END:VEVENT
BEGIN:VEVENT
DTSTART;VALUE=DATE:20290905
DTEND;VALUE=DATE:20290906
DTSTAMP:20260419T113238
CREATED:20260212T222018Z
LAST-MODIFIED:20260212T222018Z
UID:10000744-1883260800-1883347199@www.foodcyclela.org
SUMMARY:💛 International Day of Charity (Sept 5 – UN)
DESCRIPTION:Charity is more than donation — it’s participation. It’s showing up\, sharing resources\, and investing in solutions that strengthen communities long-term. When generosity is consistent\, impact compounds.
URL:https://www.foodcyclela.org/event/%f0%9f%92%9b-international-day-of-charity-sept-5-un/2029-09-05/
END:VEVENT
BEGIN:VEVENT
DTSTART;VALUE=DATE:20300905
DTEND;VALUE=DATE:20300906
DTSTAMP:20260419T113238
CREATED:20260212T222018Z
LAST-MODIFIED:20260212T222018Z
UID:10000745-1914796800-1914883199@www.foodcyclela.org
SUMMARY:💛 International Day of Charity (Sept 5 – UN)
DESCRIPTION:Charity is more than donation — it’s participation. It’s showing up\, sharing resources\, and investing in solutions that strengthen communities long-term. When generosity is consistent\, impact compounds.
URL:https://www.foodcyclela.org/event/%f0%9f%92%9b-international-day-of-charity-sept-5-un/2030-09-05/
END:VEVENT
END:VCALENDAR