BEGIN:VCALENDAR
VERSION:2.0
PRODID:-//FoodCycle - ECPv6.15.20//NONSGML v1.0//EN
CALSCALE:GREGORIAN
METHOD:PUBLISH
X-WR-CALNAME:FoodCycle
X-ORIGINAL-URL:https://www.foodcyclela.org
X-WR-CALDESC:Events for FoodCycle
REFRESH-INTERVAL;VALUE=DURATION:PT1H
X-Robots-Tag:noindex
X-PUBLISHED-TTL:PT1H
BEGIN:VTIMEZONE
TZID:America/Los_Angeles
BEGIN:DAYLIGHT
TZOFFSETFROM:-0800
TZOFFSETTO:-0700
TZNAME:PDT
DTSTART:20250309T100000
END:DAYLIGHT
BEGIN:STANDARD
TZOFFSETFROM:-0700
TZOFFSETTO:-0800
TZNAME:PST
DTSTART:20251102T090000
END:STANDARD
BEGIN:DAYLIGHT
TZOFFSETFROM:-0800
TZOFFSETTO:-0700
TZNAME:PDT
DTSTART:20260308T100000
END:DAYLIGHT
BEGIN:STANDARD
TZOFFSETFROM:-0700
TZOFFSETTO:-0800
TZNAME:PST
DTSTART:20261101T090000
END:STANDARD
BEGIN:DAYLIGHT
TZOFFSETFROM:-0800
TZOFFSETTO:-0700
TZNAME:PDT
DTSTART:20270314T100000
END:DAYLIGHT
BEGIN:STANDARD
TZOFFSETFROM:-0700
TZOFFSETTO:-0800
TZNAME:PST
DTSTART:20271107T090000
END:STANDARD
BEGIN:DAYLIGHT
TZOFFSETFROM:-0800
TZOFFSETTO:-0700
TZNAME:PDT
DTSTART:20280312T100000
END:DAYLIGHT
BEGIN:STANDARD
TZOFFSETFROM:-0700
TZOFFSETTO:-0800
TZNAME:PST
DTSTART:20281105T090000
END:STANDARD
BEGIN:DAYLIGHT
TZOFFSETFROM:-0800
TZOFFSETTO:-0700
TZNAME:PDT
DTSTART:20290311T100000
END:DAYLIGHT
BEGIN:STANDARD
TZOFFSETFROM:-0700
TZOFFSETTO:-0800
TZNAME:PST
DTSTART:20291104T090000
END:STANDARD
BEGIN:DAYLIGHT
TZOFFSETFROM:-0800
TZOFFSETTO:-0700
TZNAME:PDT
DTSTART:20300310T100000
END:DAYLIGHT
BEGIN:STANDARD
TZOFFSETFROM:-0700
TZOFFSETTO:-0800
TZNAME:PST
DTSTART:20301103T090000
END:STANDARD
BEGIN:DAYLIGHT
TZOFFSETFROM:-0800
TZOFFSETTO:-0700
TZNAME:PDT
DTSTART:20310309T100000
END:DAYLIGHT
BEGIN:STANDARD
TZOFFSETFROM:-0700
TZOFFSETTO:-0800
TZNAME:PST
DTSTART:20311102T090000
END:STANDARD
END:VTIMEZONE
BEGIN:VEVENT
DTSTART;VALUE=DATE:20260904
DTEND;VALUE=DATE:20260905
DTSTAMP:20260419T123644
CREATED:20260212T222123Z
LAST-MODIFIED:20260212T222123Z
UID:10000746-1788480000-1788566399@www.foodcyclela.org
SUMMARY:🏦 National Food Bank Day
DESCRIPTION:Food banks represent infrastructure — organized\, consistent pathways that connect food to families. Strong distribution networks are essential in bridging the gap between abundance and need.
URL:https://www.foodcyclela.org/event/%f0%9f%8f%a6-national-food-bank-day/2026-09-04/
END:VEVENT
BEGIN:VEVENT
DTSTART;VALUE=DATE:20270903
DTEND;VALUE=DATE:20270904
DTSTAMP:20260419T123644
CREATED:20260212T222123Z
LAST-MODIFIED:20260212T222123Z
UID:10000747-1819929600-1820015999@www.foodcyclela.org
SUMMARY:🏦 National Food Bank Day
DESCRIPTION:Food banks represent infrastructure — organized\, consistent pathways that connect food to families. Strong distribution networks are essential in bridging the gap between abundance and need.
URL:https://www.foodcyclela.org/event/%f0%9f%8f%a6-national-food-bank-day/2027-09-03/
END:VEVENT
BEGIN:VEVENT
DTSTART;VALUE=DATE:20280901
DTEND;VALUE=DATE:20280902
DTSTAMP:20260419T123644
CREATED:20260212T222123Z
LAST-MODIFIED:20260212T222123Z
UID:10000748-1851379200-1851465599@www.foodcyclela.org
SUMMARY:🏦 National Food Bank Day
DESCRIPTION:Food banks represent infrastructure — organized\, consistent pathways that connect food to families. Strong distribution networks are essential in bridging the gap between abundance and need.
URL:https://www.foodcyclela.org/event/%f0%9f%8f%a6-national-food-bank-day/2028-09-01/
END:VEVENT
BEGIN:VEVENT
DTSTART;VALUE=DATE:20290907
DTEND;VALUE=DATE:20290908
DTSTAMP:20260419T123644
CREATED:20260212T222123Z
LAST-MODIFIED:20260212T222123Z
UID:10000749-1883433600-1883519999@www.foodcyclela.org
SUMMARY:🏦 National Food Bank Day
DESCRIPTION:Food banks represent infrastructure — organized\, consistent pathways that connect food to families. Strong distribution networks are essential in bridging the gap between abundance and need.
URL:https://www.foodcyclela.org/event/%f0%9f%8f%a6-national-food-bank-day/2029-09-07/
END:VEVENT
BEGIN:VEVENT
DTSTART;VALUE=DATE:20300906
DTEND;VALUE=DATE:20300907
DTSTAMP:20260419T123644
CREATED:20260212T222123Z
LAST-MODIFIED:20260212T222123Z
UID:10000750-1914883200-1914969599@www.foodcyclela.org
SUMMARY:🏦 National Food Bank Day
DESCRIPTION:Food banks represent infrastructure — organized\, consistent pathways that connect food to families. Strong distribution networks are essential in bridging the gap between abundance and need.
URL:https://www.foodcyclela.org/event/%f0%9f%8f%a6-national-food-bank-day/2030-09-06/
END:VEVENT
END:VCALENDAR