BEGIN:VCALENDAR
VERSION:2.0
PRODID:-//FoodCycle - ECPv6.15.20//NONSGML v1.0//EN
CALSCALE:GREGORIAN
METHOD:PUBLISH
X-WR-CALNAME:FoodCycle
X-ORIGINAL-URL:https://www.foodcyclela.org
X-WR-CALDESC:Events for FoodCycle
REFRESH-INTERVAL;VALUE=DURATION:PT1H
X-Robots-Tag:noindex
X-PUBLISHED-TTL:PT1H
BEGIN:VTIMEZONE
TZID:America/Los_Angeles
BEGIN:DAYLIGHT
TZOFFSETFROM:-0800
TZOFFSETTO:-0700
TZNAME:PDT
DTSTART:20250309T100000
END:DAYLIGHT
BEGIN:STANDARD
TZOFFSETFROM:-0700
TZOFFSETTO:-0800
TZNAME:PST
DTSTART:20251102T090000
END:STANDARD
BEGIN:DAYLIGHT
TZOFFSETFROM:-0800
TZOFFSETTO:-0700
TZNAME:PDT
DTSTART:20260308T100000
END:DAYLIGHT
BEGIN:STANDARD
TZOFFSETFROM:-0700
TZOFFSETTO:-0800
TZNAME:PST
DTSTART:20261101T090000
END:STANDARD
BEGIN:DAYLIGHT
TZOFFSETFROM:-0800
TZOFFSETTO:-0700
TZNAME:PDT
DTSTART:20270314T100000
END:DAYLIGHT
BEGIN:STANDARD
TZOFFSETFROM:-0700
TZOFFSETTO:-0800
TZNAME:PST
DTSTART:20271107T090000
END:STANDARD
BEGIN:DAYLIGHT
TZOFFSETFROM:-0800
TZOFFSETTO:-0700
TZNAME:PDT
DTSTART:20280312T100000
END:DAYLIGHT
BEGIN:STANDARD
TZOFFSETFROM:-0700
TZOFFSETTO:-0800
TZNAME:PST
DTSTART:20281105T090000
END:STANDARD
BEGIN:DAYLIGHT
TZOFFSETFROM:-0800
TZOFFSETTO:-0700
TZNAME:PDT
DTSTART:20290311T100000
END:DAYLIGHT
BEGIN:STANDARD
TZOFFSETFROM:-0700
TZOFFSETTO:-0800
TZNAME:PST
DTSTART:20291104T090000
END:STANDARD
BEGIN:DAYLIGHT
TZOFFSETFROM:-0800
TZOFFSETTO:-0700
TZNAME:PDT
DTSTART:20300310T100000
END:DAYLIGHT
BEGIN:STANDARD
TZOFFSETFROM:-0700
TZOFFSETTO:-0800
TZNAME:PST
DTSTART:20301103T090000
END:STANDARD
BEGIN:DAYLIGHT
TZOFFSETFROM:-0800
TZOFFSETTO:-0700
TZNAME:PDT
DTSTART:20310309T100000
END:DAYLIGHT
BEGIN:STANDARD
TZOFFSETFROM:-0700
TZOFFSETTO:-0800
TZNAME:PST
DTSTART:20311102T090000
END:STANDARD
END:VTIMEZONE
BEGIN:VEVENT
DTSTART;VALUE=DATE:20261031
DTEND;VALUE=DATE:20261101
DTSTAMP:20260419T122828
CREATED:20260212T222902Z
LAST-MODIFIED:20260212T222902Z
UID:10000751-1793404800-1793491199@www.foodcyclela.org
SUMMARY:🎃 Halloween (Oct 31)
DESCRIPTION:While costumes and candy bring celebration\, October also presents an opportunity to confront the real numbers behind hunger and waste. Awareness paired with creativity can spark conversation and engagement.
URL:https://www.foodcyclela.org/event/%f0%9f%8e%83-halloween-oct-31/2026-10-31/
END:VEVENT
BEGIN:VEVENT
DTSTART;VALUE=DATE:20271031
DTEND;VALUE=DATE:20271101
DTSTAMP:20260419T122828
CREATED:20260212T222902Z
LAST-MODIFIED:20260212T222902Z
UID:10000752-1824940800-1825027199@www.foodcyclela.org
SUMMARY:🎃 Halloween (Oct 31)
DESCRIPTION:While costumes and candy bring celebration\, October also presents an opportunity to confront the real numbers behind hunger and waste. Awareness paired with creativity can spark conversation and engagement.
URL:https://www.foodcyclela.org/event/%f0%9f%8e%83-halloween-oct-31/2027-10-31/
END:VEVENT
BEGIN:VEVENT
DTSTART;VALUE=DATE:20281031
DTEND;VALUE=DATE:20281101
DTSTAMP:20260419T122828
CREATED:20260212T222902Z
LAST-MODIFIED:20260212T222902Z
UID:10000753-1856563200-1856649599@www.foodcyclela.org
SUMMARY:🎃 Halloween (Oct 31)
DESCRIPTION:While costumes and candy bring celebration\, October also presents an opportunity to confront the real numbers behind hunger and waste. Awareness paired with creativity can spark conversation and engagement.
URL:https://www.foodcyclela.org/event/%f0%9f%8e%83-halloween-oct-31/2028-10-31/
END:VEVENT
BEGIN:VEVENT
DTSTART;VALUE=DATE:20291031
DTEND;VALUE=DATE:20291101
DTSTAMP:20260419T122828
CREATED:20260212T222902Z
LAST-MODIFIED:20260212T222902Z
UID:10000754-1888099200-1888185599@www.foodcyclela.org
SUMMARY:🎃 Halloween (Oct 31)
DESCRIPTION:While costumes and candy bring celebration\, October also presents an opportunity to confront the real numbers behind hunger and waste. Awareness paired with creativity can spark conversation and engagement.
URL:https://www.foodcyclela.org/event/%f0%9f%8e%83-halloween-oct-31/2029-10-31/
END:VEVENT
BEGIN:VEVENT
DTSTART;VALUE=DATE:20301031
DTEND;VALUE=DATE:20301101
DTSTAMP:20260419T122828
CREATED:20260212T222902Z
LAST-MODIFIED:20260212T222902Z
UID:10000755-1919635200-1919721599@www.foodcyclela.org
SUMMARY:🎃 Halloween (Oct 31)
DESCRIPTION:While costumes and candy bring celebration\, October also presents an opportunity to confront the real numbers behind hunger and waste. Awareness paired with creativity can spark conversation and engagement.
URL:https://www.foodcyclela.org/event/%f0%9f%8e%83-halloween-oct-31/2030-10-31/
END:VEVENT
END:VCALENDAR