BEGIN:VCALENDAR
VERSION:2.0
PRODID:-//FoodCycle - ECPv6.15.20//NONSGML v1.0//EN
CALSCALE:GREGORIAN
METHOD:PUBLISH
X-WR-CALNAME:FoodCycle
X-ORIGINAL-URL:https://www.foodcyclela.org
X-WR-CALDESC:Events for FoodCycle
REFRESH-INTERVAL;VALUE=DURATION:PT1H
X-Robots-Tag:noindex
X-PUBLISHED-TTL:PT1H
BEGIN:VTIMEZONE
TZID:America/Los_Angeles
BEGIN:DAYLIGHT
TZOFFSETFROM:-0800
TZOFFSETTO:-0700
TZNAME:PDT
DTSTART:20250309T100000
END:DAYLIGHT
BEGIN:STANDARD
TZOFFSETFROM:-0700
TZOFFSETTO:-0800
TZNAME:PST
DTSTART:20251102T090000
END:STANDARD
BEGIN:DAYLIGHT
TZOFFSETFROM:-0800
TZOFFSETTO:-0700
TZNAME:PDT
DTSTART:20260308T100000
END:DAYLIGHT
BEGIN:STANDARD
TZOFFSETFROM:-0700
TZOFFSETTO:-0800
TZNAME:PST
DTSTART:20261101T090000
END:STANDARD
BEGIN:DAYLIGHT
TZOFFSETFROM:-0800
TZOFFSETTO:-0700
TZNAME:PDT
DTSTART:20270314T100000
END:DAYLIGHT
BEGIN:STANDARD
TZOFFSETFROM:-0700
TZOFFSETTO:-0800
TZNAME:PST
DTSTART:20271107T090000
END:STANDARD
BEGIN:DAYLIGHT
TZOFFSETFROM:-0800
TZOFFSETTO:-0700
TZNAME:PDT
DTSTART:20280312T100000
END:DAYLIGHT
BEGIN:STANDARD
TZOFFSETFROM:-0700
TZOFFSETTO:-0800
TZNAME:PST
DTSTART:20281105T090000
END:STANDARD
BEGIN:DAYLIGHT
TZOFFSETFROM:-0800
TZOFFSETTO:-0700
TZNAME:PDT
DTSTART:20290311T100000
END:DAYLIGHT
BEGIN:STANDARD
TZOFFSETFROM:-0700
TZOFFSETTO:-0800
TZNAME:PST
DTSTART:20291104T090000
END:STANDARD
BEGIN:DAYLIGHT
TZOFFSETFROM:-0800
TZOFFSETTO:-0700
TZNAME:PDT
DTSTART:20300310T100000
END:DAYLIGHT
BEGIN:STANDARD
TZOFFSETFROM:-0700
TZOFFSETTO:-0800
TZNAME:PST
DTSTART:20301103T090000
END:STANDARD
BEGIN:DAYLIGHT
TZOFFSETFROM:-0800
TZOFFSETTO:-0700
TZNAME:PDT
DTSTART:20310309T100000
END:DAYLIGHT
BEGIN:STANDARD
TZOFFSETFROM:-0700
TZOFFSETTO:-0800
TZNAME:PST
DTSTART:20311102T090000
END:STANDARD
END:VTIMEZONE
BEGIN:VEVENT
DTSTART;VALUE=DATE:20261016
DTEND;VALUE=DATE:20261017
DTSTAMP:20260419T123643
CREATED:20260212T222925Z
LAST-MODIFIED:20260212T222925Z
UID:10000756-1792108800-1792195199@www.foodcyclela.org
SUMMARY:🌍 World Food Day (Oct 16 – UN)
DESCRIPTION:Food is not charity — it is a human right. World Food Day highlights global food systems and the responsibility to create sustainable\, equitable access. Nourishment sustains health\, dignity\, and opportunity across generations.
URL:https://www.foodcyclela.org/event/%f0%9f%8c%8d-world-food-day-oct-16-un/2026-10-16/
END:VEVENT
BEGIN:VEVENT
DTSTART;VALUE=DATE:20271016
DTEND;VALUE=DATE:20271017
DTSTAMP:20260419T123643
CREATED:20260212T222925Z
LAST-MODIFIED:20260212T222925Z
UID:10000757-1823644800-1823731199@www.foodcyclela.org
SUMMARY:🌍 World Food Day (Oct 16 – UN)
DESCRIPTION:Food is not charity — it is a human right. World Food Day highlights global food systems and the responsibility to create sustainable\, equitable access. Nourishment sustains health\, dignity\, and opportunity across generations.
URL:https://www.foodcyclela.org/event/%f0%9f%8c%8d-world-food-day-oct-16-un/2027-10-16/
END:VEVENT
BEGIN:VEVENT
DTSTART;VALUE=DATE:20281016
DTEND;VALUE=DATE:20281017
DTSTAMP:20260419T123643
CREATED:20260212T222925Z
LAST-MODIFIED:20260212T222925Z
UID:10000758-1855267200-1855353599@www.foodcyclela.org
SUMMARY:🌍 World Food Day (Oct 16 – UN)
DESCRIPTION:Food is not charity — it is a human right. World Food Day highlights global food systems and the responsibility to create sustainable\, equitable access. Nourishment sustains health\, dignity\, and opportunity across generations.
URL:https://www.foodcyclela.org/event/%f0%9f%8c%8d-world-food-day-oct-16-un/2028-10-16/
END:VEVENT
BEGIN:VEVENT
DTSTART;VALUE=DATE:20291016
DTEND;VALUE=DATE:20291017
DTSTAMP:20260419T123643
CREATED:20260212T222925Z
LAST-MODIFIED:20260212T222925Z
UID:10000759-1886803200-1886889599@www.foodcyclela.org
SUMMARY:🌍 World Food Day (Oct 16 – UN)
DESCRIPTION:Food is not charity — it is a human right. World Food Day highlights global food systems and the responsibility to create sustainable\, equitable access. Nourishment sustains health\, dignity\, and opportunity across generations.
URL:https://www.foodcyclela.org/event/%f0%9f%8c%8d-world-food-day-oct-16-un/2029-10-16/
END:VEVENT
BEGIN:VEVENT
DTSTART;VALUE=DATE:20301016
DTEND;VALUE=DATE:20301017
DTSTAMP:20260419T123643
CREATED:20260212T222925Z
LAST-MODIFIED:20260212T222925Z
UID:10000760-1918339200-1918425599@www.foodcyclela.org
SUMMARY:🌍 World Food Day (Oct 16 – UN)
DESCRIPTION:Food is not charity — it is a human right. World Food Day highlights global food systems and the responsibility to create sustainable\, equitable access. Nourishment sustains health\, dignity\, and opportunity across generations.
URL:https://www.foodcyclela.org/event/%f0%9f%8c%8d-world-food-day-oct-16-un/2030-10-16/
END:VEVENT
END:VCALENDAR