BEGIN:VCALENDAR
VERSION:2.0
PRODID:-//FoodCycle - ECPv6.15.20//NONSGML v1.0//EN
CALSCALE:GREGORIAN
METHOD:PUBLISH
X-WR-CALNAME:FoodCycle
X-ORIGINAL-URL:https://www.foodcyclela.org
X-WR-CALDESC:Events for FoodCycle
REFRESH-INTERVAL;VALUE=DURATION:PT1H
X-Robots-Tag:noindex
X-PUBLISHED-TTL:PT1H
BEGIN:VTIMEZONE
TZID:America/Los_Angeles
BEGIN:DAYLIGHT
TZOFFSETFROM:-0800
TZOFFSETTO:-0700
TZNAME:PDT
DTSTART:20250309T100000
END:DAYLIGHT
BEGIN:STANDARD
TZOFFSETFROM:-0700
TZOFFSETTO:-0800
TZNAME:PST
DTSTART:20251102T090000
END:STANDARD
BEGIN:DAYLIGHT
TZOFFSETFROM:-0800
TZOFFSETTO:-0700
TZNAME:PDT
DTSTART:20260308T100000
END:DAYLIGHT
BEGIN:STANDARD
TZOFFSETFROM:-0700
TZOFFSETTO:-0800
TZNAME:PST
DTSTART:20261101T090000
END:STANDARD
BEGIN:DAYLIGHT
TZOFFSETFROM:-0800
TZOFFSETTO:-0700
TZNAME:PDT
DTSTART:20270314T100000
END:DAYLIGHT
BEGIN:STANDARD
TZOFFSETFROM:-0700
TZOFFSETTO:-0800
TZNAME:PST
DTSTART:20271107T090000
END:STANDARD
BEGIN:DAYLIGHT
TZOFFSETFROM:-0800
TZOFFSETTO:-0700
TZNAME:PDT
DTSTART:20280312T100000
END:DAYLIGHT
BEGIN:STANDARD
TZOFFSETFROM:-0700
TZOFFSETTO:-0800
TZNAME:PST
DTSTART:20281105T090000
END:STANDARD
BEGIN:DAYLIGHT
TZOFFSETFROM:-0800
TZOFFSETTO:-0700
TZNAME:PDT
DTSTART:20290311T100000
END:DAYLIGHT
BEGIN:STANDARD
TZOFFSETFROM:-0700
TZOFFSETTO:-0800
TZNAME:PST
DTSTART:20291104T090000
END:STANDARD
BEGIN:DAYLIGHT
TZOFFSETFROM:-0800
TZOFFSETTO:-0700
TZNAME:PDT
DTSTART:20300310T100000
END:DAYLIGHT
BEGIN:STANDARD
TZOFFSETFROM:-0700
TZOFFSETTO:-0800
TZNAME:PST
DTSTART:20301103T090000
END:STANDARD
BEGIN:DAYLIGHT
TZOFFSETFROM:-0800
TZOFFSETTO:-0700
TZNAME:PDT
DTSTART:20310309T100000
END:DAYLIGHT
BEGIN:STANDARD
TZOFFSETFROM:-0700
TZOFFSETTO:-0800
TZNAME:PST
DTSTART:20311102T090000
END:STANDARD
END:VTIMEZONE
BEGIN:VEVENT
DTSTART;VALUE=DATE:20261111
DTEND;VALUE=DATE:20261112
DTSTAMP:20260419T123642
CREATED:20260212T223313Z
LAST-MODIFIED:20260212T223313Z
UID:10000776-1794355200-1794441599@www.foodcyclela.org
SUMMARY:🇺🇸 Veterans Day (Nov 11)
DESCRIPTION:Veterans Day honors those who served. Many veterans face food insecurity after service. Recognizing sacrifice also means strengthening support systems that ensure stability and access to essentials.
URL:https://www.foodcyclela.org/event/%f0%9f%87%ba%f0%9f%87%b8-veterans-day-nov-11/2026-11-11/
END:VEVENT
BEGIN:VEVENT
DTSTART;VALUE=DATE:20271111
DTEND;VALUE=DATE:20271112
DTSTAMP:20260419T123642
CREATED:20260212T223313Z
LAST-MODIFIED:20260212T223313Z
UID:10000777-1825891200-1825977599@www.foodcyclela.org
SUMMARY:🇺🇸 Veterans Day (Nov 11)
DESCRIPTION:Veterans Day honors those who served. Many veterans face food insecurity after service. Recognizing sacrifice also means strengthening support systems that ensure stability and access to essentials.
URL:https://www.foodcyclela.org/event/%f0%9f%87%ba%f0%9f%87%b8-veterans-day-nov-11/2027-11-11/
END:VEVENT
BEGIN:VEVENT
DTSTART;VALUE=DATE:20281111
DTEND;VALUE=DATE:20281112
DTSTAMP:20260419T123642
CREATED:20260212T223313Z
LAST-MODIFIED:20260212T223313Z
UID:10000778-1857513600-1857599999@www.foodcyclela.org
SUMMARY:🇺🇸 Veterans Day (Nov 11)
DESCRIPTION:Veterans Day honors those who served. Many veterans face food insecurity after service. Recognizing sacrifice also means strengthening support systems that ensure stability and access to essentials.
URL:https://www.foodcyclela.org/event/%f0%9f%87%ba%f0%9f%87%b8-veterans-day-nov-11/2028-11-11/
END:VEVENT
BEGIN:VEVENT
DTSTART;VALUE=DATE:20291111
DTEND;VALUE=DATE:20291112
DTSTAMP:20260419T123642
CREATED:20260212T223313Z
LAST-MODIFIED:20260212T223313Z
UID:10000779-1889049600-1889135999@www.foodcyclela.org
SUMMARY:🇺🇸 Veterans Day (Nov 11)
DESCRIPTION:Veterans Day honors those who served. Many veterans face food insecurity after service. Recognizing sacrifice also means strengthening support systems that ensure stability and access to essentials.
URL:https://www.foodcyclela.org/event/%f0%9f%87%ba%f0%9f%87%b8-veterans-day-nov-11/2029-11-11/
END:VEVENT
BEGIN:VEVENT
DTSTART;VALUE=DATE:20301111
DTEND;VALUE=DATE:20301112
DTSTAMP:20260419T123642
CREATED:20260212T223313Z
LAST-MODIFIED:20260212T223313Z
UID:10000780-1920585600-1920671999@www.foodcyclela.org
SUMMARY:🇺🇸 Veterans Day (Nov 11)
DESCRIPTION:Veterans Day honors those who served. Many veterans face food insecurity after service. Recognizing sacrifice also means strengthening support systems that ensure stability and access to essentials.
URL:https://www.foodcyclela.org/event/%f0%9f%87%ba%f0%9f%87%b8-veterans-day-nov-11/2030-11-11/
END:VEVENT
END:VCALENDAR