BEGIN:VCALENDAR
VERSION:2.0
PRODID:-//FoodCycle - ECPv6.15.20//NONSGML v1.0//EN
CALSCALE:GREGORIAN
METHOD:PUBLISH
X-WR-CALNAME:FoodCycle
X-ORIGINAL-URL:https://www.foodcyclela.org
X-WR-CALDESC:Events for FoodCycle
REFRESH-INTERVAL;VALUE=DURATION:PT1H
X-Robots-Tag:noindex
X-PUBLISHED-TTL:PT1H
BEGIN:VTIMEZONE
TZID:America/Los_Angeles
BEGIN:DAYLIGHT
TZOFFSETFROM:-0800
TZOFFSETTO:-0700
TZNAME:PDT
DTSTART:20250309T100000
END:DAYLIGHT
BEGIN:STANDARD
TZOFFSETFROM:-0700
TZOFFSETTO:-0800
TZNAME:PST
DTSTART:20251102T090000
END:STANDARD
BEGIN:DAYLIGHT
TZOFFSETFROM:-0800
TZOFFSETTO:-0700
TZNAME:PDT
DTSTART:20260308T100000
END:DAYLIGHT
BEGIN:STANDARD
TZOFFSETFROM:-0700
TZOFFSETTO:-0800
TZNAME:PST
DTSTART:20261101T090000
END:STANDARD
BEGIN:DAYLIGHT
TZOFFSETFROM:-0800
TZOFFSETTO:-0700
TZNAME:PDT
DTSTART:20270314T100000
END:DAYLIGHT
BEGIN:STANDARD
TZOFFSETFROM:-0700
TZOFFSETTO:-0800
TZNAME:PST
DTSTART:20271107T090000
END:STANDARD
BEGIN:DAYLIGHT
TZOFFSETFROM:-0800
TZOFFSETTO:-0700
TZNAME:PDT
DTSTART:20280312T100000
END:DAYLIGHT
BEGIN:STANDARD
TZOFFSETFROM:-0700
TZOFFSETTO:-0800
TZNAME:PST
DTSTART:20281105T090000
END:STANDARD
BEGIN:DAYLIGHT
TZOFFSETFROM:-0800
TZOFFSETTO:-0700
TZNAME:PDT
DTSTART:20290311T100000
END:DAYLIGHT
BEGIN:STANDARD
TZOFFSETFROM:-0700
TZOFFSETTO:-0800
TZNAME:PST
DTSTART:20291104T090000
END:STANDARD
BEGIN:DAYLIGHT
TZOFFSETFROM:-0800
TZOFFSETTO:-0700
TZNAME:PDT
DTSTART:20300310T100000
END:DAYLIGHT
BEGIN:STANDARD
TZOFFSETFROM:-0700
TZOFFSETTO:-0800
TZNAME:PST
DTSTART:20301103T090000
END:STANDARD
BEGIN:DAYLIGHT
TZOFFSETFROM:-0800
TZOFFSETTO:-0700
TZNAME:PDT
DTSTART:20310309T100000
END:DAYLIGHT
BEGIN:STANDARD
TZOFFSETFROM:-0700
TZOFFSETTO:-0800
TZNAME:PST
DTSTART:20311102T090000
END:STANDARD
BEGIN:DAYLIGHT
TZOFFSETFROM:-0800
TZOFFSETTO:-0700
TZNAME:PDT
DTSTART:20320314T100000
END:DAYLIGHT
BEGIN:STANDARD
TZOFFSETFROM:-0700
TZOFFSETTO:-0800
TZNAME:PST
DTSTART:20321107T090000
END:STANDARD
END:VTIMEZONE
BEGIN:VEVENT
DTSTART;VALUE=DATE:20261226
DTEND;VALUE=DATE:20270102
DTSTAMP:20260420T113505
CREATED:20260212T224056Z
LAST-MODIFIED:20260219T063258Z
UID:10000790-1798243200-1798847999@www.foodcyclela.org
SUMMARY:🖤💚❤️ Kwanzaa (Dec 26 – Jan 1)
DESCRIPTION:Kwanzaa honors principles of unity\, self-determination\, and collective responsibility. Food systems rooted in community care reflect these values — cooperation\, shared resources\, and mutual uplift.
URL:https://www.foodcyclela.org/event/%f0%9f%96%a4%f0%9f%92%9a%e2%9d%a4%ef%b8%8f-kwanzaa-dec-26-jan-1/2026-12-26/
ATTACH;FMTTYPE=image/png:https://www.foodcyclela.org/wp-content/uploads/2026/02/52-e1771482685934.png
END:VEVENT
BEGIN:VEVENT
DTSTART;VALUE=DATE:20271226
DTEND;VALUE=DATE:20280102
DTSTAMP:20260420T113505
CREATED:20260212T224056Z
LAST-MODIFIED:20260219T063258Z
UID:10000791-1829779200-1830383999@www.foodcyclela.org
SUMMARY:🖤💚❤️ Kwanzaa (Dec 26 – Jan 1)
DESCRIPTION:Kwanzaa honors principles of unity\, self-determination\, and collective responsibility. Food systems rooted in community care reflect these values — cooperation\, shared resources\, and mutual uplift.
URL:https://www.foodcyclela.org/event/%f0%9f%96%a4%f0%9f%92%9a%e2%9d%a4%ef%b8%8f-kwanzaa-dec-26-jan-1/2027-12-26/
ATTACH;FMTTYPE=image/png:https://www.foodcyclela.org/wp-content/uploads/2026/02/52-e1771482685934.png
END:VEVENT
BEGIN:VEVENT
DTSTART;VALUE=DATE:20281226
DTEND;VALUE=DATE:20290102
DTSTAMP:20260420T113506
CREATED:20260212T224056Z
LAST-MODIFIED:20260219T063258Z
UID:10000792-1861401600-1862006399@www.foodcyclela.org
SUMMARY:🖤💚❤️ Kwanzaa (Dec 26 – Jan 1)
DESCRIPTION:Kwanzaa honors principles of unity\, self-determination\, and collective responsibility. Food systems rooted in community care reflect these values — cooperation\, shared resources\, and mutual uplift.
URL:https://www.foodcyclela.org/event/%f0%9f%96%a4%f0%9f%92%9a%e2%9d%a4%ef%b8%8f-kwanzaa-dec-26-jan-1/2028-12-26/
ATTACH;FMTTYPE=image/png:https://www.foodcyclela.org/wp-content/uploads/2026/02/52-e1771482685934.png
END:VEVENT
BEGIN:VEVENT
DTSTART;VALUE=DATE:20291226
DTEND;VALUE=DATE:20300102
DTSTAMP:20260420T113506
CREATED:20260212T224056Z
LAST-MODIFIED:20260219T063258Z
UID:10000793-1892937600-1893542399@www.foodcyclela.org
SUMMARY:🖤💚❤️ Kwanzaa (Dec 26 – Jan 1)
DESCRIPTION:Kwanzaa honors principles of unity\, self-determination\, and collective responsibility. Food systems rooted in community care reflect these values — cooperation\, shared resources\, and mutual uplift.
URL:https://www.foodcyclela.org/event/%f0%9f%96%a4%f0%9f%92%9a%e2%9d%a4%ef%b8%8f-kwanzaa-dec-26-jan-1/2029-12-26/
ATTACH;FMTTYPE=image/png:https://www.foodcyclela.org/wp-content/uploads/2026/02/52-e1771482685934.png
END:VEVENT
BEGIN:VEVENT
DTSTART;VALUE=DATE:20301226
DTEND;VALUE=DATE:20310102
DTSTAMP:20260420T113506
CREATED:20260212T224056Z
LAST-MODIFIED:20260219T063258Z
UID:10000794-1924473600-1925078399@www.foodcyclela.org
SUMMARY:🖤💚❤️ Kwanzaa (Dec 26 – Jan 1)
DESCRIPTION:Kwanzaa honors principles of unity\, self-determination\, and collective responsibility. Food systems rooted in community care reflect these values — cooperation\, shared resources\, and mutual uplift.
URL:https://www.foodcyclela.org/event/%f0%9f%96%a4%f0%9f%92%9a%e2%9d%a4%ef%b8%8f-kwanzaa-dec-26-jan-1/2030-12-26/
ATTACH;FMTTYPE=image/png:https://www.foodcyclela.org/wp-content/uploads/2026/02/52-e1771482685934.png
END:VEVENT
END:VCALENDAR