BEGIN:VCALENDAR
VERSION:2.0
PRODID:-//FoodCycle - ECPv6.15.20//NONSGML v1.0//EN
CALSCALE:GREGORIAN
METHOD:PUBLISH
X-WR-CALNAME:FoodCycle
X-ORIGINAL-URL:https://www.foodcyclela.org
X-WR-CALDESC:Events for FoodCycle
REFRESH-INTERVAL;VALUE=DURATION:PT1H
X-Robots-Tag:noindex
X-PUBLISHED-TTL:PT1H
BEGIN:VTIMEZONE
TZID:America/Los_Angeles
BEGIN:DAYLIGHT
TZOFFSETFROM:-0800
TZOFFSETTO:-0700
TZNAME:PDT
DTSTART:20250309T100000
END:DAYLIGHT
BEGIN:STANDARD
TZOFFSETFROM:-0700
TZOFFSETTO:-0800
TZNAME:PST
DTSTART:20251102T090000
END:STANDARD
BEGIN:DAYLIGHT
TZOFFSETFROM:-0800
TZOFFSETTO:-0700
TZNAME:PDT
DTSTART:20260308T100000
END:DAYLIGHT
BEGIN:STANDARD
TZOFFSETFROM:-0700
TZOFFSETTO:-0800
TZNAME:PST
DTSTART:20261101T090000
END:STANDARD
BEGIN:DAYLIGHT
TZOFFSETFROM:-0800
TZOFFSETTO:-0700
TZNAME:PDT
DTSTART:20270314T100000
END:DAYLIGHT
BEGIN:STANDARD
TZOFFSETFROM:-0700
TZOFFSETTO:-0800
TZNAME:PST
DTSTART:20271107T090000
END:STANDARD
BEGIN:DAYLIGHT
TZOFFSETFROM:-0800
TZOFFSETTO:-0700
TZNAME:PDT
DTSTART:20280312T100000
END:DAYLIGHT
BEGIN:STANDARD
TZOFFSETFROM:-0700
TZOFFSETTO:-0800
TZNAME:PST
DTSTART:20281105T090000
END:STANDARD
BEGIN:DAYLIGHT
TZOFFSETFROM:-0800
TZOFFSETTO:-0700
TZNAME:PDT
DTSTART:20290311T100000
END:DAYLIGHT
BEGIN:STANDARD
TZOFFSETFROM:-0700
TZOFFSETTO:-0800
TZNAME:PST
DTSTART:20291104T090000
END:STANDARD
BEGIN:DAYLIGHT
TZOFFSETFROM:-0800
TZOFFSETTO:-0700
TZNAME:PDT
DTSTART:20300310T100000
END:DAYLIGHT
BEGIN:STANDARD
TZOFFSETFROM:-0700
TZOFFSETTO:-0800
TZNAME:PST
DTSTART:20301103T090000
END:STANDARD
BEGIN:DAYLIGHT
TZOFFSETFROM:-0800
TZOFFSETTO:-0700
TZNAME:PDT
DTSTART:20310309T100000
END:DAYLIGHT
BEGIN:STANDARD
TZOFFSETFROM:-0700
TZOFFSETTO:-0800
TZNAME:PST
DTSTART:20311102T090000
END:STANDARD
END:VTIMEZONE
BEGIN:VEVENT
DTSTART;VALUE=DATE:20261225
DTEND;VALUE=DATE:20261226
DTSTAMP:20260420T071223
CREATED:20260212T224156Z
LAST-MODIFIED:20260219T063539Z
UID:10000795-1798156800-1798243199@www.foodcyclela.org
SUMMARY:🎄 Christmas (Dec 25)
DESCRIPTION:Christmas emphasizes generosity and care for neighbors. Shared meals and community support reflect the spirit of the season.
URL:https://www.foodcyclela.org/event/%f0%9f%8e%84-christmas-dec-25/2026-12-25/
ATTACH;FMTTYPE=image/png:https://www.foodcyclela.org/wp-content/uploads/2026/02/51-e1771482909434.png
END:VEVENT
BEGIN:VEVENT
DTSTART;VALUE=DATE:20271225
DTEND;VALUE=DATE:20271226
DTSTAMP:20260420T071223
CREATED:20260212T224156Z
LAST-MODIFIED:20260219T063539Z
UID:10000796-1829692800-1829779199@www.foodcyclela.org
SUMMARY:🎄 Christmas (Dec 25)
DESCRIPTION:Christmas emphasizes generosity and care for neighbors. Shared meals and community support reflect the spirit of the season.
URL:https://www.foodcyclela.org/event/%f0%9f%8e%84-christmas-dec-25/2027-12-25/
ATTACH;FMTTYPE=image/png:https://www.foodcyclela.org/wp-content/uploads/2026/02/51-e1771482909434.png
END:VEVENT
BEGIN:VEVENT
DTSTART;VALUE=DATE:20281225
DTEND;VALUE=DATE:20281226
DTSTAMP:20260420T071223
CREATED:20260212T224156Z
LAST-MODIFIED:20260219T063539Z
UID:10000797-1861315200-1861401599@www.foodcyclela.org
SUMMARY:🎄 Christmas (Dec 25)
DESCRIPTION:Christmas emphasizes generosity and care for neighbors. Shared meals and community support reflect the spirit of the season.
URL:https://www.foodcyclela.org/event/%f0%9f%8e%84-christmas-dec-25/2028-12-25/
ATTACH;FMTTYPE=image/png:https://www.foodcyclela.org/wp-content/uploads/2026/02/51-e1771482909434.png
END:VEVENT
BEGIN:VEVENT
DTSTART;VALUE=DATE:20291225
DTEND;VALUE=DATE:20291226
DTSTAMP:20260420T071223
CREATED:20260212T224156Z
LAST-MODIFIED:20260219T063539Z
UID:10000798-1892851200-1892937599@www.foodcyclela.org
SUMMARY:🎄 Christmas (Dec 25)
DESCRIPTION:Christmas emphasizes generosity and care for neighbors. Shared meals and community support reflect the spirit of the season.
URL:https://www.foodcyclela.org/event/%f0%9f%8e%84-christmas-dec-25/2029-12-25/
ATTACH;FMTTYPE=image/png:https://www.foodcyclela.org/wp-content/uploads/2026/02/51-e1771482909434.png
END:VEVENT
BEGIN:VEVENT
DTSTART;VALUE=DATE:20301225
DTEND;VALUE=DATE:20301226
DTSTAMP:20260420T071223
CREATED:20260212T224156Z
LAST-MODIFIED:20260219T063539Z
UID:10000799-1924387200-1924473599@www.foodcyclela.org
SUMMARY:🎄 Christmas (Dec 25)
DESCRIPTION:Christmas emphasizes generosity and care for neighbors. Shared meals and community support reflect the spirit of the season.
URL:https://www.foodcyclela.org/event/%f0%9f%8e%84-christmas-dec-25/2030-12-25/
ATTACH;FMTTYPE=image/png:https://www.foodcyclela.org/wp-content/uploads/2026/02/51-e1771482909434.png
END:VEVENT
END:VCALENDAR