BEGIN:VCALENDAR
VERSION:2.0
PRODID:-//FoodCycle - ECPv6.15.20//NONSGML v1.0//EN
CALSCALE:GREGORIAN
METHOD:PUBLISH
X-WR-CALNAME:FoodCycle
X-ORIGINAL-URL:https://www.foodcyclela.org
X-WR-CALDESC:Events for FoodCycle
REFRESH-INTERVAL;VALUE=DURATION:PT1H
X-Robots-Tag:noindex
X-PUBLISHED-TTL:PT1H
BEGIN:VTIMEZONE
TZID:America/Los_Angeles
BEGIN:DAYLIGHT
TZOFFSETFROM:-0800
TZOFFSETTO:-0700
TZNAME:PDT
DTSTART:20250309T100000
END:DAYLIGHT
BEGIN:STANDARD
TZOFFSETFROM:-0700
TZOFFSETTO:-0800
TZNAME:PST
DTSTART:20251102T090000
END:STANDARD
BEGIN:DAYLIGHT
TZOFFSETFROM:-0800
TZOFFSETTO:-0700
TZNAME:PDT
DTSTART:20260308T100000
END:DAYLIGHT
BEGIN:STANDARD
TZOFFSETFROM:-0700
TZOFFSETTO:-0800
TZNAME:PST
DTSTART:20261101T090000
END:STANDARD
BEGIN:DAYLIGHT
TZOFFSETFROM:-0800
TZOFFSETTO:-0700
TZNAME:PDT
DTSTART:20270314T100000
END:DAYLIGHT
BEGIN:STANDARD
TZOFFSETFROM:-0700
TZOFFSETTO:-0800
TZNAME:PST
DTSTART:20271107T090000
END:STANDARD
BEGIN:DAYLIGHT
TZOFFSETFROM:-0800
TZOFFSETTO:-0700
TZNAME:PDT
DTSTART:20280312T100000
END:DAYLIGHT
BEGIN:STANDARD
TZOFFSETFROM:-0700
TZOFFSETTO:-0800
TZNAME:PST
DTSTART:20281105T090000
END:STANDARD
BEGIN:DAYLIGHT
TZOFFSETFROM:-0800
TZOFFSETTO:-0700
TZNAME:PDT
DTSTART:20290311T100000
END:DAYLIGHT
BEGIN:STANDARD
TZOFFSETFROM:-0700
TZOFFSETTO:-0800
TZNAME:PST
DTSTART:20291104T090000
END:STANDARD
BEGIN:DAYLIGHT
TZOFFSETFROM:-0800
TZOFFSETTO:-0700
TZNAME:PDT
DTSTART:20300310T100000
END:DAYLIGHT
BEGIN:STANDARD
TZOFFSETFROM:-0700
TZOFFSETTO:-0800
TZNAME:PST
DTSTART:20301103T090000
END:STANDARD
BEGIN:DAYLIGHT
TZOFFSETFROM:-0800
TZOFFSETTO:-0700
TZNAME:PDT
DTSTART:20310309T100000
END:DAYLIGHT
BEGIN:STANDARD
TZOFFSETFROM:-0700
TZOFFSETTO:-0800
TZNAME:PST
DTSTART:20311102T090000
END:STANDARD
END:VTIMEZONE
BEGIN:VEVENT
DTSTART;VALUE=DATE:20261205
DTEND;VALUE=DATE:20261206
DTSTAMP:20260420T004853
CREATED:20260212T224503Z
LAST-MODIFIED:20260212T224503Z
UID:10000815-1796428800-1796515199@www.foodcyclela.org
SUMMARY:🤝 International Volunteer Day (Dec 5 – UN)
DESCRIPTION:Volunteers shape outcomes through consistency and commitment. Collective action is the foundation of community resilience.
URL:https://www.foodcyclela.org/event/%f0%9f%a4%9d-international-volunteer-day-dec-5-un/2026-12-05/
END:VEVENT
BEGIN:VEVENT
DTSTART;VALUE=DATE:20271205
DTEND;VALUE=DATE:20271206
DTSTAMP:20260420T004853
CREATED:20260212T224503Z
LAST-MODIFIED:20260212T224503Z
UID:10000816-1827964800-1828051199@www.foodcyclela.org
SUMMARY:🤝 International Volunteer Day (Dec 5 – UN)
DESCRIPTION:Volunteers shape outcomes through consistency and commitment. Collective action is the foundation of community resilience.
URL:https://www.foodcyclela.org/event/%f0%9f%a4%9d-international-volunteer-day-dec-5-un/2027-12-05/
END:VEVENT
BEGIN:VEVENT
DTSTART;VALUE=DATE:20281205
DTEND;VALUE=DATE:20281206
DTSTAMP:20260420T004853
CREATED:20260212T224503Z
LAST-MODIFIED:20260212T224503Z
UID:10000817-1859587200-1859673599@www.foodcyclela.org
SUMMARY:🤝 International Volunteer Day (Dec 5 – UN)
DESCRIPTION:Volunteers shape outcomes through consistency and commitment. Collective action is the foundation of community resilience.
URL:https://www.foodcyclela.org/event/%f0%9f%a4%9d-international-volunteer-day-dec-5-un/2028-12-05/
END:VEVENT
BEGIN:VEVENT
DTSTART;VALUE=DATE:20291205
DTEND;VALUE=DATE:20291206
DTSTAMP:20260420T004853
CREATED:20260212T224503Z
LAST-MODIFIED:20260212T224503Z
UID:10000818-1891123200-1891209599@www.foodcyclela.org
SUMMARY:🤝 International Volunteer Day (Dec 5 – UN)
DESCRIPTION:Volunteers shape outcomes through consistency and commitment. Collective action is the foundation of community resilience.
URL:https://www.foodcyclela.org/event/%f0%9f%a4%9d-international-volunteer-day-dec-5-un/2029-12-05/
END:VEVENT
BEGIN:VEVENT
DTSTART;VALUE=DATE:20301205
DTEND;VALUE=DATE:20301206
DTSTAMP:20260420T004853
CREATED:20260212T224503Z
LAST-MODIFIED:20260212T224503Z
UID:10000819-1922659200-1922745599@www.foodcyclela.org
SUMMARY:🤝 International Volunteer Day (Dec 5 – UN)
DESCRIPTION:Volunteers shape outcomes through consistency and commitment. Collective action is the foundation of community resilience.
URL:https://www.foodcyclela.org/event/%f0%9f%a4%9d-international-volunteer-day-dec-5-un/2030-12-05/
END:VEVENT
END:VCALENDAR