BEGIN:VCALENDAR
VERSION:2.0
PRODID:-//FoodCycle - ECPv6.15.20//NONSGML v1.0//EN
CALSCALE:GREGORIAN
METHOD:PUBLISH
X-WR-CALNAME:FoodCycle
X-ORIGINAL-URL:https://www.foodcyclela.org
X-WR-CALDESC:Events for FoodCycle
REFRESH-INTERVAL;VALUE=DURATION:PT1H
X-Robots-Tag:noindex
X-PUBLISHED-TTL:PT1H
BEGIN:VTIMEZONE
TZID:America/Los_Angeles
BEGIN:DAYLIGHT
TZOFFSETFROM:-0800
TZOFFSETTO:-0700
TZNAME:PDT
DTSTART:20250309T100000
END:DAYLIGHT
BEGIN:STANDARD
TZOFFSETFROM:-0700
TZOFFSETTO:-0800
TZNAME:PST
DTSTART:20251102T090000
END:STANDARD
BEGIN:DAYLIGHT
TZOFFSETFROM:-0800
TZOFFSETTO:-0700
TZNAME:PDT
DTSTART:20260308T100000
END:DAYLIGHT
BEGIN:STANDARD
TZOFFSETFROM:-0700
TZOFFSETTO:-0800
TZNAME:PST
DTSTART:20261101T090000
END:STANDARD
BEGIN:DAYLIGHT
TZOFFSETFROM:-0800
TZOFFSETTO:-0700
TZNAME:PDT
DTSTART:20270314T100000
END:DAYLIGHT
BEGIN:STANDARD
TZOFFSETFROM:-0700
TZOFFSETTO:-0800
TZNAME:PST
DTSTART:20271107T090000
END:STANDARD
END:VTIMEZONE
BEGIN:VEVENT
DTSTART;VALUE=DATE:20261204
DTEND;VALUE=DATE:20261213
DTSTAMP:20260420T050729
CREATED:20260212T224636Z
LAST-MODIFIED:20260212T224636Z
UID:10000820-1796342400-1797119999@www.foodcyclela.org
SUMMARY:✡️ Hanukkah
DESCRIPTION:Hanukkah celebrates resilience\, light\, and faith. The holiday reminds us that small acts\, sustained over time\, can illuminate entire communities — much like consistent access to food strengthens stability.
URL:https://www.foodcyclela.org/event/%e2%9c%a1%ef%b8%8f-hanukkah/2026-12-04/1/
END:VEVENT
BEGIN:VEVENT
DTSTART;VALUE=DATE:20261204
DTEND;VALUE=DATE:20261205
DTSTAMP:20260420T050729
CREATED:20260212T224636Z
LAST-MODIFIED:20260212T224636Z
UID:10000821-1796371200-1796403600@www.foodcyclela.org
SUMMARY:✡️ Hanukkah
DESCRIPTION:Hanukkah celebrates resilience\, light\, and faith. The holiday reminds us that small acts\, sustained over time\, can illuminate entire communities — much like consistent access to food strengthens stability.
URL:https://www.foodcyclela.org/event/%e2%9c%a1%ef%b8%8f-hanukkah/2026-12-04/2/
END:VEVENT
END:VCALENDAR