BEGIN:VCALENDAR
VERSION:2.0
PRODID:-//FoodCycle - ECPv6.15.20//NONSGML v1.0//EN
CALSCALE:GREGORIAN
METHOD:PUBLISH
X-WR-CALNAME:FoodCycle
X-ORIGINAL-URL:https://www.foodcyclela.org
X-WR-CALDESC:Events for FoodCycle
REFRESH-INTERVAL;VALUE=DURATION:PT1H
X-Robots-Tag:noindex
X-PUBLISHED-TTL:PT1H
BEGIN:VTIMEZONE
TZID:America/Los_Angeles
BEGIN:DAYLIGHT
TZOFFSETFROM:-0800
TZOFFSETTO:-0700
TZNAME:PDT
DTSTART:20250309T100000
END:DAYLIGHT
BEGIN:STANDARD
TZOFFSETFROM:-0700
TZOFFSETTO:-0800
TZNAME:PST
DTSTART:20251102T090000
END:STANDARD
BEGIN:DAYLIGHT
TZOFFSETFROM:-0800
TZOFFSETTO:-0700
TZNAME:PDT
DTSTART:20260308T100000
END:DAYLIGHT
BEGIN:STANDARD
TZOFFSETFROM:-0700
TZOFFSETTO:-0800
TZNAME:PST
DTSTART:20261101T090000
END:STANDARD
BEGIN:DAYLIGHT
TZOFFSETFROM:-0800
TZOFFSETTO:-0700
TZNAME:PDT
DTSTART:20270314T100000
END:DAYLIGHT
BEGIN:STANDARD
TZOFFSETFROM:-0700
TZOFFSETTO:-0800
TZNAME:PST
DTSTART:20271107T090000
END:STANDARD
BEGIN:DAYLIGHT
TZOFFSETFROM:-0800
TZOFFSETTO:-0700
TZNAME:PDT
DTSTART:20280312T100000
END:DAYLIGHT
BEGIN:STANDARD
TZOFFSETFROM:-0700
TZOFFSETTO:-0800
TZNAME:PST
DTSTART:20281105T090000
END:STANDARD
BEGIN:DAYLIGHT
TZOFFSETFROM:-0800
TZOFFSETTO:-0700
TZNAME:PDT
DTSTART:20290311T100000
END:DAYLIGHT
BEGIN:STANDARD
TZOFFSETFROM:-0700
TZOFFSETTO:-0800
TZNAME:PST
DTSTART:20291104T090000
END:STANDARD
BEGIN:DAYLIGHT
TZOFFSETFROM:-0800
TZOFFSETTO:-0700
TZNAME:PDT
DTSTART:20300310T100000
END:DAYLIGHT
BEGIN:STANDARD
TZOFFSETFROM:-0700
TZOFFSETTO:-0800
TZNAME:PST
DTSTART:20301103T090000
END:STANDARD
BEGIN:DAYLIGHT
TZOFFSETFROM:-0800
TZOFFSETTO:-0700
TZNAME:PDT
DTSTART:20310309T100000
END:DAYLIGHT
BEGIN:STANDARD
TZOFFSETFROM:-0700
TZOFFSETTO:-0800
TZNAME:PST
DTSTART:20311102T090000
END:STANDARD
END:VTIMEZONE
BEGIN:VEVENT
DTSTART;VALUE=DATE:20261012
DTEND;VALUE=DATE:20261013
DTSTAMP:20260419T122827
CREATED:20260212T224841Z
LAST-MODIFIED:20260212T224841Z
UID:10000822-1791763200-1791849599@www.foodcyclela.org
SUMMARY:🪶 Indigenous Peoples’ Day
DESCRIPTION:Indigenous Peoples’ Day recognizes the resilience\, cultures\, and leadership of Native communities. Long before modern food systems\, Indigenous peoples cultivated sustainable agricultural practices rooted in reciprocity\, land stewardship\, and community care. Food sovereignty — the right of people to define their own food systems — remains deeply connected to Indigenous knowledge. Reflecting on these traditions encourages more equitable\, sustainable approaches to nourishment and environmental responsibility today.
URL:https://www.foodcyclela.org/event/%f0%9f%aa%b6-indigenous-peoples-day/2026-10-12/
END:VEVENT
BEGIN:VEVENT
DTSTART;VALUE=DATE:20271011
DTEND;VALUE=DATE:20271012
DTSTAMP:20260419T122827
CREATED:20260212T224841Z
LAST-MODIFIED:20260212T224841Z
UID:10000823-1823212800-1823299199@www.foodcyclela.org
SUMMARY:🪶 Indigenous Peoples’ Day
DESCRIPTION:Indigenous Peoples’ Day recognizes the resilience\, cultures\, and leadership of Native communities. Long before modern food systems\, Indigenous peoples cultivated sustainable agricultural practices rooted in reciprocity\, land stewardship\, and community care. Food sovereignty — the right of people to define their own food systems — remains deeply connected to Indigenous knowledge. Reflecting on these traditions encourages more equitable\, sustainable approaches to nourishment and environmental responsibility today.
URL:https://www.foodcyclela.org/event/%f0%9f%aa%b6-indigenous-peoples-day/2027-10-11/
END:VEVENT
BEGIN:VEVENT
DTSTART;VALUE=DATE:20281009
DTEND;VALUE=DATE:20281010
DTSTAMP:20260419T122827
CREATED:20260212T224841Z
LAST-MODIFIED:20260212T224841Z
UID:10000824-1854662400-1854748799@www.foodcyclela.org
SUMMARY:🪶 Indigenous Peoples’ Day
DESCRIPTION:Indigenous Peoples’ Day recognizes the resilience\, cultures\, and leadership of Native communities. Long before modern food systems\, Indigenous peoples cultivated sustainable agricultural practices rooted in reciprocity\, land stewardship\, and community care. Food sovereignty — the right of people to define their own food systems — remains deeply connected to Indigenous knowledge. Reflecting on these traditions encourages more equitable\, sustainable approaches to nourishment and environmental responsibility today.
URL:https://www.foodcyclela.org/event/%f0%9f%aa%b6-indigenous-peoples-day/2028-10-09/
END:VEVENT
BEGIN:VEVENT
DTSTART;VALUE=DATE:20291008
DTEND;VALUE=DATE:20291009
DTSTAMP:20260419T122827
CREATED:20260212T224841Z
LAST-MODIFIED:20260212T224841Z
UID:10000825-1886112000-1886198399@www.foodcyclela.org
SUMMARY:🪶 Indigenous Peoples’ Day
DESCRIPTION:Indigenous Peoples’ Day recognizes the resilience\, cultures\, and leadership of Native communities. Long before modern food systems\, Indigenous peoples cultivated sustainable agricultural practices rooted in reciprocity\, land stewardship\, and community care. Food sovereignty — the right of people to define their own food systems — remains deeply connected to Indigenous knowledge. Reflecting on these traditions encourages more equitable\, sustainable approaches to nourishment and environmental responsibility today.
URL:https://www.foodcyclela.org/event/%f0%9f%aa%b6-indigenous-peoples-day/2029-10-08/
END:VEVENT
BEGIN:VEVENT
DTSTART;VALUE=DATE:20301014
DTEND;VALUE=DATE:20301015
DTSTAMP:20260419T122827
CREATED:20260212T224841Z
LAST-MODIFIED:20260212T224841Z
UID:10000826-1918166400-1918252799@www.foodcyclela.org
SUMMARY:🪶 Indigenous Peoples’ Day
DESCRIPTION:Indigenous Peoples’ Day recognizes the resilience\, cultures\, and leadership of Native communities. Long before modern food systems\, Indigenous peoples cultivated sustainable agricultural practices rooted in reciprocity\, land stewardship\, and community care. Food sovereignty — the right of people to define their own food systems — remains deeply connected to Indigenous knowledge. Reflecting on these traditions encourages more equitable\, sustainable approaches to nourishment and environmental responsibility today.
URL:https://www.foodcyclela.org/event/%f0%9f%aa%b6-indigenous-peoples-day/2030-10-14/
END:VEVENT
END:VCALENDAR