BEGIN:VCALENDAR
VERSION:2.0
PRODID:-//FoodCycle - ECPv6.15.20//NONSGML v1.0//EN
CALSCALE:GREGORIAN
METHOD:PUBLISH
X-WR-CALNAME:FoodCycle
X-ORIGINAL-URL:https://www.foodcyclela.org
X-WR-CALDESC:Events for FoodCycle
REFRESH-INTERVAL;VALUE=DURATION:PT1H
X-Robots-Tag:noindex
X-PUBLISHED-TTL:PT1H
BEGIN:VTIMEZONE
TZID:America/Los_Angeles
BEGIN:DAYLIGHT
TZOFFSETFROM:-0800
TZOFFSETTO:-0700
TZNAME:PDT
DTSTART:20260308T100000
END:DAYLIGHT
BEGIN:STANDARD
TZOFFSETFROM:-0700
TZOFFSETTO:-0800
TZNAME:PST
DTSTART:20261101T090000
END:STANDARD
BEGIN:DAYLIGHT
TZOFFSETFROM:-0800
TZOFFSETTO:-0700
TZNAME:PDT
DTSTART:20270314T100000
END:DAYLIGHT
BEGIN:STANDARD
TZOFFSETFROM:-0700
TZOFFSETTO:-0800
TZNAME:PST
DTSTART:20271107T090000
END:STANDARD
BEGIN:DAYLIGHT
TZOFFSETFROM:-0800
TZOFFSETTO:-0700
TZNAME:PDT
DTSTART:20280312T100000
END:DAYLIGHT
BEGIN:STANDARD
TZOFFSETFROM:-0700
TZOFFSETTO:-0800
TZNAME:PST
DTSTART:20281105T090000
END:STANDARD
BEGIN:DAYLIGHT
TZOFFSETFROM:-0800
TZOFFSETTO:-0700
TZNAME:PDT
DTSTART:20290311T100000
END:DAYLIGHT
BEGIN:STANDARD
TZOFFSETFROM:-0700
TZOFFSETTO:-0800
TZNAME:PST
DTSTART:20291104T090000
END:STANDARD
BEGIN:DAYLIGHT
TZOFFSETFROM:-0800
TZOFFSETTO:-0700
TZNAME:PDT
DTSTART:20300310T100000
END:DAYLIGHT
BEGIN:STANDARD
TZOFFSETFROM:-0700
TZOFFSETTO:-0800
TZNAME:PST
DTSTART:20301103T090000
END:STANDARD
BEGIN:DAYLIGHT
TZOFFSETFROM:-0800
TZOFFSETTO:-0700
TZNAME:PDT
DTSTART:20310309T100000
END:DAYLIGHT
BEGIN:STANDARD
TZOFFSETFROM:-0700
TZOFFSETTO:-0800
TZNAME:PST
DTSTART:20311102T090000
END:STANDARD
END:VTIMEZONE
BEGIN:VEVENT
DTSTART;VALUE=DATE:20270317
DTEND;VALUE=DATE:20270318
DTSTAMP:20260419T181942
CREATED:20260212T224946Z
LAST-MODIFIED:20260217T191712Z
UID:10000828-1805241600-1805327999@www.foodcyclela.org
SUMMARY:🍀 St. Patrick’s Day (March 17\, 2026)
DESCRIPTION:St. Patrick’s Day celebrates Irish heritage and the joy of gathering in community. Shared meals and festive traditions highlight how food connects culture\, history\, and belonging. Seasonal ingredients and green-themed dishes can bring awareness to sustainable\, plant-forward choices while keeping celebrations meaningful and inclusive.
URL:https://www.foodcyclela.org/event/%f0%9f%8d%80-st-patricks-day-march-17-2026/2027-03-17/
ATTACH;FMTTYPE=image/png:https://www.foodcyclela.org/wp-content/uploads/2026/02/HappyPatrickSP-scaled-e1771355821115.png
END:VEVENT
BEGIN:VEVENT
DTSTART;VALUE=DATE:20280317
DTEND;VALUE=DATE:20280318
DTSTAMP:20260419T181942
CREATED:20260212T224946Z
LAST-MODIFIED:20260217T191712Z
UID:10000829-1836864000-1836950399@www.foodcyclela.org
SUMMARY:🍀 St. Patrick’s Day (March 17\, 2026)
DESCRIPTION:St. Patrick’s Day celebrates Irish heritage and the joy of gathering in community. Shared meals and festive traditions highlight how food connects culture\, history\, and belonging. Seasonal ingredients and green-themed dishes can bring awareness to sustainable\, plant-forward choices while keeping celebrations meaningful and inclusive.
URL:https://www.foodcyclela.org/event/%f0%9f%8d%80-st-patricks-day-march-17-2026/2028-03-17/
ATTACH;FMTTYPE=image/png:https://www.foodcyclela.org/wp-content/uploads/2026/02/HappyPatrickSP-scaled-e1771355821115.png
END:VEVENT
BEGIN:VEVENT
DTSTART;VALUE=DATE:20290317
DTEND;VALUE=DATE:20290318
DTSTAMP:20260419T181942
CREATED:20260212T224946Z
LAST-MODIFIED:20260217T191712Z
UID:10000830-1868400000-1868486399@www.foodcyclela.org
SUMMARY:🍀 St. Patrick’s Day (March 17\, 2026)
DESCRIPTION:St. Patrick’s Day celebrates Irish heritage and the joy of gathering in community. Shared meals and festive traditions highlight how food connects culture\, history\, and belonging. Seasonal ingredients and green-themed dishes can bring awareness to sustainable\, plant-forward choices while keeping celebrations meaningful and inclusive.
URL:https://www.foodcyclela.org/event/%f0%9f%8d%80-st-patricks-day-march-17-2026/2029-03-17/
ATTACH;FMTTYPE=image/png:https://www.foodcyclela.org/wp-content/uploads/2026/02/HappyPatrickSP-scaled-e1771355821115.png
END:VEVENT
BEGIN:VEVENT
DTSTART;VALUE=DATE:20300317
DTEND;VALUE=DATE:20300318
DTSTAMP:20260419T181942
CREATED:20260212T224946Z
LAST-MODIFIED:20260217T191712Z
UID:10000831-1899936000-1900022399@www.foodcyclela.org
SUMMARY:🍀 St. Patrick’s Day (March 17\, 2026)
DESCRIPTION:St. Patrick’s Day celebrates Irish heritage and the joy of gathering in community. Shared meals and festive traditions highlight how food connects culture\, history\, and belonging. Seasonal ingredients and green-themed dishes can bring awareness to sustainable\, plant-forward choices while keeping celebrations meaningful and inclusive.
URL:https://www.foodcyclela.org/event/%f0%9f%8d%80-st-patricks-day-march-17-2026/2030-03-17/
ATTACH;FMTTYPE=image/png:https://www.foodcyclela.org/wp-content/uploads/2026/02/HappyPatrickSP-scaled-e1771355821115.png
END:VEVENT
END:VCALENDAR