BEGIN:VCALENDAR
VERSION:2.0
PRODID:-//FoodCycle - ECPv6.15.20//NONSGML v1.0//EN
CALSCALE:GREGORIAN
METHOD:PUBLISH
X-WR-CALNAME:FoodCycle
X-ORIGINAL-URL:https://www.foodcyclela.org
X-WR-CALDESC:Events for FoodCycle
REFRESH-INTERVAL;VALUE=DURATION:PT1H
X-Robots-Tag:noindex
X-PUBLISHED-TTL:PT1H
BEGIN:VTIMEZONE
TZID:America/Los_Angeles
BEGIN:DAYLIGHT
TZOFFSETFROM:-0800
TZOFFSETTO:-0700
TZNAME:PDT
DTSTART:20260308T100000
END:DAYLIGHT
BEGIN:STANDARD
TZOFFSETFROM:-0700
TZOFFSETTO:-0800
TZNAME:PST
DTSTART:20261101T090000
END:STANDARD
BEGIN:DAYLIGHT
TZOFFSETFROM:-0800
TZOFFSETTO:-0700
TZNAME:PDT
DTSTART:20270314T100000
END:DAYLIGHT
BEGIN:STANDARD
TZOFFSETFROM:-0700
TZOFFSETTO:-0800
TZNAME:PST
DTSTART:20271107T090000
END:STANDARD
BEGIN:DAYLIGHT
TZOFFSETFROM:-0800
TZOFFSETTO:-0700
TZNAME:PDT
DTSTART:20280312T100000
END:DAYLIGHT
BEGIN:STANDARD
TZOFFSETFROM:-0700
TZOFFSETTO:-0800
TZNAME:PST
DTSTART:20281105T090000
END:STANDARD
BEGIN:DAYLIGHT
TZOFFSETFROM:-0800
TZOFFSETTO:-0700
TZNAME:PDT
DTSTART:20290311T100000
END:DAYLIGHT
BEGIN:STANDARD
TZOFFSETFROM:-0700
TZOFFSETTO:-0800
TZNAME:PST
DTSTART:20291104T090000
END:STANDARD
BEGIN:DAYLIGHT
TZOFFSETFROM:-0800
TZOFFSETTO:-0700
TZNAME:PDT
DTSTART:20300310T100000
END:DAYLIGHT
BEGIN:STANDARD
TZOFFSETFROM:-0700
TZOFFSETTO:-0800
TZNAME:PST
DTSTART:20301103T090000
END:STANDARD
BEGIN:DAYLIGHT
TZOFFSETFROM:-0800
TZOFFSETTO:-0700
TZNAME:PDT
DTSTART:20310309T100000
END:DAYLIGHT
BEGIN:STANDARD
TZOFFSETFROM:-0700
TZOFFSETTO:-0800
TZNAME:PST
DTSTART:20311102T090000
END:STANDARD
BEGIN:DAYLIGHT
TZOFFSETFROM:-0800
TZOFFSETTO:-0700
TZNAME:PDT
DTSTART:20320314T100000
END:DAYLIGHT
BEGIN:STANDARD
TZOFFSETFROM:-0700
TZOFFSETTO:-0800
TZNAME:PST
DTSTART:20321107T090000
END:STANDARD
END:VTIMEZONE
BEGIN:VEVENT
DTSTART;VALUE=DATE:20270307
DTEND;VALUE=DATE:20270315
DTSTAMP:20260424T120521
CREATED:20260306T063550Z
LAST-MODIFIED:20260306T063701Z
UID:10000841-1804377600-1805068799@www.foodcyclela.org
SUMMARY:California Arbor Week
DESCRIPTION:California Arbor Week is celebrated March 7–14 each year. \n🌳 It’s California Arbor Week (March 7–14) — a time to celebrate the trees that help sustain our communities and our planet. From cleaner air to cooler neighborhoods\, trees play a vital role in climate resilience and environmental health. Let’s continue planting\, protecting\, and caring for the green spaces that support a thriving future. \nIt begins on March 7\, the birthday of famed horticulturist Luther Burbank\, whose work with plants and trees inspired California’s tree-planting tradition.
URL:https://www.foodcyclela.org/event/california-arbor-week/2027-03-07/
END:VEVENT
BEGIN:VEVENT
DTSTART;VALUE=DATE:20280307
DTEND;VALUE=DATE:20280315
DTSTAMP:20260424T120521
CREATED:20260306T063550Z
LAST-MODIFIED:20260306T063701Z
UID:10000842-1836000000-1836691199@www.foodcyclela.org
SUMMARY:California Arbor Week
DESCRIPTION:California Arbor Week is celebrated March 7–14 each year. \n🌳 It’s California Arbor Week (March 7–14) — a time to celebrate the trees that help sustain our communities and our planet. From cleaner air to cooler neighborhoods\, trees play a vital role in climate resilience and environmental health. Let’s continue planting\, protecting\, and caring for the green spaces that support a thriving future. \nIt begins on March 7\, the birthday of famed horticulturist Luther Burbank\, whose work with plants and trees inspired California’s tree-planting tradition.
URL:https://www.foodcyclela.org/event/california-arbor-week/2028-03-07/
END:VEVENT
BEGIN:VEVENT
DTSTART;VALUE=DATE:20290307
DTEND;VALUE=DATE:20290315
DTSTAMP:20260424T120521
CREATED:20260306T063550Z
LAST-MODIFIED:20260306T063701Z
UID:10000843-1867536000-1868227199@www.foodcyclela.org
SUMMARY:California Arbor Week
DESCRIPTION:California Arbor Week is celebrated March 7–14 each year. \n🌳 It’s California Arbor Week (March 7–14) — a time to celebrate the trees that help sustain our communities and our planet. From cleaner air to cooler neighborhoods\, trees play a vital role in climate resilience and environmental health. Let’s continue planting\, protecting\, and caring for the green spaces that support a thriving future. \nIt begins on March 7\, the birthday of famed horticulturist Luther Burbank\, whose work with plants and trees inspired California’s tree-planting tradition.
URL:https://www.foodcyclela.org/event/california-arbor-week/2029-03-07/
END:VEVENT
BEGIN:VEVENT
DTSTART;VALUE=DATE:20300307
DTEND;VALUE=DATE:20300315
DTSTAMP:20260424T120521
CREATED:20260306T063550Z
LAST-MODIFIED:20260306T063701Z
UID:10000844-1899072000-1899763199@www.foodcyclela.org
SUMMARY:California Arbor Week
DESCRIPTION:California Arbor Week is celebrated March 7–14 each year. \n🌳 It’s California Arbor Week (March 7–14) — a time to celebrate the trees that help sustain our communities and our planet. From cleaner air to cooler neighborhoods\, trees play a vital role in climate resilience and environmental health. Let’s continue planting\, protecting\, and caring for the green spaces that support a thriving future. \nIt begins on March 7\, the birthday of famed horticulturist Luther Burbank\, whose work with plants and trees inspired California’s tree-planting tradition.
URL:https://www.foodcyclela.org/event/california-arbor-week/2030-03-07/
END:VEVENT
BEGIN:VEVENT
DTSTART;VALUE=DATE:20310307
DTEND;VALUE=DATE:20310315
DTSTAMP:20260424T120521
CREATED:20260306T063550Z
LAST-MODIFIED:20260306T063701Z
UID:10000845-1930608000-1931299199@www.foodcyclela.org
SUMMARY:California Arbor Week
DESCRIPTION:California Arbor Week is celebrated March 7–14 each year. \n🌳 It’s California Arbor Week (March 7–14) — a time to celebrate the trees that help sustain our communities and our planet. From cleaner air to cooler neighborhoods\, trees play a vital role in climate resilience and environmental health. Let’s continue planting\, protecting\, and caring for the green spaces that support a thriving future. \nIt begins on March 7\, the birthday of famed horticulturist Luther Burbank\, whose work with plants and trees inspired California’s tree-planting tradition.
URL:https://www.foodcyclela.org/event/california-arbor-week/2031-03-07/
END:VEVENT
END:VCALENDAR