BEGIN:VCALENDAR
VERSION:2.0
PRODID:-//FoodCycle - ECPv6.15.20//NONSGML v1.0//EN
CALSCALE:GREGORIAN
METHOD:PUBLISH
X-WR-CALNAME:FoodCycle
X-ORIGINAL-URL:https://www.foodcyclela.org
X-WR-CALDESC:Events for FoodCycle
REFRESH-INTERVAL;VALUE=DURATION:PT1H
X-Robots-Tag:noindex
X-PUBLISHED-TTL:PT1H
BEGIN:VTIMEZONE
TZID:America/Los_Angeles
BEGIN:DAYLIGHT
TZOFFSETFROM:-0800
TZOFFSETTO:-0700
TZNAME:PDT
DTSTART:20260308T100000
END:DAYLIGHT
BEGIN:STANDARD
TZOFFSETFROM:-0700
TZOFFSETTO:-0800
TZNAME:PST
DTSTART:20261101T090000
END:STANDARD
BEGIN:DAYLIGHT
TZOFFSETFROM:-0800
TZOFFSETTO:-0700
TZNAME:PDT
DTSTART:20270314T100000
END:DAYLIGHT
BEGIN:STANDARD
TZOFFSETFROM:-0700
TZOFFSETTO:-0800
TZNAME:PST
DTSTART:20271107T090000
END:STANDARD
BEGIN:DAYLIGHT
TZOFFSETFROM:-0800
TZOFFSETTO:-0700
TZNAME:PDT
DTSTART:20280312T100000
END:DAYLIGHT
BEGIN:STANDARD
TZOFFSETFROM:-0700
TZOFFSETTO:-0800
TZNAME:PST
DTSTART:20281105T090000
END:STANDARD
BEGIN:DAYLIGHT
TZOFFSETFROM:-0800
TZOFFSETTO:-0700
TZNAME:PDT
DTSTART:20290311T100000
END:DAYLIGHT
BEGIN:STANDARD
TZOFFSETFROM:-0700
TZOFFSETTO:-0800
TZNAME:PST
DTSTART:20291104T090000
END:STANDARD
BEGIN:DAYLIGHT
TZOFFSETFROM:-0800
TZOFFSETTO:-0700
TZNAME:PDT
DTSTART:20300310T100000
END:DAYLIGHT
BEGIN:STANDARD
TZOFFSETFROM:-0700
TZOFFSETTO:-0800
TZNAME:PST
DTSTART:20301103T090000
END:STANDARD
BEGIN:DAYLIGHT
TZOFFSETFROM:-0800
TZOFFSETTO:-0700
TZNAME:PDT
DTSTART:20310309T100000
END:DAYLIGHT
BEGIN:STANDARD
TZOFFSETFROM:-0700
TZOFFSETTO:-0800
TZNAME:PST
DTSTART:20311102T090000
END:STANDARD
BEGIN:DAYLIGHT
TZOFFSETFROM:-0800
TZOFFSETTO:-0700
TZNAME:PDT
DTSTART:20320314T100000
END:DAYLIGHT
BEGIN:STANDARD
TZOFFSETFROM:-0700
TZOFFSETTO:-0800
TZNAME:PST
DTSTART:20321107T090000
END:STANDARD
END:VTIMEZONE
BEGIN:VEVENT
DTSTART;VALUE=DATE:20270309
DTEND;VALUE=DATE:20270317
DTSTAMP:20260424T102950
CREATED:20260306T071013Z
LAST-MODIFIED:20260306T071013Z
UID:10000847-1804550400-1805158799@www.foodcyclela.org
SUMMARY:Food Waste Action Week
DESCRIPTION:Food waste is one of the most solvable climate and hunger challenges we face. During Food Waste Action Week\, we’re shining a light on simple actions that keep good food out of landfills and on people’s plates. 🍎🌎 \nAt FoodCycle\, our mission is simple: feed people\, not landfills. Through food recovery\, we redirect surplus food from businesses and donors to community organizations that serve those who need it most. Every meal recovered reduces waste\, cuts methane emissions\, and strengthens our communities. \nFood Waste Action Week is a reminder that small actions—at home\, at work\, and in our neighborhoods—can make a big difference. \nHow you can participate:\n• Plan meals and shop with intention\n• Store food properly to extend freshness\n• Use leftovers creatively\n• Donate surplus food if you’re a business or organization\n• Volunteer with local food recovery programs like FoodCycle \nTogether\, we can turn wasted food into opportunity\, nourishment\, and climate action. 💚
URL:https://www.foodcyclela.org/event/food-waste-action-week/2027-03-09/
ATTACH;FMTTYPE=image/webp:https://www.foodcyclela.org/wp-content/uploads/2026/03/103A7522-e1772690979322.webp
END:VEVENT
BEGIN:VEVENT
DTSTART;VALUE=DATE:20280309
DTEND;VALUE=DATE:20280317
DTSTAMP:20260424T102950
CREATED:20260306T071013Z
LAST-MODIFIED:20260306T071013Z
UID:10000848-1836172800-1836781199@www.foodcyclela.org
SUMMARY:Food Waste Action Week
DESCRIPTION:Food waste is one of the most solvable climate and hunger challenges we face. During Food Waste Action Week\, we’re shining a light on simple actions that keep good food out of landfills and on people’s plates. 🍎🌎 \nAt FoodCycle\, our mission is simple: feed people\, not landfills. Through food recovery\, we redirect surplus food from businesses and donors to community organizations that serve those who need it most. Every meal recovered reduces waste\, cuts methane emissions\, and strengthens our communities. \nFood Waste Action Week is a reminder that small actions—at home\, at work\, and in our neighborhoods—can make a big difference. \nHow you can participate:\n• Plan meals and shop with intention\n• Store food properly to extend freshness\n• Use leftovers creatively\n• Donate surplus food if you’re a business or organization\n• Volunteer with local food recovery programs like FoodCycle \nTogether\, we can turn wasted food into opportunity\, nourishment\, and climate action. 💚
URL:https://www.foodcyclela.org/event/food-waste-action-week/2028-03-09/
ATTACH;FMTTYPE=image/webp:https://www.foodcyclela.org/wp-content/uploads/2026/03/103A7522-e1772690979322.webp
END:VEVENT
BEGIN:VEVENT
DTSTART;VALUE=DATE:20290309
DTEND;VALUE=DATE:20290317
DTSTAMP:20260424T102950
CREATED:20260306T071013Z
LAST-MODIFIED:20260306T071013Z
UID:10000849-1867708800-1868317199@www.foodcyclela.org
SUMMARY:Food Waste Action Week
DESCRIPTION:Food waste is one of the most solvable climate and hunger challenges we face. During Food Waste Action Week\, we’re shining a light on simple actions that keep good food out of landfills and on people’s plates. 🍎🌎 \nAt FoodCycle\, our mission is simple: feed people\, not landfills. Through food recovery\, we redirect surplus food from businesses and donors to community organizations that serve those who need it most. Every meal recovered reduces waste\, cuts methane emissions\, and strengthens our communities. \nFood Waste Action Week is a reminder that small actions—at home\, at work\, and in our neighborhoods—can make a big difference. \nHow you can participate:\n• Plan meals and shop with intention\n• Store food properly to extend freshness\n• Use leftovers creatively\n• Donate surplus food if you’re a business or organization\n• Volunteer with local food recovery programs like FoodCycle \nTogether\, we can turn wasted food into opportunity\, nourishment\, and climate action. 💚
URL:https://www.foodcyclela.org/event/food-waste-action-week/2029-03-09/
ATTACH;FMTTYPE=image/webp:https://www.foodcyclela.org/wp-content/uploads/2026/03/103A7522-e1772690979322.webp
END:VEVENT
BEGIN:VEVENT
DTSTART;VALUE=DATE:20300309
DTEND;VALUE=DATE:20300317
DTSTAMP:20260424T102950
CREATED:20260306T071013Z
LAST-MODIFIED:20260306T071013Z
UID:10000850-1899244800-1899853199@www.foodcyclela.org
SUMMARY:Food Waste Action Week
DESCRIPTION:Food waste is one of the most solvable climate and hunger challenges we face. During Food Waste Action Week\, we’re shining a light on simple actions that keep good food out of landfills and on people’s plates. 🍎🌎 \nAt FoodCycle\, our mission is simple: feed people\, not landfills. Through food recovery\, we redirect surplus food from businesses and donors to community organizations that serve those who need it most. Every meal recovered reduces waste\, cuts methane emissions\, and strengthens our communities. \nFood Waste Action Week is a reminder that small actions—at home\, at work\, and in our neighborhoods—can make a big difference. \nHow you can participate:\n• Plan meals and shop with intention\n• Store food properly to extend freshness\n• Use leftovers creatively\n• Donate surplus food if you’re a business or organization\n• Volunteer with local food recovery programs like FoodCycle \nTogether\, we can turn wasted food into opportunity\, nourishment\, and climate action. 💚
URL:https://www.foodcyclela.org/event/food-waste-action-week/2030-03-09/
ATTACH;FMTTYPE=image/webp:https://www.foodcyclela.org/wp-content/uploads/2026/03/103A7522-e1772690979322.webp
END:VEVENT
BEGIN:VEVENT
DTSTART;VALUE=DATE:20310309
DTEND;VALUE=DATE:20310317
DTSTAMP:20260424T102950
CREATED:20260306T071013Z
LAST-MODIFIED:20260306T071013Z
UID:10000851-1930780800-1931389199@www.foodcyclela.org
SUMMARY:Food Waste Action Week
DESCRIPTION:Food waste is one of the most solvable climate and hunger challenges we face. During Food Waste Action Week\, we’re shining a light on simple actions that keep good food out of landfills and on people’s plates. 🍎🌎 \nAt FoodCycle\, our mission is simple: feed people\, not landfills. Through food recovery\, we redirect surplus food from businesses and donors to community organizations that serve those who need it most. Every meal recovered reduces waste\, cuts methane emissions\, and strengthens our communities. \nFood Waste Action Week is a reminder that small actions—at home\, at work\, and in our neighborhoods—can make a big difference. \nHow you can participate:\n• Plan meals and shop with intention\n• Store food properly to extend freshness\n• Use leftovers creatively\n• Donate surplus food if you’re a business or organization\n• Volunteer with local food recovery programs like FoodCycle \nTogether\, we can turn wasted food into opportunity\, nourishment\, and climate action. 💚
URL:https://www.foodcyclela.org/event/food-waste-action-week/2031-03-09/
ATTACH;FMTTYPE=image/webp:https://www.foodcyclela.org/wp-content/uploads/2026/03/103A7522-e1772690979322.webp
END:VEVENT
END:VCALENDAR